Workbook

Sheet Bedrock_PLG
A1: User_Code | B1: GEOL_MAPPING_UNIT_Display | C1: GEOL_MAPPING_UNIT | D1: TECTO_Display | E1: TECTO | F1: LITSTRAT_FORMATION_BANK_Display | G1: CHRONO_TOP_Display | H1: CHRONO_BASE_Display | I1: LITHO_MAIN_Display | J1: LITHO_SEC_Display | K1: LITHO_TER_Display
A2: BEDROCK_001 | C2: =IF(B2="","",VALUE(LEFT(B2,FIND(":",B2)-1))) | E2: =IF(D2="","",VALUE(LEFT(D2,FIND(":",D2)-1))) | F2: =IF(C2="","",IFERROR(INDEX(Ref_LithoStratFormation!$C:$C,MATCH(VLOOKUP(C2,Ref_GMU_Attributes!$A:$B,COLUMN(B:$B),FALSE),Ref_LithoStratFormation!$A:$A,0)),"")) | G2: =IF(C2="","",IFERROR(INDEX(Ref_Chrono!$C:$C,MATCH(VLOOKUP(C2,Ref_GMU_Attributes!$A:$C,COLUMN(C:$C),FALSE),Ref_Chrono!$A:$A,0)),"")) | H2: =IF(C2="","",IFERROR(INDEX(Ref_Chrono!$C:$C,MATCH(VLOOKUP(C2,Ref_GMU_Attributes!$A:$D,COLUMN(D:$D),FALSE),Ref_Chrono!$A:$A,0)),"")) | I2: =IF(C2="","",IFERROR(INDEX(Ref_Litho!$C:$C,MATCH(VLOOKUP(C2,Ref_GMU_Attributes!$A:$E,COLUMN(E:$E),FALSE),Ref_Litho!$A:$A,0)),"")) | J2: =IF(C2="","",IFERROR(INDEX(Ref_Litho!$C:$C,MATCH(VLOOKUP(C2,Ref_GMU_Attributes!$A:$F,COLUMN(F:$F),FALSE),Ref_Litho!$A:$A,0)),"")) | K2: =IF(C2="","",IFERROR(INDEX(Ref_Litho!$C:$C,MATCH(VLOOKUP(C2,Ref_GMU_Attributes!$A:$G,COLUMN(G:$G),FALSE),Ref_Litho!$A:$A,0)),""))
A3: BEDROCK_002 | C3: =IF(B3="","",VALUE(LEFT(B3,FIND(":",B3)-1))) | E3: =IF(D3="","",VALUE(LEFT(D3,FIND(":",D3)-1))) | F3: =IF(C3="","",IFERROR(INDEX(Ref_LithoStratFormation!$C:$C,MATCH(VLOOKUP(C3,Ref_GMU_Attributes!$A:$B,COLUMN(B:$B),FALSE),Ref_LithoStratFormation!$A:$A,0)),"")) | G3: =IF(C3="","",IFERROR(INDEX(Ref_Chrono!$C:$C,MATCH(VLOOKUP(C3,Ref_GMU_Attributes!$A:$C,COLUMN(C:$C),FALSE),Ref_Chrono!$A:$A,0)),"")) | H3: =IF(C3="","",IFERROR(INDEX(Ref_Chrono!$C:$C,MATCH(VLOOKUP(C3,Ref_GMU_Attributes!$A:$D,COLUMN(D:$D),FALSE),Ref_Chrono!$A:$A,0)),"")) | I3: =IF(C3="","",IFERROR(INDEX(Ref_Litho!$C:$C,MATCH(VLOOKUP(C3,Ref_GMU_Attributes!$A:$E,COLUMN(E:$E),FALSE),Ref_Litho!$A:$A,0)),"")) | J3: =IF(C3="","",IFERROR(INDEX(Ref_Litho!$C:$C,MATCH(VLOOKUP(C3,Ref_GMU_Attributes!$A:$F,COLUMN(F:$F),FALSE),Ref_Litho!$A:$A,0)),"")) | K3: =IF(C3="","",IFERROR(INDEX(Ref_Litho!$C:$C,MATCH(VLOOKUP(C3,Ref_GMU_Attributes!$A:$G,COLUMN(G:$G),FALSE),Ref_Litho!$A:$A,0)),""))
C4: =IF(B4="","",VALUE(LEFT(B4,FIND(":",B4)-1))) | E4: =IF(D4="","",VALUE(LEFT(D4,FIND(":",D4)-1))) | F4: =IF(C4="","",IFERROR(INDEX(Ref_LithoStratFormation!$C:$C,MATCH(VLOOKUP(C4,Ref_GMU_Attributes!$A:$B,COLUMN(B:$B),FALSE),Ref_LithoStratFormation!$A:$A,0)),"")) | G4: =IF(C4="","",IFERROR(INDEX(Ref_Chrono!$C:$C,MATCH(VLOOKUP(C4,Ref_GMU_Attributes!$A:$C,COLUMN(C:$C),FALSE),Ref_Chrono!$A:$A,0)),"")) | H4: =IF(C4="","",IFERROR(INDEX(Ref_Chrono!$C:$C,MATCH(VLOOKUP(C4,Ref_GMU_Attributes!$A:$D,COLUMN(D:$D),FALSE),Ref_Chrono!$A:$A,0)),"")) | I4: =IF(C4="","",IFERROR(INDEX(Ref_Litho!$C:$C,MATCH(VLOOKUP(C4,Ref_GMU_Attributes!$A:$E,COLUMN(E:$E),FALSE),Ref_Litho!$A:$A,0)),"")) | J4: =IF(C4="","",IFERROR(INDEX(Ref_Litho!$C:$C,MATCH(VLOOKUP(C4,Ref_GMU_Attributes!$A:$F,COLUMN(F:$F),FALSE),Ref_Litho!$A:$A,0)),"")) | K4: =IF(C4="","",IFERROR(INDEX(Ref_Litho!$C:$C,MATCH(VLOOKUP(C4,Ref_GMU_Attributes!$A:$G,COLUMN(G:$G),FALSE),Ref_Litho!$A:$A,0)),""))
C5: =IF(B5="","",VALUE(LEFT(B5,FIND(":",B5)-1))) | E5: =IF(D5="","",VALUE(LEFT(D5,FIND(":",D5)-1))) | F5: =IF(C5="","",IFERROR(INDEX(Ref_LithoStratFormation!$C:$C,MATCH(VLOOKUP(C5,Ref_GMU_Attributes!$A:$B,COLUMN(B:$B),FALSE),Ref_LithoStratFormation!$A:$A,0)),"")) | G5: =IF(C5="","",IFERROR(INDEX(Ref_Chrono!$C:$C,MATCH(VLOOKUP(C5,Ref_GMU_Attributes!$A:$C,COLUMN(C:$C),FALSE),Ref_Chrono!$A:$A,0)),"")) | H5: =IF(C5="","",IFERROR(INDEX(Ref_Chrono!$C:$C,MATCH(VLOOKUP(C5,Ref_GMU_Attributes!$A:$D,COLUMN(D:$D),FALSE),Ref_Chrono!$A:$A,0)),"")) | I5: =IF(C5="","",IFERROR(INDEX(Ref_Litho!$C:$C,MATCH(VLOOKUP(C5,Ref_GMU_Attributes!$A:$E,COLUMN(E:$E),FALSE),Ref_Litho!$A:$A,0)),"")) | J5: =IF(C5="","",IFERROR(INDEX(Ref_Litho!$C:$C,MATCH(VLOOKUP(C5,Ref_GMU_Attributes!$A:$F,COLUMN(F:$F),FALSE),Ref_Litho!$A:$A,0)),"")) | K5: =IF(C5="","",IFERROR(INDEX(Ref_Litho!$C:$C,MATCH(VLOOKUP(C5,Ref_GMU_Attributes!$A:$G,COLUMN(G:$G),FALSE),Ref_Litho!$A:$A,0)),""))
C6: =IF(B6="","",VALUE(LEFT(B6,FIND(":",B6)-1))) | E6: =IF(D6="","",VALUE(LEFT(D6,FIND(":",D6)-1))) | F6: =IF(C6="","",IFERROR(INDEX(Ref_LithoStratFormation!$C:$C,MATCH(VLOOKUP(C6,Ref_GMU_Attributes!$A:$B,COLUMN(B:$B),FALSE),Ref_LithoStratFormation!$A:$A,0)),"")) | G6: =IF(C6="","",IFERROR(INDEX(Ref_Chrono!$C:$C,MATCH(VLOOKUP(C6,Ref_GMU_Attributes!$A:$C,COLUMN(C:$C),FALSE),Ref_Chrono!$A:$A,0)),"")) | H6: =IF(C6="","",IFERROR(INDEX(Ref_Chrono!$C:$C,MATCH(VLOOKUP(C6,Ref_GMU_Attributes!$A:$D,COLUMN(D:$D),FALSE),Ref_Chrono!$A:$A,0)),"")) | I6: =IF(C6="","",IFERROR(INDEX(Ref_Litho!$C:$C,MATCH(VLOOKUP(C6,Ref_GMU_Attributes!$A:$E,COLUMN(E:$E),FALSE),Ref_Litho!$A:$A,0)),"")) | J6: =IF(C6="","",IFERROR(INDEX(Ref_Litho!$C:$C,MATCH(VLOOKUP(C6,Ref_GMU_Attributes!$A:$F,COLUMN(F:$F),FALSE),Ref_Litho!$A:$A,0)),"")) | K6: =IF(C6="","",IFERROR(INDEX(Ref_Litho!$C:$C,MATCH(VLOOKUP(C6,Ref_GMU_Attributes!$A:$G,COLUMN(G:$G),FALSE),Ref_Litho!$A:$A,0)),""))
C7: =IF(B7="","",VALUE(LEFT(B7,FIND(":",B7)-1))) | E7: =IF(D7="","",VALUE(LEFT(D7,FIND(":",D7)-1))) | F7: =IF(C7="","",IFERROR(INDEX(Ref_LithoStratFormation!$C:$C,MATCH(VLOOKUP(C7,Ref_GMU_Attributes!$A:$B,COLUMN(B:$B),FALSE),Ref_LithoStratFormation!$A:$A,0)),"")) | G7: =IF(C7="","",IFERROR(INDEX(Ref_Chrono!$C:$C,MATCH(VLOOKUP(C7,Ref_GMU_Attributes!$A:$C,COLUMN(C:$C),FALSE),Ref_Chrono!$A:$A,0)),"")) | H7: =IF(C7="","",IFERROR(INDEX(Ref_Chrono!$C:$C,MATCH(VLOOKUP(C7,Ref_GMU_Attributes!$A:$D,COLUMN(D:$D),FALSE),Ref_Chrono!$A:$A,0)),"")) | I7: =IF(C7="","",IFERROR(INDEX(Ref_Litho!$C:$C,MATCH(VLOOKUP(C7,Ref_GMU_Attributes!$A:$E,COLUMN(E:$E),FALSE),Ref_Litho!$A:$A,0)),"")) | J7: =IF(C7="","",IFERROR(INDEX(Ref_Litho!$C:$C,MATCH(VLOOKUP(C7,Ref_GMU_Attributes!$A:$F,COLUMN(F:$F),FALSE),Ref_Litho!$A:$A,0)),"")) | K7: =IF(C7="","",IFERROR(INDEX(Ref_Litho!$C:$C,MATCH(VLOOKUP(C7,Ref_GMU_Attributes!$A:$G,COLUMN(G:$G),FALSE),Ref_Litho!$A:$A,0)),""))
C8: =IF(B8="","",VALUE(LEFT(B8,FIND(":",B8)-1))) | E8: =IF(D8="","",VALUE(LEFT(D8,FIND(":",D8)-1))) | F8: =IF(C8="","",IFERROR(INDEX(Ref_LithoStratFormation!$C:$C,MATCH(VLOOKUP(C8,Ref_GMU_Attributes!$A:$B,COLUMN(B:$B),FALSE),Ref_LithoStratFormation!$A:$A,0)),"")) | G8: =IF(C8="","",IFERROR(INDEX(Ref_Chrono!$C:$C,MATCH(VLOOKUP(C8,Ref_GMU_Attributes!$A:$C,COLUMN(C:$C),FALSE),Ref_Chrono!$A:$A,0)),"")) | H8: =IF(C8="","",IFERROR(INDEX(Ref_Chrono!$C:$C,MATCH(VLOOKUP(C8,Ref_GMU_Attributes!$A:$D,COLUMN(D:$D),FALSE),Ref_Chrono!$A:$A,0)),"")) | I8: =IF(C8="","",IFERROR(INDEX(Ref_Litho!$C:$C,MATCH(VLOOKUP(C8,Ref_GMU_Attributes!$A:$E,COLUMN(E:$E),FALSE),Ref_Litho!$A:$A,0)),"")) | J8: =IF(C8="","",IFERROR(INDEX(Ref_Litho!$C:$C,MATCH(VLOOKUP(C8,Ref_GMU_Attributes!$A:$F,COLUMN(F:$F),FALSE),Ref_Litho!$A:$A,0)),"")) | K8: =IF(C8="","",IFERROR(INDEX(Ref_Litho!$C:$C,MATCH(VLOOKUP(C8,Ref_GMU_Attributes!$A:$G,COLUMN(G:$G),FALSE),Ref_Litho!$A:$A,0)),""))
C9: =IF(B9="","",VALUE(LEFT(B9,FIND(":",B9)-1))) | E9: =IF(D9="","",VALUE(LEFT(D9,FIND(":",D9)-1))) | F9: =IF(C9="","",IFERROR(INDEX(Ref_LithoStratFormation!$C:$C,MATCH(VLOOKUP(C9,Ref_GMU_Attributes!$A:$B,COLUMN(B:$B),FALSE),Ref_LithoStratFormation!$A:$A,0)),"")) | G9: =IF(C9="","",IFERROR(INDEX(Ref_Chrono!$C:$C,MATCH(VLOOKUP(C9,Ref_GMU_Attributes!$A:$C,COLUMN(C:$C),FALSE),Ref_Chrono!$A:$A,0)),"")) | H9: =IF(C9="","",IFERROR(INDEX(Ref_Chrono!$C:$C,MATCH(VLOOKUP(C9,Ref_GMU_Attributes!$A:$D,COLUMN(D:$D),FALSE),Ref_Chrono!$A:$A,0)),"")) | I9: =IF(C9="","",IFERROR(INDEX(Ref_Litho!$C:$C,MATCH(VLOOKUP(C9,Ref_GMU_Attributes!$A:$E,COLUMN(E:$E),FALSE),Ref_Litho!$A:$A,0)),"")) | J9: =IF(C9="","",IFERROR(INDEX(Ref_Litho!$C:$C,MATCH(VLOOKUP(C9,Ref_GMU_Attributes!$A:$F,COLUMN(F:$F),FALSE),Ref_Litho!$A:$A,0)),"")) | K9: =IF(C9="","",IFERROR(INDEX(Ref_Litho!$C:$C,MATCH(VLOOKUP(C9,Ref_GMU_Attributes!$A:$G,COLUMN(G:$G),FALSE),Ref_Litho!$A:$A,0)),""))
C10: =IF(B10="","",VALUE(LEFT(B10,FIND(":",B10)-1))) | E10: =IF(D10="","",VALUE(LEFT(D10,FIND(":",D10)-1))) | F10: =IF(C10="","",IFERROR(INDEX(Ref_LithoStratFormation!$C:$C,MATCH(VLOOKUP(C10,Ref_GMU_Attributes!$A:$B,COLUMN(B:$B),FALSE),Ref_LithoStratFormation!$A:$A,0)),"")) | G10: =IF(C10="","",IFERROR(INDEX(Ref_Chrono!$C:$C,MATCH(VLOOKUP(C10,Ref_GMU_Attributes!$A:$C,COLUMN(C:$C),FALSE),Ref_Chrono!$A:$A,0)),"")) | H10: =IF(C10="","",IFERROR(INDEX(Ref_Chrono!$C:$C,MATCH(VLOOKUP(C10,Ref_GMU_Attributes!$A:$D,COLUMN(D:$D),FALSE),Ref_Chrono!$A:$A,0)),"")) | I10: =IF(C10="","",IFERROR(INDEX(Ref_Litho!$C:$C,MATCH(VLOOKUP(C10,Ref_GMU_Attributes!$A:$E,COLUMN(E:$E),FALSE),Ref_Litho!$A:$A,0)),"")) | J10: =IF(C10="","",IFERROR(INDEX(Ref_Litho!$C:$C,MATCH(VLOOKUP(C10,Ref_GMU_Attributes!$A:$F,COLUMN(F:$F),FALSE),Ref_Litho!$A:$A,0)),"")) | K10: =IF(C10="","",IFERROR(INDEX(Ref_Litho!$C:$C,MATCH(VLOOKUP(C10,Ref_GMU_Attributes!$A:$G,COLUMN(G:$G),FALSE),Ref_Litho!$A:$A,0)),""))
C11: =IF(B11="","",VALUE(LEFT(B11,FIND(":",B11)-1))) | E11: =IF(D11="","",VALUE(LEFT(D11,FIND(":",D11)-1))) | F11: =IF(C11="","",IFERROR(INDEX(Ref_LithoStratFormation!$C:$C,MATCH(VLOOKUP(C11,Ref_GMU_Attributes!$A:$B,COLUMN(B:$B),FALSE),Ref_LithoStratFormation!$A:$A,0)),"")) | G11: =IF(C11="","",IFERROR(INDEX(Ref_Chrono!$C:$C,MATCH(VLOOKUP(C11,Ref_GMU_Attributes!$A:$C,COLUMN(C:$C),FALSE),Ref_Chrono!$A:$A,0)),"")) | H11: =IF(C11="","",IFERROR(INDEX(Ref_Chrono!$C:$C,MATCH(VLOOKUP(C11,Ref_GMU_Attributes!$A:$D,COLUMN(D:$D),FALSE),Ref_Chrono!$A:$A,0)),"")) | I11: =IF(C11="","",IFERROR(INDEX(Ref_Litho!$C:$C,MATCH(VLOOKUP(C11,Ref_GMU_Attributes!$A:$E,COLUMN(E:$E),FALSE),Ref_Litho!$A:$A,0)),"")) | J11: =IF(C11="","",IFERROR(INDEX(Ref_Litho!$C:$C,MATCH(VLOOKUP(C11,Ref_GMU_Attributes!$A:$F,COLUMN(F:$F),FALSE),Ref_Litho!$A:$A,0)),"")) | K11: =IF(C11="","",IFERROR(INDEX(Ref_Litho!$C:$C,MATCH(VLOOKUP(C11,Ref_GMU_Attributes!$A:$G,COLUMN(G:$G),FALSE),Ref_Litho!$A:$A,0)),""))
C12: =IF(B12="","",VALUE(LEFT(B12,FIND(":",B12)-1))) | E12: =IF(D12="","",VALUE(LEFT(D12,FIND(":",D12)-1))) | F12: =IF(C12="","",IFERROR(INDEX(Ref_LithoStratFormation!$C:$C,MATCH(VLOOKUP(C12,Ref_GMU_Attributes!$A:$B,COLUMN(B:$B),FALSE),Ref_LithoStratFormation!$A:$A,0)),"")) | G12: =IF(C12="","",IFERROR(INDEX(Ref_Chrono!$C:$C,MATCH(VLOOKUP(C12,Ref_GMU_Attributes!$A:$C,COLUMN(C:$C),FALSE),Ref_Chrono!$A:$A,0)),"")) | H12: =IF(C12="","",IFERROR(INDEX(Ref_Chrono!$C:$C,MATCH(VLOOKUP(C12,Ref_GMU_Attributes!$A:$D,COLUMN(D:$D),FALSE),Ref_Chrono!$A:$A,0)),"")) | I12: =IF(C12="","",IFERROR(INDEX(Ref_Litho!$C:$C,MATCH(VLOOKUP(C12,Ref_GMU_Attributes!$A:$E,COLUMN(E:$E),FALSE),Ref_Litho!$A:$A,0)),"")) | J12: =IF(C12="","",IFERROR(INDEX(Ref_Litho!$C:$C,MATCH(VLOOKUP(C12,Ref_GMU_Attributes!$A:$F,COLUMN(F:$F),FALSE),Ref_Litho!$A:$A,0)),"")) | K12: =IF(C12="","",IFERROR(INDEX(Ref_Litho!$C:$C,MATCH(VLOOKUP(C12,Ref_GMU_Attributes!$A:$G,COLUMN(G:$G),FALSE),Ref_Litho!$A:$A,0)),""))
C13: =IF(B13="","",VALUE(LEFT(B13,FIND(":",B13)-1))) | E13: =IF(D13="","",VALUE(LEFT(D13,FIND(":",D13)-1))) | F13: =IF(C13="","",IFERROR(INDEX(Ref_LithoStratFormation!$C:$C,MATCH(VLOOKUP(C13,Ref_GMU_Attributes!$A:$B,COLUMN(B:$B),FALSE),Ref_LithoStratFormation!$A:$A,0)),"")) | G13: =IF(C13="","",IFERROR(INDEX(Ref_Chrono!$C:$C,MATCH(VLOOKUP(C13,Ref_GMU_Attributes!$A:$C,COLUMN(C:$C),FALSE),Ref_Chrono!$A:$A,0)),"")) | H13: =IF(C13="","",IFERROR(INDEX(Ref_Chrono!$C:$C,MATCH(VLOOKUP(C13,Ref_GMU_Attributes!$A:$D,COLUMN(D:$D),FALSE),Ref_Chrono!$A:$A,0)),"")) | I13: =IF(C13="","",IFERROR(INDEX(Ref_Litho!$C:$C,MATCH(VLOOKUP(C13,Ref_GMU_Attributes!$A:$E,COLUMN(E:$E),FALSE),Ref_Litho!$A:$A,0)),"")) | J13: =IF(C13="","",IFERROR(INDEX(Ref_Litho!$C:$C,MATCH(VLOOKUP(C13,Ref_GMU_Attributes!$A:$F,COLUMN(F:$F),FALSE),Ref_Litho!$A:$A,0)),"")) | K13: =IF(C13="","",IFERROR(INDEX(Ref_Litho!$C:$C,MATCH(VLOOKUP(C13,Ref_GMU_Attributes!$A:$G,COLUMN(G:$G),FALSE),Ref_Litho!$A:$A,0)),""))
C14: =IF(B14="","",VALUE(LEFT(B14,FIND(":",B14)-1))) | E14: =IF(D14="","",VALUE(LEFT(D14,FIND(":",D14)-1))) | F14: =IF(C14="","",IFERROR(INDEX(Ref_LithoStratFormation!$C:$C,MATCH(VLOOKUP(C14,Ref_GMU_Attributes!$A:$B,COLUMN(B:$B),FALSE),Ref_LithoStratFormation!$A:$A,0)),"")) | G14: =IF(C14="","",IFERROR(INDEX(Ref_Chrono!$C:$C,MATCH(VLOOKUP(C14,Ref_GMU_Attributes!$A:$C,COLUMN(C:$C),FALSE),Ref_Chrono!$A:$A,0)),"")) | H14: =IF(C14="","",IFERROR(INDEX(Ref_Chrono!$C:$C,MATCH(VLOOKUP(C14,Ref_GMU_Attributes!$A:$D,COLUMN(D:$D),FALSE),Ref_Chrono!$A:$A,0)),"")) | I14: =IF(C14="","",IFERROR(INDEX(Ref_Litho!$C:$C,MATCH(VLOOKUP(C14,Ref_GMU_Attributes!$A:$E,COLUMN(E:$E),FALSE),Ref_Litho!$A:$A,0)),"")) | J14: =IF(C14="","",IFERROR(INDEX(Ref_Litho!$C:$C,MATCH(VLOOKUP(C14,Ref_GMU_Attributes!$A:$F,COLUMN(F:$F),FALSE),Ref_Litho!$A:$A,0)),"")) | K14: =IF(C14="","",IFERROR(INDEX(Ref_Litho!$C:$C,MATCH(VLOOKUP(C14,Ref_GMU_Attributes!$A:$G,COLUMN(G:$G),FALSE),Ref_Litho!$A:$A,0)),""))
C15: =IF(B15="","",VALUE(LEFT(B15,FIND(":",B15)-1))) | E15: =IF(D15="","",VALUE(LEFT(D15,FIND(":",D15)-1))) | F15: =IF(C15="","",IFERROR(INDEX(Ref_LithoStratFormation!$C:$C,MATCH(VLOOKUP(C15,Ref_GMU_Attributes!$A:$B,COLUMN(B:$B),FALSE),Ref_LithoStratFormation!$A:$A,0)),"")) | G15: =IF(C15="","",IFERROR(INDEX(Ref_Chrono!$C:$C,MATCH(VLOOKUP(C15,Ref_GMU_Attributes!$A:$C,COLUMN(C:$C),FALSE),Ref_Chrono!$A:$A,0)),"")) | H15: =IF(C15="","",IFERROR(INDEX(Ref_Chrono!$C:$C,MATCH(VLOOKUP(C15,Ref_GMU_Attributes!$A:$D,COLUMN(D:$D),FALSE),Ref_Chrono!$A:$A,0)),"")) | I15: =IF(C15="","",IFERROR(INDEX(Ref_Litho!$C:$C,MATCH(VLOOKUP(C15,Ref_GMU_Attributes!$A:$E,COLUMN(E:$E),FALSE),Ref_Litho!$A:$A,0)),"")) | J15: =IF(C15="","",IFERROR(INDEX(Ref_Litho!$C:$C,MATCH(VLOOKUP(C15,Ref_GMU_Attributes!$A:$F,COLUMN(F:$F),FALSE),Ref_Litho!$A:$A,0)),"")) | K15: =IF(C15="","",IFERROR(INDEX(Ref_Litho!$C:$C,MATCH(VLOOKUP(C15,Ref_GMU_Attributes!$A:$G,COLUMN(G:$G),FALSE),Ref_Litho!$A:$A,0)),""))
... C1000: =IF(B1000="","",VALUE(LEFT(B1000,FIND(":",B1000)-1))) | E1000: =IF(D1000="","",VALUE(LEFT(D1000,FIND(":",D1000)-1))) | F1000: =IF(C1000="","",IFERROR(INDEX(Ref_LithoStratFormation!$C:$C,MATCH(VLOOKUP(C1000,Ref_GMU_Attributes!$A:$B,COLUMN(B:$B),FALSE),Ref_LithoStratFormation!$A:$A,0)),"")) | G1000: =IF(C1000="","",IFERROR(INDEX(Ref_Chrono!$C:$C,MATCH(VLOOKUP(C1000,Ref_GMU_Attributes!$A:$C,COLUMN(C:$C),FALSE),Ref_Chrono!$A:$A,0)),"")) | H1000: =IF(C1000="","",IFERROR(INDEX(Ref_Chrono!$C:$C,MATCH(VLOOKUP(C1000,Ref_GMU_Attributes!$A:$D,COLUMN(D:$D),FALSE),Ref_Chrono!$A:$A,0)),"")) | I1000: =IF(C1000="","",IFERROR(INDEX(Ref_Litho!$C:$C,MATCH(VLOOKUP(C1000,Ref_GMU_Attributes!$A:$E,COLUMN(E:$E),FALSE),Ref_Litho!$A:$A,0)),"")) | J1000: =IF(C1000="","",IFERROR(INDEX(Ref_Litho!$C:$C,MATCH(VLOOKUP(C1000,Ref_GMU_Attributes!$A:$F,COLUMN(F:$F),FALSE),Ref_Litho!$A:$A,0)),"")) | K1000: =IF(C1000="","",IFERROR(INDEX(Ref_Litho!$C:$C,MATCH(VLOOKUP(C1000,Ref_GMU_Attributes!$A:$G,COLUMN(G:$G),FALSE),Ref_Litho!$A:$A,0)),""))

Sheet Unconsolidated_Deposits_PLG
A1: User_Code | B1: LITSTRAT_Display | C1: LITSTRAT | D1: LITHO_Display | E1: LITHO | F1: CHRONO_TOP_Display | G1: CHRONO_TOP | H1: CHRONO_BASE_Display | I1: CHRONO_BASE
A2: UNCO_001 | C2: =IF(B2="","",VALUE(LEFT(B2,FIND(":",B2)-1))) | E2: =IF(D2="","",VALUE(LEFT(D2,FIND(":",D2)-1))) | G2: =IF(F2="","",VALUE(LEFT(F2,FIND(":",F2)-1))) | I2: =IF(H2="","",VALUE(LEFT(H2,FIND(":",H2)-1)))
A3: UNCO_002 | C3: =IF(B3="","",VALUE(LEFT(B3,FIND(":",B3)-1))) | E3: =IF(D3="","",VALUE(LEFT(D3,FIND(":",D3)-1))) | G3: =IF(F3="","",VALUE(LEFT(F3,FIND(":",F3)-1))) | I3: =IF(H3="","",VALUE(LEFT(H3,FIND(":",H3)-1)))
C4: =IF(B4="","",VALUE(LEFT(B4,FIND(":",B4)-1))) | E4: =IF(D4="","",VALUE(LEFT(D4,FIND(":",D4)-1))) | G4: =IF(F4="","",VALUE(LEFT(F4,FIND(":",F4)-1))) | I4: =IF(H4="","",VALUE(LEFT(H4,FIND(":",H4)-1)))
C5: =IF(B5="","",VALUE(LEFT(B5,FIND(":",B5)-1))) | E5: =IF(D5="","",VALUE(LEFT(D5,FIND(":",D5)-1))) | G5: =IF(F5="","",VALUE(LEFT(F5,FIND(":",F5)-1))) | I5: =IF(H5="","",VALUE(LEFT(H5,FIND(":",H5)-1)))
C6: =IF(B6="","",VALUE(LEFT(B6,FIND(":",B6)-1))) | E6: =IF(D6="","",VALUE(LEFT(D6,FIND(":",D6)-1))) | G6: =IF(F6="","",VALUE(LEFT(F6,FIND(":",F6)-1))) | I6: =IF(H6="","",VALUE(LEFT(H6,FIND(":",H6)-1)))
C7: =IF(B7="","",VALUE(LEFT(B7,FIND(":",B7)-1))) | E7: =IF(D7="","",VALUE(LEFT(D7,FIND(":",D7)-1))) | G7: =IF(F7="","",VALUE(LEFT(F7,FIND(":",F7)-1))) | I7: =IF(H7="","",VALUE(LEFT(H7,FIND(":",H7)-1)))
C8: =IF(B8="","",VALUE(LEFT(B8,FIND(":",B8)-1))) | E8: =IF(D8="","",VALUE(LEFT(D8,FIND(":",D8)-1))) | G8: =IF(F8="","",VALUE(LEFT(F8,FIND(":",F8)-1))) | I8: =IF(H8="","",VALUE(LEFT(H8,FIND(":",H8)-1)))
C9: =IF(B9="","",VALUE(LEFT(B9,FIND(":",B9)-1))) | E9: =IF(D9="","",VALUE(LEFT(D9,FIND(":",D9)-1))) | G9: =IF(F9="","",VALUE(LEFT(F9,FIND(":",F9)-1))) | I9: =IF(H9="","",VALUE(LEFT(H9,FIND(":",H9)-1)))
C10: =IF(B10="","",VALUE(LEFT(B10,FIND(":",B10)-1))) | E10: =IF(D10="","",VALUE(LEFT(D10,FIND(":",D10)-1))) | G10: =IF(F10="","",VALUE(LEFT(F10,FIND(":",F10)-1))) | I10: =IF(H10="","",VALUE(LEFT(H10,FIND(":",H10)-1)))
C11: =IF(B11="","",VALUE(LEFT(B11,FIND(":",B11)-1))) | E11: =IF(D11="","",VALUE(LEFT(D11,FIND(":",D11)-1))) | G11: =IF(F11="","",VALUE(LEFT(F11,FIND(":",F11)-1))) | I11: =IF(H11="","",VALUE(LEFT(H11,FIND(":",H11)-1)))
C12: =IF(B12="","",VALUE(LEFT(B12,FIND(":",B12)-1))) | E12: =IF(D12="","",VALUE(LEFT(D12,FIND(":",D12)-1))) | G12: =IF(F12="","",VALUE(LEFT(F12,FIND(":",F12)-1))) | I12: =IF(H12="","",VALUE(LEFT(H12,FIND(":",H12)-1)))
C13: =IF(B13="","",VALUE(LEFT(B13,FIND(":",B13)-1))) | E13: =IF(D13="","",VALUE(LEFT(D13,FIND(":",D13)-1))) | G13: =IF(F13="","",VALUE(LEFT(F13,FIND(":",F13)-1))) | I13: =IF(H13="","",VALUE(LEFT(H13,FIND(":",H13)-1)))
C14: =IF(B14="","",VALUE(LEFT(B14,FIND(":",B14)-1))) | E14: =IF(D14="","",VALUE(LEFT(D14,FIND(":",D14)-1))) | G14: =IF(F14="","",VALUE(LEFT(F14,FIND(":",F14)-1))) | I14: =IF(H14="","",VALUE(LEFT(H14,FIND(":",H14)-1)))
C15: =IF(B15="","",VALUE(LEFT(B15,FIND(":",B15)-1))) | E15: =IF(D15="","",VALUE(LEFT(D15,FIND(":",D15)-1))) | G15: =IF(F15="","",VALUE(LEFT(F15,FIND(":",F15)-1))) | I15: =IF(H15="","",VALUE(LEFT(H15,FIND(":",H15)-1)))
... C1000: =IF(B1000="","",VALUE(LEFT(B1000,FIND(":",B1000)-1))) | E1000: =IF(D1000="","",VALUE(LEFT(D1000,FIND(":",D1000)-1))) | G1000: =IF(F1000="","",VALUE(LEFT(F1000,FIND(":",F1000)-1))) | I1000: =IF(H1000="","",VALUE(LEFT(H1000,FIND(":",H1000)-1)))

Sheet Fossils_PT
A1: User_Code | B1: KIND_Display | C1: KIND | D1: LFOS_DIVISION_Display | E1: LFOS_DIVISION | F1: LFOS_DAT_METH_Display | G1: LFOS_DAT_METH | H1: LFOS_STATUS_Display | I1: LFOS_STATUS | J1: Notes
A2: FOSSILSPT_001 | C2: =IF(B2="","",VALUE(LEFT(B2,FIND(":",B2)-1))) | E2: =IF(D2="","",VALUE(LEFT(D2,FIND(":",D2)-1))) | G2: =IF(F2="","",VALUE(LEFT(F2,FIND(":",F2)-1))) | I2: =IF(H2="","",VALUE(LEFT(H2,FIND(":",H2)-1)))
C3: =IF(B3="","",VALUE(LEFT(B3,FIND(":",B3)-1))) | E3: =IF(D3="","",VALUE(LEFT(D3,FIND(":",D3)-1))) | G3: =IF(F3="","",VALUE(LEFT(F3,FIND(":",F3)-1))) | I3: =IF(H3="","",VALUE(LEFT(H3,FIND(":",H3)-1)))
C4: =IF(B4="","",VALUE(LEFT(B4,FIND(":",B4)-1))) | E4: =IF(D4="","",VALUE(LEFT(D4,FIND(":",D4)-1))) | G4: =IF(F4="","",VALUE(LEFT(F4,FIND(":",F4)-1))) | I4: =IF(H4="","",VALUE(LEFT(H4,FIND(":",H4)-1)))
C5: =IF(B5="","",VALUE(LEFT(B5,FIND(":",B5)-1))) | E5: =IF(D5="","",VALUE(LEFT(D5,FIND(":",D5)-1))) | G5: =IF(F5="","",VALUE(LEFT(F5,FIND(":",F5)-1))) | I5: =IF(H5="","",VALUE(LEFT(H5,FIND(":",H5)-1)))
C6: =IF(B6="","",VALUE(LEFT(B6,FIND(":",B6)-1))) | E6: =IF(D6="","",VALUE(LEFT(D6,FIND(":",D6)-1))) | G6: =IF(F6="","",VALUE(LEFT(F6,FIND(":",F6)-1))) | I6: =IF(H6="","",VALUE(LEFT(H6,FIND(":",H6)-1)))
C7: =IF(B7="","",VALUE(LEFT(B7,FIND(":",B7)-1))) | E7: =IF(D7="","",VALUE(LEFT(D7,FIND(":",D7)-1))) | G7: =IF(F7="","",VALUE(LEFT(F7,FIND(":",F7)-1))) | I7: =IF(H7="","",VALUE(LEFT(H7,FIND(":",H7)-1)))
C8: =IF(B8="","",VALUE(LEFT(B8,FIND(":",B8)-1))) | E8: =IF(D8="","",VALUE(LEFT(D8,FIND(":",D8)-1))) | G8: =IF(F8="","",VALUE(LEFT(F8,FIND(":",F8)-1))) | I8: =IF(H8="","",VALUE(LEFT(H8,FIND(":",H8)-1)))
C9: =IF(B9="","",VALUE(LEFT(B9,FIND(":",B9)-1))) | E9: =IF(D9="","",VALUE(LEFT(D9,FIND(":",D9)-1))) | G9: =IF(F9="","",VALUE(LEFT(F9,FIND(":",F9)-1))) | I9: =IF(H9="","",VALUE(LEFT(H9,FIND(":",H9)-1)))
C10: =IF(B10="","",VALUE(LEFT(B10,FIND(":",B10)-1))) | E10: =IF(D10="","",VALUE(LEFT(D10,FIND(":",D10)-1))) | G10: =IF(F10="","",VALUE(LEFT(F10,FIND(":",F10)-1))) | I10: =IF(H10="","",VALUE(LEFT(H10,FIND(":",H10)-1)))
C11: =IF(B11="","",VALUE(LEFT(B11,FIND(":",B11)-1))) | E11: =IF(D11="","",VALUE(LEFT(D11,FIND(":",D11)-1))) | G11: =IF(F11="","",VALUE(LEFT(F11,FIND(":",F11)-1))) | I11: =IF(H11="","",VALUE(LEFT(H11,FIND(":",H11)-1)))
C12: =IF(B12="","",VALUE(LEFT(B12,FIND(":",B12)-1))) | E12: =IF(D12="","",VALUE(LEFT(D12,FIND(":",D12)-1))) | G12: =IF(F12="","",VALUE(LEFT(F12,FIND(":",F12)-1))) | I12: =IF(H12="","",VALUE(LEFT(H12,FIND(":",H12)-1)))
C13: =IF(B13="","",VALUE(LEFT(B13,FIND(":",B13)-1))) | E13: =IF(D13="","",VALUE(LEFT(D13,FIND(":",D13)-1))) | G13: =IF(F13="","",VALUE(LEFT(F13,FIND(":",F13)-1))) | I13: =IF(H13="","",VALUE(LEFT(H13,FIND(":",H13)-1)))
C14: =IF(B14="","",VALUE(LEFT(B14,FIND(":",B14)-1))) | E14: =IF(D14="","",VALUE(LEFT(D14,FIND(":",D14)-1))) | G14: =IF(F14="","",VALUE(LEFT(F14,FIND(":",F14)-1))) | I14: =IF(H14="","",VALUE(LEFT(H14,FIND(":",H14)-1)))
... C1000: =IF(B1000="","",VALUE(LEFT(B1000,FIND(":",B1000)-1))) | E1000: =IF(D1000="","",VALUE(LEFT(D1000,FIND(":",D1000)-1))) | G1000: =IF(F1000="","",VALUE(LEFT(F1000,FIND(":",F1000)-1))) | I1000: =IF(H1000="","",VALUE(LEFT(H1000,FIND(":",H1000)-1)))

Sheet Deposits_PT
A1: User_Code | B1: KIND_Display | C1: KIND | D1: STATUS_Display | E1: STATUS | F1: ROCK_SPE_Display | G1: ROCK_SPE | H1: ROCK_TYPE_Display | I1: ROCK_TYPE | J1: Notes
A2: UNCONSOLID_001 | C2: =IF(B2="","",VALUE(LEFT(B2,FIND(":",B2)-1))) | E2: =IF(D2="","",VALUE(LEFT(D2,FIND(":",D2)-1))) | G2: =IF(F2="","",VALUE(LEFT(F2,FIND(":",F2)-1))) | I2: =IF(H2="","",VALUE(LEFT(H2,FIND(":",H2)-1)))
C3: =IF(B3="","",VALUE(LEFT(B3,FIND(":",B3)-1))) | E3: =IF(D3="","",VALUE(LEFT(D3,FIND(":",D3)-1))) | G3: =IF(F3="","",VALUE(LEFT(F3,FIND(":",F3)-1))) | I3: =IF(H3="","",VALUE(LEFT(H3,FIND(":",H3)-1)))
C4: =IF(B4="","",VALUE(LEFT(B4,FIND(":",B4)-1))) | E4: =IF(D4="","",VALUE(LEFT(D4,FIND(":",D4)-1))) | G4: =IF(F4="","",VALUE(LEFT(F4,FIND(":",F4)-1))) | I4: =IF(H4="","",VALUE(LEFT(H4,FIND(":",H4)-1)))
C5: =IF(B5="","",VALUE(LEFT(B5,FIND(":",B5)-1))) | E5: =IF(D5="","",VALUE(LEFT(D5,FIND(":",D5)-1))) | G5: =IF(F5="","",VALUE(LEFT(F5,FIND(":",F5)-1))) | I5: =IF(H5="","",VALUE(LEFT(H5,FIND(":",H5)-1)))
C6: =IF(B6="","",VALUE(LEFT(B6,FIND(":",B6)-1))) | E6: =IF(D6="","",VALUE(LEFT(D6,FIND(":",D6)-1))) | G6: =IF(F6="","",VALUE(LEFT(F6,FIND(":",F6)-1))) | I6: =IF(H6="","",VALUE(LEFT(H6,FIND(":",H6)-1)))
C7: =IF(B7="","",VALUE(LEFT(B7,FIND(":",B7)-1))) | E7: =IF(D7="","",VALUE(LEFT(D7,FIND(":",D7)-1))) | G7: =IF(F7="","",VALUE(LEFT(F7,FIND(":",F7)-1))) | I7: =IF(H7="","",VALUE(LEFT(H7,FIND(":",H7)-1)))
C8: =IF(B8="","",VALUE(LEFT(B8,FIND(":",B8)-1))) | E8: =IF(D8="","",VALUE(LEFT(D8,FIND(":",D8)-1))) | G8: =IF(F8="","",VALUE(LEFT(F8,FIND(":",F8)-1))) | I8: =IF(H8="","",VALUE(LEFT(H8,FIND(":",H8)-1)))
C9: =IF(B9="","",VALUE(LEFT(B9,FIND(":",B9)-1))) | E9: =IF(D9="","",VALUE(LEFT(D9,FIND(":",D9)-1))) | G9: =IF(F9="","",VALUE(LEFT(F9,FIND(":",F9)-1))) | I9: =IF(H9="","",VALUE(LEFT(H9,FIND(":",H9)-1)))
C10: =IF(B10="","",VALUE(LEFT(B10,FIND(":",B10)-1))) | E10: =IF(D10="","",VALUE(LEFT(D10,FIND(":",D10)-1))) | G10: =IF(F10="","",VALUE(LEFT(F10,FIND(":",F10)-1))) | I10: =IF(H10="","",VALUE(LEFT(H10,FIND(":",H10)-1)))
C11: =IF(B11="","",VALUE(LEFT(B11,FIND(":",B11)-1))) | E11: =IF(D11="","",VALUE(LEFT(D11,FIND(":",D11)-1))) | G11: =IF(F11="","",VALUE(LEFT(F11,FIND(":",F11)-1))) | I11: =IF(H11="","",VALUE(LEFT(H11,FIND(":",H11)-1)))
C12: =IF(B12="","",VALUE(LEFT(B12,FIND(":",B12)-1))) | E12: =IF(D12="","",VALUE(LEFT(D12,FIND(":",D12)-1))) | G12: =IF(F12="","",VALUE(LEFT(F12,FIND(":",F12)-1))) | I12: =IF(H12="","",VALUE(LEFT(H12,FIND(":",H12)-1)))
C13: =IF(B13="","",VALUE(LEFT(B13,FIND(":",B13)-1))) | E13: =IF(D13="","",VALUE(LEFT(D13,FIND(":",D13)-1))) | G13: =IF(F13="","",VALUE(LEFT(F13,FIND(":",F13)-1))) | I13: =IF(H13="","",VALUE(LEFT(H13,FIND(":",H13)-1)))
C14: =IF(B14="","",VALUE(LEFT(B14,FIND(":",B14)-1))) | E14: =IF(D14="","",VALUE(LEFT(D14,FIND(":",D14)-1))) | G14: =IF(F14="","",VALUE(LEFT(F14,FIND(":",F14)-1))) | I14: =IF(H14="","",VALUE(LEFT(H14,FIND(":",H14)-1)))
... C1000: =IF(B1000="","",VALUE(LEFT(B1000,FIND(":",B1000)-1))) | E1000: =IF(D1000="","",VALUE(LEFT(D1000,FIND(":",D1000)-1))) | G1000: =IF(F1000="","",VALUE(LEFT(F1000,FIND(":",F1000)-1))) | I1000: =IF(H1000="","",VALUE(LEFT(H1000,FIND(":",H1000)-1)))

Sheet Instability_PT
A1: User_Code | B1: KIND_Display | C1: KIND | D1: Notes
A2: INSTABILIT_001 | C2: =IF(B2="","",VALUE(LEFT(B2,FIND(":",B2)-1)))
C3: =IF(B3="","",VALUE(LEFT(B3,FIND(":",B3)-1)))
C4: =IF(B4="","",VALUE(LEFT(B4,FIND(":",B4)-1)))
C5: =IF(B5="","",VALUE(LEFT(B5,FIND(":",B5)-1)))
C6: =IF(B6="","",VALUE(LEFT(B6,FIND(":",B6)-1)))
C7: =IF(B7="","",VALUE(LEFT(B7,FIND(":",B7)-1)))
C8: =IF(B8="","",VALUE(LEFT(B8,FIND(":",B8)-1)))
C9: =IF(B9="","",VALUE(LEFT(B9,FIND(":",B9)-1)))
C10: =IF(B10="","",VALUE(LEFT(B10,FIND(":",B10)-1)))
C11: =IF(B11="","",VALUE(LEFT(B11,FIND(":",B11)-1)))
C12: =IF(B12="","",VALUE(LEFT(B12,FIND(":",B12)-1)))
C13: =IF(B13="","",VALUE(LEFT(B13,FIND(":",B13)-1)))
C14: =IF(B14="","",VALUE(LEFT(B14,FIND(":",B14)-1)))
... C1000: =IF(B1000="","",VALUE(LEFT(B1000,FIND(":",B1000)-1)))

Sheet Instability_L
A1: User_Code | B1: KIND_Display | C1: KIND | D1: Notes
A2: INSTABILIT_001 | C2: =IF(B2="","",VALUE(LEFT(B2,FIND(":",B2)-1)))
C3: =IF(B3="","",VALUE(LEFT(B3,FIND(":",B3)-1)))
C4: =IF(B4="","",VALUE(LEFT(B4,FIND(":",B4)-1)))
C5: =IF(B5="","",VALUE(LEFT(B5,FIND(":",B5)-1)))
C6: =IF(B6="","",VALUE(LEFT(B6,FIND(":",B6)-1)))
C7: =IF(B7="","",VALUE(LEFT(B7,FIND(":",B7)-1)))
C8: =IF(B8="","",VALUE(LEFT(B8,FIND(":",B8)-1)))
C9: =IF(B9="","",VALUE(LEFT(B9,FIND(":",B9)-1)))
C10: =IF(B10="","",VALUE(LEFT(B10,FIND(":",B10)-1)))
C11: =IF(B11="","",VALUE(LEFT(B11,FIND(":",B11)-1)))
C12: =IF(B12="","",VALUE(LEFT(B12,FIND(":",B12)-1)))
C13: =IF(B13="","",VALUE(LEFT(B13,FIND(":",B13)-1)))
C14: =IF(B14="","",VALUE(LEFT(B14,FIND(":",B14)-1)))
... C1000: =IF(B1000="","",VALUE(LEFT(B1000,FIND(":",B1000)-1)))

Sheet Instability_PLG
A1: User_Code | B1: KIND_Display | C1: KIND | D1: GINS_MAIN_MOV_Display | E1: GINS_MAIN_MOV | F1: Notes
A2: INSTABILIT_001 | C2: =IF(B2="","",VALUE(LEFT(B2,FIND(":",B2)-1))) | E2: =IF(D2="","",VALUE(LEFT(D2,FIND(":",D2)-1)))
C3: =IF(B3="","",VALUE(LEFT(B3,FIND(":",B3)-1))) | E3: =IF(D3="","",VALUE(LEFT(D3,FIND(":",D3)-1)))
C4: =IF(B4="","",VALUE(LEFT(B4,FIND(":",B4)-1))) | E4: =IF(D4="","",VALUE(LEFT(D4,FIND(":",D4)-1)))
C5: =IF(B5="","",VALUE(LEFT(B5,FIND(":",B5)-1))) | E5: =IF(D5="","",VALUE(LEFT(D5,FIND(":",D5)-1)))
C6: =IF(B6="","",VALUE(LEFT(B6,FIND(":",B6)-1))) | E6: =IF(D6="","",VALUE(LEFT(D6,FIND(":",D6)-1)))
C7: =IF(B7="","",VALUE(LEFT(B7,FIND(":",B7)-1))) | E7: =IF(D7="","",VALUE(LEFT(D7,FIND(":",D7)-1)))
C8: =IF(B8="","",VALUE(LEFT(B8,FIND(":",B8)-1))) | E8: =IF(D8="","",VALUE(LEFT(D8,FIND(":",D8)-1)))
C9: =IF(B9="","",VALUE(LEFT(B9,FIND(":",B9)-1))) | E9: =IF(D9="","",VALUE(LEFT(D9,FIND(":",D9)-1)))
C10: =IF(B10="","",VALUE(LEFT(B10,FIND(":",B10)-1))) | E10: =IF(D10="","",VALUE(LEFT(D10,FIND(":",D10)-1)))
C11: =IF(B11="","",VALUE(LEFT(B11,FIND(":",B11)-1))) | E11: =IF(D11="","",VALUE(LEFT(D11,FIND(":",D11)-1)))
C12: =IF(B12="","",VALUE(LEFT(B12,FIND(":",B12)-1))) | E12: =IF(D12="","",VALUE(LEFT(D12,FIND(":",D12)-1)))
C13: =IF(B13="","",VALUE(LEFT(B13,FIND(":",B13)-1))) | E13: =IF(D13="","",VALUE(LEFT(D13,FIND(":",D13)-1)))
C14: =IF(B14="","",VALUE(LEFT(B14,FIND(":",B14)-1))) | E14: =IF(D14="","",VALUE(LEFT(D14,FIND(":",D14)-1)))
... C1000: =IF(B1000="","",VALUE(LEFT(B1000,FIND(":",B1000)-1))) | E1000: =IF(D1000="","",VALUE(LEFT(D1000,FIND(":",D1000)-1)))

Sheet Glacial_PT
A1: User_Code | B1: KIND_Display | C1: KIND | D1: Notes
A2: GLACIALSTR_001 | C2: =IF(B2="","",VALUE(LEFT(B2,FIND(":",B2)-1)))
C3: =IF(B3="","",VALUE(LEFT(B3,FIND(":",B3)-1)))
C4: =IF(B4="","",VALUE(LEFT(B4,FIND(":",B4)-1)))
C5: =IF(B5="","",VALUE(LEFT(B5,FIND(":",B5)-1)))
C6: =IF(B6="","",VALUE(LEFT(B6,FIND(":",B6)-1)))
C7: =IF(B7="","",VALUE(LEFT(B7,FIND(":",B7)-1)))
C8: =IF(B8="","",VALUE(LEFT(B8,FIND(":",B8)-1)))
C9: =IF(B9="","",VALUE(LEFT(B9,FIND(":",B9)-1)))
C10: =IF(B10="","",VALUE(LEFT(B10,FIND(":",B10)-1)))
C11: =IF(B11="","",VALUE(LEFT(B11,FIND(":",B11)-1)))
C12: =IF(B12="","",VALUE(LEFT(B12,FIND(":",B12)-1)))
C13: =IF(B13="","",VALUE(LEFT(B13,FIND(":",B13)-1)))
C14: =IF(B14="","",VALUE(LEFT(B14,FIND(":",B14)-1)))
... C1000: =IF(B1000="","",VALUE(LEFT(B1000,FIND(":",B1000)-1)))

Sheet Glacial_and_Periglacial_Structu
A1: User_Code | B1: KIND_Display | C1: KIND | D1: GGLA_MORAI_MO_Display | E1: GGLA_MORAI_MO | F1: GGLA_GLAC_TYP_Display | G1: GGLA_GLAC_TYP | H1: GGLA_ICE_M_P_Display | I1: GGLA_ICE_M_P | J1: GGLA_QUAT_STR_Display | K1: GGLA_QUAT_STR | L1: Notes
A2: GLACIALAND_001 | C2: =IF(B2="","",VALUE(LEFT(B2,FIND(":",B2)-1))) | E2: =IF(D2="","",VALUE(LEFT(D2,FIND(":",D2)-1))) | G2: =IF(F2="","",VALUE(LEFT(F2,FIND(":",F2)-1))) | I2: =IF(H2="","",VALUE(LEFT(H2,FIND(":",H2)-1))) | K2: =IF(J2="","",VALUE(LEFT(J2,FIND(":",J2)-1)))
C3: =IF(B3="","",VALUE(LEFT(B3,FIND(":",B3)-1))) | E3: =IF(D3="","",VALUE(LEFT(D3,FIND(":",D3)-1))) | G3: =IF(F3="","",VALUE(LEFT(F3,FIND(":",F3)-1))) | I3: =IF(H3="","",VALUE(LEFT(H3,FIND(":",H3)-1))) | K3: =IF(J3="","",VALUE(LEFT(J3,FIND(":",J3)-1)))
C4: =IF(B4="","",VALUE(LEFT(B4,FIND(":",B4)-1))) | E4: =IF(D4="","",VALUE(LEFT(D4,FIND(":",D4)-1))) | G4: =IF(F4="","",VALUE(LEFT(F4,FIND(":",F4)-1))) | I4: =IF(H4="","",VALUE(LEFT(H4,FIND(":",H4)-1))) | K4: =IF(J4="","",VALUE(LEFT(J4,FIND(":",J4)-1)))
C5: =IF(B5="","",VALUE(LEFT(B5,FIND(":",B5)-1))) | E5: =IF(D5="","",VALUE(LEFT(D5,FIND(":",D5)-1))) | G5: =IF(F5="","",VALUE(LEFT(F5,FIND(":",F5)-1))) | I5: =IF(H5="","",VALUE(LEFT(H5,FIND(":",H5)-1))) | K5: =IF(J5="","",VALUE(LEFT(J5,FIND(":",J5)-1)))
C6: =IF(B6="","",VALUE(LEFT(B6,FIND(":",B6)-1))) | E6: =IF(D6="","",VALUE(LEFT(D6,FIND(":",D6)-1))) | G6: =IF(F6="","",VALUE(LEFT(F6,FIND(":",F6)-1))) | I6: =IF(H6="","",VALUE(LEFT(H6,FIND(":",H6)-1))) | K6: =IF(J6="","",VALUE(LEFT(J6,FIND(":",J6)-1)))
C7: =IF(B7="","",VALUE(LEFT(B7,FIND(":",B7)-1))) | E7: =IF(D7="","",VALUE(LEFT(D7,FIND(":",D7)-1))) | G7: =IF(F7="","",VALUE(LEFT(F7,FIND(":",F7)-1))) | I7: =IF(H7="","",VALUE(LEFT(H7,FIND(":",H7)-1))) | K7: =IF(J7="","",VALUE(LEFT(J7,FIND(":",J7)-1)))
C8: =IF(B8="","",VALUE(LEFT(B8,FIND(":",B8)-1))) | E8: =IF(D8="","",VALUE(LEFT(D8,FIND(":",D8)-1))) | G8: =IF(F8="","",VALUE(LEFT(F8,FIND(":",F8)-1))) | I8: =IF(H8="","",VALUE(LEFT(H8,FIND(":",H8)-1))) | K8: =IF(J8="","",VALUE(LEFT(J8,FIND(":",J8)-1)))
C9: =IF(B9="","",VALUE(LEFT(B9,FIND(":",B9)-1))) | E9: =IF(D9="","",VALUE(LEFT(D9,FIND(":",D9)-1))) | G9: =IF(F9="","",VALUE(LEFT(F9,FIND(":",F9)-1))) | I9: =IF(H9="","",VALUE(LEFT(H9,FIND(":",H9)-1))) | K9: =IF(J9="","",VALUE(LEFT(J9,FIND(":",J9)-1)))
C10: =IF(B10="","",VALUE(LEFT(B10,FIND(":",B10)-1))) | E10: =IF(D10="","",VALUE(LEFT(D10,FIND(":",D10)-1))) | G10: =IF(F10="","",VALUE(LEFT(F10,FIND(":",F10)-1))) | I10: =IF(H10="","",VALUE(LEFT(H10,FIND(":",H10)-1))) | K10: =IF(J10="","",VALUE(LEFT(J10,FIND(":",J10)-1)))
C11: =IF(B11="","",VALUE(LEFT(B11,FIND(":",B11)-1))) | E11: =IF(D11="","",VALUE(LEFT(D11,FIND(":",D11)-1))) | G11: =IF(F11="","",VALUE(LEFT(F11,FIND(":",F11)-1))) | I11: =IF(H11="","",VALUE(LEFT(H11,FIND(":",H11)-1))) | K11: =IF(J11="","",VALUE(LEFT(J11,FIND(":",J11)-1)))
C12: =IF(B12="","",VALUE(LEFT(B12,FIND(":",B12)-1))) | E12: =IF(D12="","",VALUE(LEFT(D12,FIND(":",D12)-1))) | G12: =IF(F12="","",VALUE(LEFT(F12,FIND(":",F12)-1))) | I12: =IF(H12="","",VALUE(LEFT(H12,FIND(":",H12)-1))) | K12: =IF(J12="","",VALUE(LEFT(J12,FIND(":",J12)-1)))
C13: =IF(B13="","",VALUE(LEFT(B13,FIND(":",B13)-1))) | E13: =IF(D13="","",VALUE(LEFT(D13,FIND(":",D13)-1))) | G13: =IF(F13="","",VALUE(LEFT(F13,FIND(":",F13)-1))) | I13: =IF(H13="","",VALUE(LEFT(H13,FIND(":",H13)-1))) | K13: =IF(J13="","",VALUE(LEFT(J13,FIND(":",J13)-1)))
C14: =IF(B14="","",VALUE(LEFT(B14,FIND(":",B14)-1))) | E14: =IF(D14="","",VALUE(LEFT(D14,FIND(":",D14)-1))) | G14: =IF(F14="","",VALUE(LEFT(F14,FIND(":",F14)-1))) | I14: =IF(H14="","",VALUE(LEFT(H14,FIND(":",H14)-1))) | K14: =IF(J14="","",VALUE(LEFT(J14,FIND(":",J14)-1)))
... C1000: =IF(B1000="","",VALUE(LEFT(B1000,FIND(":",B1000)-1))) | E1000: =IF(D1000="","",VALUE(LEFT(D1000,FIND(":",D1000)-1))) | G1000: =IF(F1000="","",VALUE(LEFT(F1000,FIND(":",F1000)-1))) | I1000: =IF(H1000="","",VALUE(LEFT(H1000,FIND(":",H1000)-1))) | K1000: =IF(J1000="","",VALUE(LEFT(J1000,FIND(":",J1000)-1)))

Sheet Glacial_PLG
A1: User_Code | B1: KIND_Display | C1: KIND | D1: Notes
A2: GLACIALSTR_001 | C2: =IF(B2="","",VALUE(LEFT(B2,FIND(":",B2)-1)))
C3: =IF(B3="","",VALUE(LEFT(B3,FIND(":",B3)-1)))
C4: =IF(B4="","",VALUE(LEFT(B4,FIND(":",B4)-1)))
C5: =IF(B5="","",VALUE(LEFT(B5,FIND(":",B5)-1)))
C6: =IF(B6="","",VALUE(LEFT(B6,FIND(":",B6)-1)))
C7: =IF(B7="","",VALUE(LEFT(B7,FIND(":",B7)-1)))
C8: =IF(B8="","",VALUE(LEFT(B8,FIND(":",B8)-1)))
C9: =IF(B9="","",VALUE(LEFT(B9,FIND(":",B9)-1)))
C10: =IF(B10="","",VALUE(LEFT(B10,FIND(":",B10)-1)))
C11: =IF(B11="","",VALUE(LEFT(B11,FIND(":",B11)-1)))
C12: =IF(B12="","",VALUE(LEFT(B12,FIND(":",B12)-1)))
C13: =IF(B13="","",VALUE(LEFT(B13,FIND(":",B13)-1)))
C14: =IF(B14="","",VALUE(LEFT(B14,FIND(":",B14)-1)))
... C1000: =IF(B1000="","",VALUE(LEFT(B1000,FIND(":",B1000)-1)))

Sheet Erosion_PT
A1: User_Code | B1: KIND_Display | C1: KIND | D1: Notes
A2: EROSIONALS_001 | C2: =IF(B2="","",VALUE(LEFT(B2,FIND(":",B2)-1)))
C3: =IF(B3="","",VALUE(LEFT(B3,FIND(":",B3)-1)))
C4: =IF(B4="","",VALUE(LEFT(B4,FIND(":",B4)-1)))
C5: =IF(B5="","",VALUE(LEFT(B5,FIND(":",B5)-1)))
C6: =IF(B6="","",VALUE(LEFT(B6,FIND(":",B6)-1)))
C7: =IF(B7="","",VALUE(LEFT(B7,FIND(":",B7)-1)))
C8: =IF(B8="","",VALUE(LEFT(B8,FIND(":",B8)-1)))
C9: =IF(B9="","",VALUE(LEFT(B9,FIND(":",B9)-1)))
C10: =IF(B10="","",VALUE(LEFT(B10,FIND(":",B10)-1)))
C11: =IF(B11="","",VALUE(LEFT(B11,FIND(":",B11)-1)))
C12: =IF(B12="","",VALUE(LEFT(B12,FIND(":",B12)-1)))
C13: =IF(B13="","",VALUE(LEFT(B13,FIND(":",B13)-1)))
C14: =IF(B14="","",VALUE(LEFT(B14,FIND(":",B14)-1)))
... C1000: =IF(B1000="","",VALUE(LEFT(B1000,FIND(":",B1000)-1)))

Sheet Erosion_L
A1: User_Code | B1: KIND_Display | C1: KIND | D1: Notes
A2: EROSIONALS_001 | C2: =IF(B2="","",VALUE(LEFT(B2,FIND(":",B2)-1)))
C3: =IF(B3="","",VALUE(LEFT(B3,FIND(":",B3)-1)))
C4: =IF(B4="","",VALUE(LEFT(B4,FIND(":",B4)-1)))
C5: =IF(B5="","",VALUE(LEFT(B5,FIND(":",B5)-1)))
C6: =IF(B6="","",VALUE(LEFT(B6,FIND(":",B6)-1)))
C7: =IF(B7="","",VALUE(LEFT(B7,FIND(":",B7)-1)))
C8: =IF(B8="","",VALUE(LEFT(B8,FIND(":",B8)-1)))
C9: =IF(B9="","",VALUE(LEFT(B9,FIND(":",B9)-1)))
C10: =IF(B10="","",VALUE(LEFT(B10,FIND(":",B10)-1)))
C11: =IF(B11="","",VALUE(LEFT(B11,FIND(":",B11)-1)))
C12: =IF(B12="","",VALUE(LEFT(B12,FIND(":",B12)-1)))
C13: =IF(B13="","",VALUE(LEFT(B13,FIND(":",B13)-1)))
C14: =IF(B14="","",VALUE(LEFT(B14,FIND(":",B14)-1)))
... C1000: =IF(B1000="","",VALUE(LEFT(B1000,FIND(":",B1000)-1)))

Sheet Karst_PT
A1: User_Code | B1: KIND_Display | C1: KIND | D1: Notes
A2: KARSTICSTR_001 | C2: =IF(B2="","",VALUE(LEFT(B2,FIND(":",B2)-1)))
C3: =IF(B3="","",VALUE(LEFT(B3,FIND(":",B3)-1)))
C4: =IF(B4="","",VALUE(LEFT(B4,FIND(":",B4)-1)))
C5: =IF(B5="","",VALUE(LEFT(B5,FIND(":",B5)-1)))
C6: =IF(B6="","",VALUE(LEFT(B6,FIND(":",B6)-1)))
C7: =IF(B7="","",VALUE(LEFT(B7,FIND(":",B7)-1)))
C8: =IF(B8="","",VALUE(LEFT(B8,FIND(":",B8)-1)))
C9: =IF(B9="","",VALUE(LEFT(B9,FIND(":",B9)-1)))
C10: =IF(B10="","",VALUE(LEFT(B10,FIND(":",B10)-1)))
C11: =IF(B11="","",VALUE(LEFT(B11,FIND(":",B11)-1)))
C12: =IF(B12="","",VALUE(LEFT(B12,FIND(":",B12)-1)))
C13: =IF(B13="","",VALUE(LEFT(B13,FIND(":",B13)-1)))
C14: =IF(B14="","",VALUE(LEFT(B14,FIND(":",B14)-1)))
... C1000: =IF(B1000="","",VALUE(LEFT(B1000,FIND(":",B1000)-1)))

Sheet Karst_PLG
A1: User_Code | B1: KIND_Display | C1: KIND | D1: Notes
A2: KARSTICSTR_001 | C2: =IF(B2="","",VALUE(LEFT(B2,FIND(":",B2)-1)))
C3: =IF(B3="","",VALUE(LEFT(B3,FIND(":",B3)-1)))
C4: =IF(B4="","",VALUE(LEFT(B4,FIND(":",B4)-1)))
C5: =IF(B5="","",VALUE(LEFT(B5,FIND(":",B5)-1)))
C6: =IF(B6="","",VALUE(LEFT(B6,FIND(":",B6)-1)))
C7: =IF(B7="","",VALUE(LEFT(B7,FIND(":",B7)-1)))
C8: =IF(B8="","",VALUE(LEFT(B8,FIND(":",B8)-1)))
C9: =IF(B9="","",VALUE(LEFT(B9,FIND(":",B9)-1)))
C10: =IF(B10="","",VALUE(LEFT(B10,FIND(":",B10)-1)))
C11: =IF(B11="","",VALUE(LEFT(B11,FIND(":",B11)-1)))
C12: =IF(B12="","",VALUE(LEFT(B12,FIND(":",B12)-1)))
C13: =IF(B13="","",VALUE(LEFT(B13,FIND(":",B13)-1)))
C14: =IF(B14="","",VALUE(LEFT(B14,FIND(":",B14)-1)))
... C1000: =IF(B1000="","",VALUE(LEFT(B1000,FIND(":",B1000)-1)))

Sheet Alluvial_and_Lacustrine_Structu
A1: User_Code | B1: KIND_Display | C1: KIND | D1: GALL_AGE_Display | E1: GALL_AGE | F1: Notes
A2: ALLUVIALAN_001 | C2: =IF(B2="","",VALUE(LEFT(B2,FIND(":",B2)-1))) | E2: =IF(D2="","",VALUE(LEFT(D2,FIND(":",D2)-1)))
C3: =IF(B3="","",VALUE(LEFT(B3,FIND(":",B3)-1))) | E3: =IF(D3="","",VALUE(LEFT(D3,FIND(":",D3)-1)))
C4: =IF(B4="","",VALUE(LEFT(B4,FIND(":",B4)-1))) | E4: =IF(D4="","",VALUE(LEFT(D4,FIND(":",D4)-1)))
C5: =IF(B5="","",VALUE(LEFT(B5,FIND(":",B5)-1))) | E5: =IF(D5="","",VALUE(LEFT(D5,FIND(":",D5)-1)))
C6: =IF(B6="","",VALUE(LEFT(B6,FIND(":",B6)-1))) | E6: =IF(D6="","",VALUE(LEFT(D6,FIND(":",D6)-1)))
C7: =IF(B7="","",VALUE(LEFT(B7,FIND(":",B7)-1))) | E7: =IF(D7="","",VALUE(LEFT(D7,FIND(":",D7)-1)))
C8: =IF(B8="","",VALUE(LEFT(B8,FIND(":",B8)-1))) | E8: =IF(D8="","",VALUE(LEFT(D8,FIND(":",D8)-1)))
C9: =IF(B9="","",VALUE(LEFT(B9,FIND(":",B9)-1))) | E9: =IF(D9="","",VALUE(LEFT(D9,FIND(":",D9)-1)))
C10: =IF(B10="","",VALUE(LEFT(B10,FIND(":",B10)-1))) | E10: =IF(D10="","",VALUE(LEFT(D10,FIND(":",D10)-1)))
C11: =IF(B11="","",VALUE(LEFT(B11,FIND(":",B11)-1))) | E11: =IF(D11="","",VALUE(LEFT(D11,FIND(":",D11)-1)))
C12: =IF(B12="","",VALUE(LEFT(B12,FIND(":",B12)-1))) | E12: =IF(D12="","",VALUE(LEFT(D12,FIND(":",D12)-1)))
C13: =IF(B13="","",VALUE(LEFT(B13,FIND(":",B13)-1))) | E13: =IF(D13="","",VALUE(LEFT(D13,FIND(":",D13)-1)))
C14: =IF(B14="","",VALUE(LEFT(B14,FIND(":",B14)-1))) | E14: =IF(D14="","",VALUE(LEFT(D14,FIND(":",D14)-1)))
... C1000: =IF(B1000="","",VALUE(LEFT(B1000,FIND(":",B1000)-1))) | E1000: =IF(D1000="","",VALUE(LEFT(D1000,FIND(":",D1000)-1)))

Sheet Deformation_PT
A1: User_Code | B1: KIND_Display | C1: KIND | D1: TDEF_FOLD_TYP_Display | E1: TDEF_FOLD_TYP | F1: TDEF_FOLD_FOR_Display | G1: TDEF_FOLD_FOR | H1: Notes
A2: DEFORMATIO_001 | C2: =IF(B2="","",VALUE(LEFT(B2,FIND(":",B2)-1))) | E2: =IF(D2="","",VALUE(LEFT(D2,FIND(":",D2)-1))) | G2: =IF(F2="","",VALUE(LEFT(F2,FIND(":",F2)-1)))
C3: =IF(B3="","",VALUE(LEFT(B3,FIND(":",B3)-1))) | E3: =IF(D3="","",VALUE(LEFT(D3,FIND(":",D3)-1))) | G3: =IF(F3="","",VALUE(LEFT(F3,FIND(":",F3)-1)))
C4: =IF(B4="","",VALUE(LEFT(B4,FIND(":",B4)-1))) | E4: =IF(D4="","",VALUE(LEFT(D4,FIND(":",D4)-1))) | G4: =IF(F4="","",VALUE(LEFT(F4,FIND(":",F4)-1)))
C5: =IF(B5="","",VALUE(LEFT(B5,FIND(":",B5)-1))) | E5: =IF(D5="","",VALUE(LEFT(D5,FIND(":",D5)-1))) | G5: =IF(F5="","",VALUE(LEFT(F5,FIND(":",F5)-1)))
C6: =IF(B6="","",VALUE(LEFT(B6,FIND(":",B6)-1))) | E6: =IF(D6="","",VALUE(LEFT(D6,FIND(":",D6)-1))) | G6: =IF(F6="","",VALUE(LEFT(F6,FIND(":",F6)-1)))
C7: =IF(B7="","",VALUE(LEFT(B7,FIND(":",B7)-1))) | E7: =IF(D7="","",VALUE(LEFT(D7,FIND(":",D7)-1))) | G7: =IF(F7="","",VALUE(LEFT(F7,FIND(":",F7)-1)))
C8: =IF(B8="","",VALUE(LEFT(B8,FIND(":",B8)-1))) | E8: =IF(D8="","",VALUE(LEFT(D8,FIND(":",D8)-1))) | G8: =IF(F8="","",VALUE(LEFT(F8,FIND(":",F8)-1)))
C9: =IF(B9="","",VALUE(LEFT(B9,FIND(":",B9)-1))) | E9: =IF(D9="","",VALUE(LEFT(D9,FIND(":",D9)-1))) | G9: =IF(F9="","",VALUE(LEFT(F9,FIND(":",F9)-1)))
C10: =IF(B10="","",VALUE(LEFT(B10,FIND(":",B10)-1))) | E10: =IF(D10="","",VALUE(LEFT(D10,FIND(":",D10)-1))) | G10: =IF(F10="","",VALUE(LEFT(F10,FIND(":",F10)-1)))
C11: =IF(B11="","",VALUE(LEFT(B11,FIND(":",B11)-1))) | E11: =IF(D11="","",VALUE(LEFT(D11,FIND(":",D11)-1))) | G11: =IF(F11="","",VALUE(LEFT(F11,FIND(":",F11)-1)))
C12: =IF(B12="","",VALUE(LEFT(B12,FIND(":",B12)-1))) | E12: =IF(D12="","",VALUE(LEFT(D12,FIND(":",D12)-1))) | G12: =IF(F12="","",VALUE(LEFT(F12,FIND(":",F12)-1)))
C13: =IF(B13="","",VALUE(LEFT(B13,FIND(":",B13)-1))) | E13: =IF(D13="","",VALUE(LEFT(D13,FIND(":",D13)-1))) | G13: =IF(F13="","",VALUE(LEFT(F13,FIND(":",F13)-1)))
C14: =IF(B14="","",VALUE(LEFT(B14,FIND(":",B14)-1))) | E14: =IF(D14="","",VALUE(LEFT(D14,FIND(":",D14)-1))) | G14: =IF(F14="","",VALUE(LEFT(F14,FIND(":",F14)-1)))
... C1000: =IF(B1000="","",VALUE(LEFT(B1000,FIND(":",B1000)-1))) | E1000: =IF(D1000="","",VALUE(LEFT(D1000,FIND(":",D1000)-1))) | G1000: =IF(F1000="","",VALUE(LEFT(F1000,FIND(":",F1000)-1)))

Sheet Deformation_L
A1: User_Code | B1: KIND_Display | C1: KIND | D1: Notes
A2: DEFORMATIO_001 | C2: =IF(B2="","",VALUE(LEFT(B2,FIND(":",B2)-1)))
C3: =IF(B3="","",VALUE(LEFT(B3,FIND(":",B3)-1)))
C4: =IF(B4="","",VALUE(LEFT(B4,FIND(":",B4)-1)))
C5: =IF(B5="","",VALUE(LEFT(B5,FIND(":",B5)-1)))
C6: =IF(B6="","",VALUE(LEFT(B6,FIND(":",B6)-1)))
C7: =IF(B7="","",VALUE(LEFT(B7,FIND(":",B7)-1)))
C8: =IF(B8="","",VALUE(LEFT(B8,FIND(":",B8)-1)))
C9: =IF(B9="","",VALUE(LEFT(B9,FIND(":",B9)-1)))
C10: =IF(B10="","",VALUE(LEFT(B10,FIND(":",B10)-1)))
C11: =IF(B11="","",VALUE(LEFT(B11,FIND(":",B11)-1)))
C12: =IF(B12="","",VALUE(LEFT(B12,FIND(":",B12)-1)))
C13: =IF(B13="","",VALUE(LEFT(B13,FIND(":",B13)-1)))
C14: =IF(B14="","",VALUE(LEFT(B14,FIND(":",B14)-1)))
... C1000: =IF(B1000="","",VALUE(LEFT(B1000,FIND(":",B1000)-1)))

Sheet Deformation_PLG
A1: User_Code | B1: KIND_Display | C1: KIND | D1: TYPE_Display | E1: TYPE | F1: Notes
A2: DEFORMATIO_001 | C2: =IF(B2="","",VALUE(LEFT(B2,FIND(":",B2)-1))) | E2: =IF(D2="","",VALUE(LEFT(D2,FIND(":",D2)-1)))
C3: =IF(B3="","",VALUE(LEFT(B3,FIND(":",B3)-1))) | E3: =IF(D3="","",VALUE(LEFT(D3,FIND(":",D3)-1)))
C4: =IF(B4="","",VALUE(LEFT(B4,FIND(":",B4)-1))) | E4: =IF(D4="","",VALUE(LEFT(D4,FIND(":",D4)-1)))
C5: =IF(B5="","",VALUE(LEFT(B5,FIND(":",B5)-1))) | E5: =IF(D5="","",VALUE(LEFT(D5,FIND(":",D5)-1)))
C6: =IF(B6="","",VALUE(LEFT(B6,FIND(":",B6)-1))) | E6: =IF(D6="","",VALUE(LEFT(D6,FIND(":",D6)-1)))
C7: =IF(B7="","",VALUE(LEFT(B7,FIND(":",B7)-1))) | E7: =IF(D7="","",VALUE(LEFT(D7,FIND(":",D7)-1)))
C8: =IF(B8="","",VALUE(LEFT(B8,FIND(":",B8)-1))) | E8: =IF(D8="","",VALUE(LEFT(D8,FIND(":",D8)-1)))
C9: =IF(B9="","",VALUE(LEFT(B9,FIND(":",B9)-1))) | E9: =IF(D9="","",VALUE(LEFT(D9,FIND(":",D9)-1)))
C10: =IF(B10="","",VALUE(LEFT(B10,FIND(":",B10)-1))) | E10: =IF(D10="","",VALUE(LEFT(D10,FIND(":",D10)-1)))
C11: =IF(B11="","",VALUE(LEFT(B11,FIND(":",B11)-1))) | E11: =IF(D11="","",VALUE(LEFT(D11,FIND(":",D11)-1)))
C12: =IF(B12="","",VALUE(LEFT(B12,FIND(":",B12)-1))) | E12: =IF(D12="","",VALUE(LEFT(D12,FIND(":",D12)-1)))
C13: =IF(B13="","",VALUE(LEFT(B13,FIND(":",B13)-1))) | E13: =IF(D13="","",VALUE(LEFT(D13,FIND(":",D13)-1)))
C14: =IF(B14="","",VALUE(LEFT(B14,FIND(":",B14)-1))) | E14: =IF(D14="","",VALUE(LEFT(D14,FIND(":",D14)-1)))
... C1000: =IF(B1000="","",VALUE(LEFT(B1000,FIND(":",B1000)-1))) | E1000: =IF(D1000="","",VALUE(LEFT(D1000,FIND(":",D1000)-1)))

Sheet Tectonic_L
A1: User_Code | B1: KIND_Display | C1: KIND | D1: TTEC_FAULT_MO_Display | E1: TTEC_FAULT_MO | F1: TTECT_VERTI_MO_Display | G1: TTECT_VERTI_MO | H1: TTEC_HORIZ_MO_Display | I1: TTEC_HORIZ_MO | J1: TTEC_LIM_TYP_Display | K1: TTEC_LIM_TYP | L1: HIERA_Display | M1: HIERA | N1: STATUS_Display | O1: STATUS | P1: META_STA_Display | Q1: META_STA | R1: Notes
A2: TECTONICBO_001 | C2: =IF(B2="","",VALUE(LEFT(B2,FIND(":",B2)-1))) | E2: =IF(D2="","",VALUE(LEFT(D2,FIND(":",D2)-1))) | G2: =IF(F2="","",VALUE(LEFT(F2,FIND(":",F2)-1))) | I2: =IF(H2="","",VALUE(LEFT(H2,FIND(":",H2)-1))) | K2: =IF(J2="","",VALUE(LEFT(J2,FIND(":",J2)-1))) | M2: =IF(L2="","",VALUE(LEFT(L2,FIND(":",L2)-1))) | O2: =IF(N2="","",VALUE(LEFT(N2,FIND(":",N2)-1))) | Q2: =IF(P2="","",VALUE(LEFT(P2,FIND(":",P2)-1)))
C3: =IF(B3="","",VALUE(LEFT(B3,FIND(":",B3)-1))) | E3: =IF(D3="","",VALUE(LEFT(D3,FIND(":",D3)-1))) | G3: =IF(F3="","",VALUE(LEFT(F3,FIND(":",F3)-1))) | I3: =IF(H3="","",VALUE(LEFT(H3,FIND(":",H3)-1))) | K3: =IF(J3="","",VALUE(LEFT(J3,FIND(":",J3)-1))) | M3: =IF(L3="","",VALUE(LEFT(L3,FIND(":",L3)-1))) | O3: =IF(N3="","",VALUE(LEFT(N3,FIND(":",N3)-1))) | Q3: =IF(P3="","",VALUE(LEFT(P3,FIND(":",P3)-1)))
C4: =IF(B4="","",VALUE(LEFT(B4,FIND(":",B4)-1))) | E4: =IF(D4="","",VALUE(LEFT(D4,FIND(":",D4)-1))) | G4: =IF(F4="","",VALUE(LEFT(F4,FIND(":",F4)-1))) | I4: =IF(H4="","",VALUE(LEFT(H4,FIND(":",H4)-1))) | K4: =IF(J4="","",VALUE(LEFT(J4,FIND(":",J4)-1))) | M4: =IF(L4="","",VALUE(LEFT(L4,FIND(":",L4)-1))) | O4: =IF(N4="","",VALUE(LEFT(N4,FIND(":",N4)-1))) | Q4: =IF(P4="","",VALUE(LEFT(P4,FIND(":",P4)-1)))
C5: =IF(B5="","",VALUE(LEFT(B5,FIND(":",B5)-1))) | E5: =IF(D5="","",VALUE(LEFT(D5,FIND(":",D5)-1))) | G5: =IF(F5="","",VALUE(LEFT(F5,FIND(":",F5)-1))) | I5: =IF(H5="","",VALUE(LEFT(H5,FIND(":",H5)-1))) | K5: =IF(J5="","",VALUE(LEFT(J5,FIND(":",J5)-1))) | M5: =IF(L5="","",VALUE(LEFT(L5,FIND(":",L5)-1))) | O5: =IF(N5="","",VALUE(LEFT(N5,FIND(":",N5)-1))) | Q5: =IF(P5="","",VALUE(LEFT(P5,FIND(":",P5)-1)))
C6: =IF(B6="","",VALUE(LEFT(B6,FIND(":",B6)-1))) | E6: =IF(D6="","",VALUE(LEFT(D6,FIND(":",D6)-1))) | G6: =IF(F6="","",VALUE(LEFT(F6,FIND(":",F6)-1))) | I6: =IF(H6="","",VALUE(LEFT(H6,FIND(":",H6)-1))) | K6: =IF(J6="","",VALUE(LEFT(J6,FIND(":",J6)-1))) | M6: =IF(L6="","",VALUE(LEFT(L6,FIND(":",L6)-1))) | O6: =IF(N6="","",VALUE(LEFT(N6,FIND(":",N6)-1))) | Q6: =IF(P6="","",VALUE(LEFT(P6,FIND(":",P6)-1)))
C7: =IF(B7="","",VALUE(LEFT(B7,FIND(":",B7)-1))) | E7: =IF(D7="","",VALUE(LEFT(D7,FIND(":",D7)-1))) | G7: =IF(F7="","",VALUE(LEFT(F7,FIND(":",F7)-1))) | I7: =IF(H7="","",VALUE(LEFT(H7,FIND(":",H7)-1))) | K7: =IF(J7="","",VALUE(LEFT(J7,FIND(":",J7)-1))) | M7: =IF(L7="","",VALUE(LEFT(L7,FIND(":",L7)-1))) | O7: =IF(N7="","",VALUE(LEFT(N7,FIND(":",N7)-1))) | Q7: =IF(P7="","",VALUE(LEFT(P7,FIND(":",P7)-1)))
C8: =IF(B8="","",VALUE(LEFT(B8,FIND(":",B8)-1))) | E8: =IF(D8="","",VALUE(LEFT(D8,FIND(":",D8)-1))) | G8: =IF(F8="","",VALUE(LEFT(F8,FIND(":",F8)-1))) | I8: =IF(H8="","",VALUE(LEFT(H8,FIND(":",H8)-1))) | K8: =IF(J8="","",VALUE(LEFT(J8,FIND(":",J8)-1))) | M8: =IF(L8="","",VALUE(LEFT(L8,FIND(":",L8)-1))) | O8: =IF(N8="","",VALUE(LEFT(N8,FIND(":",N8)-1))) | Q8: =IF(P8="","",VALUE(LEFT(P8,FIND(":",P8)-1)))
C9: =IF(B9="","",VALUE(LEFT(B9,FIND(":",B9)-1))) | E9: =IF(D9="","",VALUE(LEFT(D9,FIND(":",D9)-1))) | G9: =IF(F9="","",VALUE(LEFT(F9,FIND(":",F9)-1))) | I9: =IF(H9="","",VALUE(LEFT(H9,FIND(":",H9)-1))) | K9: =IF(J9="","",VALUE(LEFT(J9,FIND(":",J9)-1))) | M9: =IF(L9="","",VALUE(LEFT(L9,FIND(":",L9)-1))) | O9: =IF(N9="","",VALUE(LEFT(N9,FIND(":",N9)-1))) | Q9: =IF(P9="","",VALUE(LEFT(P9,FIND(":",P9)-1)))
C10: =IF(B10="","",VALUE(LEFT(B10,FIND(":",B10)-1))) | E10: =IF(D10="","",VALUE(LEFT(D10,FIND(":",D10)-1))) | G10: =IF(F10="","",VALUE(LEFT(F10,FIND(":",F10)-1))) | I10: =IF(H10="","",VALUE(LEFT(H10,FIND(":",H10)-1))) | K10: =IF(J10="","",VALUE(LEFT(J10,FIND(":",J10)-1))) | M10: =IF(L10="","",VALUE(LEFT(L10,FIND(":",L10)-1))) | O10: =IF(N10="","",VALUE(LEFT(N10,FIND(":",N10)-1))) | Q10: =IF(P10="","",VALUE(LEFT(P10,FIND(":",P10)-1)))
C11: =IF(B11="","",VALUE(LEFT(B11,FIND(":",B11)-1))) | E11: =IF(D11="","",VALUE(LEFT(D11,FIND(":",D11)-1))) | G11: =IF(F11="","",VALUE(LEFT(F11,FIND(":",F11)-1))) | I11: =IF(H11="","",VALUE(LEFT(H11,FIND(":",H11)-1))) | K11: =IF(J11="","",VALUE(LEFT(J11,FIND(":",J11)-1))) | M11: =IF(L11="","",VALUE(LEFT(L11,FIND(":",L11)-1))) | O11: =IF(N11="","",VALUE(LEFT(N11,FIND(":",N11)-1))) | Q11: =IF(P11="","",VALUE(LEFT(P11,FIND(":",P11)-1)))
C12: =IF(B12="","",VALUE(LEFT(B12,FIND(":",B12)-1))) | E12: =IF(D12="","",VALUE(LEFT(D12,FIND(":",D12)-1))) | G12: =IF(F12="","",VALUE(LEFT(F12,FIND(":",F12)-1))) | I12: =IF(H12="","",VALUE(LEFT(H12,FIND(":",H12)-1))) | K12: =IF(J12="","",VALUE(LEFT(J12,FIND(":",J12)-1))) | M12: =IF(L12="","",VALUE(LEFT(L12,FIND(":",L12)-1))) | O12: =IF(N12="","",VALUE(LEFT(N12,FIND(":",N12)-1))) | Q12: =IF(P12="","",VALUE(LEFT(P12,FIND(":",P12)-1)))
C13: =IF(B13="","",VALUE(LEFT(B13,FIND(":",B13)-1))) | E13: =IF(D13="","",VALUE(LEFT(D13,FIND(":",D13)-1))) | G13: =IF(F13="","",VALUE(LEFT(F13,FIND(":",F13)-1))) | I13: =IF(H13="","",VALUE(LEFT(H13,FIND(":",H13)-1))) | K13: =IF(J13="","",VALUE(LEFT(J13,FIND(":",J13)-1))) | M13: =IF(L13="","",VALUE(LEFT(L13,FIND(":",L13)-1))) | O13: =IF(N13="","",VALUE(LEFT(N13,FIND(":",N13)-1))) | Q13: =IF(P13="","",VALUE(LEFT(P13,FIND(":",P13)-1)))
C14: =IF(B14="","",VALUE(LEFT(B14,FIND(":",B14)-1))) | E14: =IF(D14="","",VALUE(LEFT(D14,FIND(":",D14)-1))) | G14: =IF(F14="","",VALUE(LEFT(F14,FIND(":",F14)-1))) | I14: =IF(H14="","",VALUE(LEFT(H14,FIND(":",H14)-1))) | K14: =IF(J14="","",VALUE(LEFT(J14,FIND(":",J14)-1))) | M14: =IF(L14="","",VALUE(LEFT(L14,FIND(":",L14)-1))) | O14: =IF(N14="","",VALUE(LEFT(N14,FIND(":",N14)-1))) | Q14: =IF(P14="","",VALUE(LEFT(P14,FIND(":",P14)-1)))
... C1000: =IF(B1000="","",VALUE(LEFT(B1000,FIND(":",B1000)-1))) | E1000: =IF(D1000="","",VALUE(LEFT(D1000,FIND(":",D1000)-1))) | G1000: =IF(F1000="","",VALUE(LEFT(F1000,FIND(":",F1000)-1))) | I1000: =IF(H1000="","",VALUE(LEFT(H1000,FIND(":",H1000)-1))) | K1000: =IF(J1000="","",VALUE(LEFT(J1000,FIND(":",J1000)-1))) | M1000: =IF(L1000="","",VALUE(LEFT(L1000,FIND(":",L1000)-1))) | O1000: =IF(N1000="","",VALUE(LEFT(N1000,FIND(":",N1000)-1))) | Q1000: =IF(P1000="","",VALUE(LEFT(P1000,FIND(":",P1000)-1)))

Sheet Folds_PT
A1: User_Code | B1: KIND_Display | C1: KIND | D1: MFOL_FOLD_TYP_Display | E1: MFOL_FOLD_TYP | F1: FOLD_FOR_Display | G1: FOLD_FOR | H1: MFOL_PHASE_Display | I1: MFOL_PHASE | J1: Notes
A2: FOLDSPT_001 | C2: =IF(B2="","",VALUE(LEFT(B2,FIND(":",B2)-1))) | E2: =IF(D2="","",VALUE(LEFT(D2,FIND(":",D2)-1))) | G2: =IF(F2="","",VALUE(LEFT(F2,FIND(":",F2)-1))) | I2: =IF(H2="","",VALUE(LEFT(H2,FIND(":",H2)-1)))
C3: =IF(B3="","",VALUE(LEFT(B3,FIND(":",B3)-1))) | E3: =IF(D3="","",VALUE(LEFT(D3,FIND(":",D3)-1))) | G3: =IF(F3="","",VALUE(LEFT(F3,FIND(":",F3)-1))) | I3: =IF(H3="","",VALUE(LEFT(H3,FIND(":",H3)-1)))
C4: =IF(B4="","",VALUE(LEFT(B4,FIND(":",B4)-1))) | E4: =IF(D4="","",VALUE(LEFT(D4,FIND(":",D4)-1))) | G4: =IF(F4="","",VALUE(LEFT(F4,FIND(":",F4)-1))) | I4: =IF(H4="","",VALUE(LEFT(H4,FIND(":",H4)-1)))
C5: =IF(B5="","",VALUE(LEFT(B5,FIND(":",B5)-1))) | E5: =IF(D5="","",VALUE(LEFT(D5,FIND(":",D5)-1))) | G5: =IF(F5="","",VALUE(LEFT(F5,FIND(":",F5)-1))) | I5: =IF(H5="","",VALUE(LEFT(H5,FIND(":",H5)-1)))
C6: =IF(B6="","",VALUE(LEFT(B6,FIND(":",B6)-1))) | E6: =IF(D6="","",VALUE(LEFT(D6,FIND(":",D6)-1))) | G6: =IF(F6="","",VALUE(LEFT(F6,FIND(":",F6)-1))) | I6: =IF(H6="","",VALUE(LEFT(H6,FIND(":",H6)-1)))
C7: =IF(B7="","",VALUE(LEFT(B7,FIND(":",B7)-1))) | E7: =IF(D7="","",VALUE(LEFT(D7,FIND(":",D7)-1))) | G7: =IF(F7="","",VALUE(LEFT(F7,FIND(":",F7)-1))) | I7: =IF(H7="","",VALUE(LEFT(H7,FIND(":",H7)-1)))
C8: =IF(B8="","",VALUE(LEFT(B8,FIND(":",B8)-1))) | E8: =IF(D8="","",VALUE(LEFT(D8,FIND(":",D8)-1))) | G8: =IF(F8="","",VALUE(LEFT(F8,FIND(":",F8)-1))) | I8: =IF(H8="","",VALUE(LEFT(H8,FIND(":",H8)-1)))
C9: =IF(B9="","",VALUE(LEFT(B9,FIND(":",B9)-1))) | E9: =IF(D9="","",VALUE(LEFT(D9,FIND(":",D9)-1))) | G9: =IF(F9="","",VALUE(LEFT(F9,FIND(":",F9)-1))) | I9: =IF(H9="","",VALUE(LEFT(H9,FIND(":",H9)-1)))
C10: =IF(B10="","",VALUE(LEFT(B10,FIND(":",B10)-1))) | E10: =IF(D10="","",VALUE(LEFT(D10,FIND(":",D10)-1))) | G10: =IF(F10="","",VALUE(LEFT(F10,FIND(":",F10)-1))) | I10: =IF(H10="","",VALUE(LEFT(H10,FIND(":",H10)-1)))
C11: =IF(B11="","",VALUE(LEFT(B11,FIND(":",B11)-1))) | E11: =IF(D11="","",VALUE(LEFT(D11,FIND(":",D11)-1))) | G11: =IF(F11="","",VALUE(LEFT(F11,FIND(":",F11)-1))) | I11: =IF(H11="","",VALUE(LEFT(H11,FIND(":",H11)-1)))
C12: =IF(B12="","",VALUE(LEFT(B12,FIND(":",B12)-1))) | E12: =IF(D12="","",VALUE(LEFT(D12,FIND(":",D12)-1))) | G12: =IF(F12="","",VALUE(LEFT(F12,FIND(":",F12)-1))) | I12: =IF(H12="","",VALUE(LEFT(H12,FIND(":",H12)-1)))
C13: =IF(B13="","",VALUE(LEFT(B13,FIND(":",B13)-1))) | E13: =IF(D13="","",VALUE(LEFT(D13,FIND(":",D13)-1))) | G13: =IF(F13="","",VALUE(LEFT(F13,FIND(":",F13)-1))) | I13: =IF(H13="","",VALUE(LEFT(H13,FIND(":",H13)-1)))
C14: =IF(B14="","",VALUE(LEFT(B14,FIND(":",B14)-1))) | E14: =IF(D14="","",VALUE(LEFT(D14,FIND(":",D14)-1))) | G14: =IF(F14="","",VALUE(LEFT(F14,FIND(":",F14)-1))) | I14: =IF(H14="","",VALUE(LEFT(H14,FIND(":",H14)-1)))
... C1000: =IF(B1000="","",VALUE(LEFT(B1000,FIND(":",B1000)-1))) | E1000: =IF(D1000="","",VALUE(LEFT(D1000,FIND(":",D1000)-1))) | G1000: =IF(F1000="","",VALUE(LEFT(F1000,FIND(":",F1000)-1))) | I1000: =IF(H1000="","",VALUE(LEFT(H1000,FIND(":",H1000)-1)))

Sheet Lineation_PT
A1: User_Code | B1: KIND_Display | C1: KIND | D1: Notes
A2: LINEATIONP_001 | C2: =IF(B2="","",VALUE(LEFT(B2,FIND(":",B2)-1)))
C3: =IF(B3="","",VALUE(LEFT(B3,FIND(":",B3)-1)))
C4: =IF(B4="","",VALUE(LEFT(B4,FIND(":",B4)-1)))
C5: =IF(B5="","",VALUE(LEFT(B5,FIND(":",B5)-1)))
C6: =IF(B6="","",VALUE(LEFT(B6,FIND(":",B6)-1)))
C7: =IF(B7="","",VALUE(LEFT(B7,FIND(":",B7)-1)))
C8: =IF(B8="","",VALUE(LEFT(B8,FIND(":",B8)-1)))
C9: =IF(B9="","",VALUE(LEFT(B9,FIND(":",B9)-1)))
C10: =IF(B10="","",VALUE(LEFT(B10,FIND(":",B10)-1)))
C11: =IF(B11="","",VALUE(LEFT(B11,FIND(":",B11)-1)))
C12: =IF(B12="","",VALUE(LEFT(B12,FIND(":",B12)-1)))
C13: =IF(B13="","",VALUE(LEFT(B13,FIND(":",B13)-1)))
C14: =IF(B14="","",VALUE(LEFT(B14,FIND(":",B14)-1)))
... C1000: =IF(B1000="","",VALUE(LEFT(B1000,FIND(":",B1000)-1)))

Sheet Planar_PT
A1: User_Code | B1: KIND_Display | C1: KIND | D1: MPLA_POLARITY_Display | E1: MPLA_POLARITY | F1: MPLA_PHASE_Display | G1: MPLA_PHASE | H1: Notes
A2: PLANARSTRU_001 | C2: =IF(B2="","",VALUE(LEFT(B2,FIND(":",B2)-1))) | E2: =IF(D2="","",VALUE(LEFT(D2,FIND(":",D2)-1))) | G2: =IF(F2="","",VALUE(LEFT(F2,FIND(":",F2)-1)))
C3: =IF(B3="","",VALUE(LEFT(B3,FIND(":",B3)-1))) | E3: =IF(D3="","",VALUE(LEFT(D3,FIND(":",D3)-1))) | G3: =IF(F3="","",VALUE(LEFT(F3,FIND(":",F3)-1)))
C4: =IF(B4="","",VALUE(LEFT(B4,FIND(":",B4)-1))) | E4: =IF(D4="","",VALUE(LEFT(D4,FIND(":",D4)-1))) | G4: =IF(F4="","",VALUE(LEFT(F4,FIND(":",F4)-1)))
C5: =IF(B5="","",VALUE(LEFT(B5,FIND(":",B5)-1))) | E5: =IF(D5="","",VALUE(LEFT(D5,FIND(":",D5)-1))) | G5: =IF(F5="","",VALUE(LEFT(F5,FIND(":",F5)-1)))
C6: =IF(B6="","",VALUE(LEFT(B6,FIND(":",B6)-1))) | E6: =IF(D6="","",VALUE(LEFT(D6,FIND(":",D6)-1))) | G6: =IF(F6="","",VALUE(LEFT(F6,FIND(":",F6)-1)))
C7: =IF(B7="","",VALUE(LEFT(B7,FIND(":",B7)-1))) | E7: =IF(D7="","",VALUE(LEFT(D7,FIND(":",D7)-1))) | G7: =IF(F7="","",VALUE(LEFT(F7,FIND(":",F7)-1)))
C8: =IF(B8="","",VALUE(LEFT(B8,FIND(":",B8)-1))) | E8: =IF(D8="","",VALUE(LEFT(D8,FIND(":",D8)-1))) | G8: =IF(F8="","",VALUE(LEFT(F8,FIND(":",F8)-1)))
C9: =IF(B9="","",VALUE(LEFT(B9,FIND(":",B9)-1))) | E9: =IF(D9="","",VALUE(LEFT(D9,FIND(":",D9)-1))) | G9: =IF(F9="","",VALUE(LEFT(F9,FIND(":",F9)-1)))
C10: =IF(B10="","",VALUE(LEFT(B10,FIND(":",B10)-1))) | E10: =IF(D10="","",VALUE(LEFT(D10,FIND(":",D10)-1))) | G10: =IF(F10="","",VALUE(LEFT(F10,FIND(":",F10)-1)))
C11: =IF(B11="","",VALUE(LEFT(B11,FIND(":",B11)-1))) | E11: =IF(D11="","",VALUE(LEFT(D11,FIND(":",D11)-1))) | G11: =IF(F11="","",VALUE(LEFT(F11,FIND(":",F11)-1)))
C12: =IF(B12="","",VALUE(LEFT(B12,FIND(":",B12)-1))) | E12: =IF(D12="","",VALUE(LEFT(D12,FIND(":",D12)-1))) | G12: =IF(F12="","",VALUE(LEFT(F12,FIND(":",F12)-1)))
C13: =IF(B13="","",VALUE(LEFT(B13,FIND(":",B13)-1))) | E13: =IF(D13="","",VALUE(LEFT(D13,FIND(":",D13)-1))) | G13: =IF(F13="","",VALUE(LEFT(F13,FIND(":",F13)-1)))
C14: =IF(B14="","",VALUE(LEFT(B14,FIND(":",B14)-1))) | E14: =IF(D14="","",VALUE(LEFT(D14,FIND(":",D14)-1))) | G14: =IF(F14="","",VALUE(LEFT(F14,FIND(":",F14)-1)))
... C1000: =IF(B1000="","",VALUE(LEFT(B1000,FIND(":",B1000)-1))) | E1000: =IF(D1000="","",VALUE(LEFT(D1000,FIND(":",D1000)-1))) | G1000: =IF(F1000="","",VALUE(LEFT(F1000,FIND(":",F1000)-1)))

Sheet Anomaly_PT
A1: User_Code | B1: KIND_Display | C1: KIND | D1: LANO_TYPE_Display | E1: LANO_TYPE | F1: Notes
A2: ANOMALIESP_001 | C2: =IF(B2="","",VALUE(LEFT(B2,FIND(":",B2)-1))) | E2: =IF(D2="","",VALUE(LEFT(D2,FIND(":",D2)-1)))
C3: =IF(B3="","",VALUE(LEFT(B3,FIND(":",B3)-1))) | E3: =IF(D3="","",VALUE(LEFT(D3,FIND(":",D3)-1)))
C4: =IF(B4="","",VALUE(LEFT(B4,FIND(":",B4)-1))) | E4: =IF(D4="","",VALUE(LEFT(D4,FIND(":",D4)-1)))
C5: =IF(B5="","",VALUE(LEFT(B5,FIND(":",B5)-1))) | E5: =IF(D5="","",VALUE(LEFT(D5,FIND(":",D5)-1)))
C6: =IF(B6="","",VALUE(LEFT(B6,FIND(":",B6)-1))) | E6: =IF(D6="","",VALUE(LEFT(D6,FIND(":",D6)-1)))
C7: =IF(B7="","",VALUE(LEFT(B7,FIND(":",B7)-1))) | E7: =IF(D7="","",VALUE(LEFT(D7,FIND(":",D7)-1)))
C8: =IF(B8="","",VALUE(LEFT(B8,FIND(":",B8)-1))) | E8: =IF(D8="","",VALUE(LEFT(D8,FIND(":",D8)-1)))
C9: =IF(B9="","",VALUE(LEFT(B9,FIND(":",B9)-1))) | E9: =IF(D9="","",VALUE(LEFT(D9,FIND(":",D9)-1)))
C10: =IF(B10="","",VALUE(LEFT(B10,FIND(":",B10)-1))) | E10: =IF(D10="","",VALUE(LEFT(D10,FIND(":",D10)-1)))
C11: =IF(B11="","",VALUE(LEFT(B11,FIND(":",B11)-1))) | E11: =IF(D11="","",VALUE(LEFT(D11,FIND(":",D11)-1)))
C12: =IF(B12="","",VALUE(LEFT(B12,FIND(":",B12)-1))) | E12: =IF(D12="","",VALUE(LEFT(D12,FIND(":",D12)-1)))
C13: =IF(B13="","",VALUE(LEFT(B13,FIND(":",B13)-1))) | E13: =IF(D13="","",VALUE(LEFT(D13,FIND(":",D13)-1)))
C14: =IF(B14="","",VALUE(LEFT(B14,FIND(":",B14)-1))) | E14: =IF(D14="","",VALUE(LEFT(D14,FIND(":",D14)-1)))
... C1000: =IF(B1000="","",VALUE(LEFT(B1000,FIND(":",B1000)-1))) | E1000: =IF(D1000="","",VALUE(LEFT(D1000,FIND(":",D1000)-1)))

Sheet Resources_PT
A1: User_Code | B1: KIND_Display | C1: KIND | D1: LRES_STATUS_Display | E1: LRES_STATUS | F1: LRES_MATERIAL_Display | G1: LRES_MATERIAL | H1: Notes
A2: INDICATION_001 | C2: =IF(B2="","",VALUE(LEFT(B2,FIND(":",B2)-1))) | E2: =IF(D2="","",VALUE(LEFT(D2,FIND(":",D2)-1))) | G2: =IF(F2="","",VALUE(LEFT(F2,FIND(":",F2)-1)))
C3: =IF(B3="","",VALUE(LEFT(B3,FIND(":",B3)-1))) | E3: =IF(D3="","",VALUE(LEFT(D3,FIND(":",D3)-1))) | G3: =IF(F3="","",VALUE(LEFT(F3,FIND(":",F3)-1)))
C4: =IF(B4="","",VALUE(LEFT(B4,FIND(":",B4)-1))) | E4: =IF(D4="","",VALUE(LEFT(D4,FIND(":",D4)-1))) | G4: =IF(F4="","",VALUE(LEFT(F4,FIND(":",F4)-1)))
C5: =IF(B5="","",VALUE(LEFT(B5,FIND(":",B5)-1))) | E5: =IF(D5="","",VALUE(LEFT(D5,FIND(":",D5)-1))) | G5: =IF(F5="","",VALUE(LEFT(F5,FIND(":",F5)-1)))
C6: =IF(B6="","",VALUE(LEFT(B6,FIND(":",B6)-1))) | E6: =IF(D6="","",VALUE(LEFT(D6,FIND(":",D6)-1))) | G6: =IF(F6="","",VALUE(LEFT(F6,FIND(":",F6)-1)))
C7: =IF(B7="","",VALUE(LEFT(B7,FIND(":",B7)-1))) | E7: =IF(D7="","",VALUE(LEFT(D7,FIND(":",D7)-1))) | G7: =IF(F7="","",VALUE(LEFT(F7,FIND(":",F7)-1)))
C8: =IF(B8="","",VALUE(LEFT(B8,FIND(":",B8)-1))) | E8: =IF(D8="","",VALUE(LEFT(D8,FIND(":",D8)-1))) | G8: =IF(F8="","",VALUE(LEFT(F8,FIND(":",F8)-1)))
C9: =IF(B9="","",VALUE(LEFT(B9,FIND(":",B9)-1))) | E9: =IF(D9="","",VALUE(LEFT(D9,FIND(":",D9)-1))) | G9: =IF(F9="","",VALUE(LEFT(F9,FIND(":",F9)-1)))
C10: =IF(B10="","",VALUE(LEFT(B10,FIND(":",B10)-1))) | E10: =IF(D10="","",VALUE(LEFT(D10,FIND(":",D10)-1))) | G10: =IF(F10="","",VALUE(LEFT(F10,FIND(":",F10)-1)))
C11: =IF(B11="","",VALUE(LEFT(B11,FIND(":",B11)-1))) | E11: =IF(D11="","",VALUE(LEFT(D11,FIND(":",D11)-1))) | G11: =IF(F11="","",VALUE(LEFT(F11,FIND(":",F11)-1)))
C12: =IF(B12="","",VALUE(LEFT(B12,FIND(":",B12)-1))) | E12: =IF(D12="","",VALUE(LEFT(D12,FIND(":",D12)-1))) | G12: =IF(F12="","",VALUE(LEFT(F12,FIND(":",F12)-1)))
C13: =IF(B13="","",VALUE(LEFT(B13,FIND(":",B13)-1))) | E13: =IF(D13="","",VALUE(LEFT(D13,FIND(":",D13)-1))) | G13: =IF(F13="","",VALUE(LEFT(F13,FIND(":",F13)-1)))
C14: =IF(B14="","",VALUE(LEFT(B14,FIND(":",B14)-1))) | E14: =IF(D14="","",VALUE(LEFT(D14,FIND(":",D14)-1))) | G14: =IF(F14="","",VALUE(LEFT(F14,FIND(":",F14)-1)))
... C1000: =IF(B1000="","",VALUE(LEFT(B1000,FIND(":",B1000)-1))) | E1000: =IF(D1000="","",VALUE(LEFT(D1000,FIND(":",D1000)-1))) | G1000: =IF(F1000="","",VALUE(LEFT(F1000,FIND(":",F1000)-1)))

Sheet Mineral_L
A1: User_Code | B1: KIND_Display | C1: KIND | D1: Notes
