Workbook

Sheet Bedrock_PLG
A1: User_Code | B1: GEOL_MAPPING_UNIT_Display | C1: GEOL_MAPPING_UNIT | D1: TECTO_Display | E1: TECTO | F1: LITSTRAT_FORMATION_BANK_Display | G1: CHRONO_TOP_Display | H1: CHRONO_BASE_Display | I1: LITHO_MAIN_Display | J1: LITHO_SEC_Display | K1: LITHO_TER_Display
A2: BEDROCK_001 | C2: =IF(B2="","",VALUE(LEFT(B2,FIND(":",B2)-1))) | E2: =IF(D2="","",VALUE(LEFT(D2,FIND(":",D2)-1))) | F2: =IF(C2="","",IFERROR(INDEX(Ref_LithoStratFormation!$C:$C,MATCH(VLOOKUP(C2,Ref_GMU_Attributes!$A:$B,COLUMN(B:$B),FALSE),Ref_LithoStratFormation!$A:$A,0)),"")) | G2: =IF(C2="","",IFERROR(INDEX(Ref_Chrono!$C:$C,MATCH(VLOOKUP(C2,Ref_GMU_Attributes!$A:$C,COLUMN(C:$C),FALSE),Ref_Chrono!$A:$A,0)),"")) | H2: =IF(C2="","",IFERROR(INDEX(Ref_Chrono!$C:$C,MATCH(VLOOKUP(C2,Ref_GMU_Attributes!$A:$D,COLUMN(D:$D),FALSE),Ref_Chrono!$A:$A,0)),"")) | I2: =IF(C2="","",IFERROR(INDEX(Ref_Litho!$C:$C,MATCH(VLOOKUP(C2,Ref_GMU_Attributes!$A:$E,COLUMN(E:$E),FALSE),Ref_Litho!$A:$A,0)),"")) | J2: =IF(C2="","",IFERROR(INDEX(Ref_Litho!$C:$C,MATCH(VLOOKUP(C2,Ref_GMU_Attributes!$A:$F,COLUMN(F:$F),FALSE),Ref_Litho!$A:$A,0)),"")) | K2: =IF(C2="","",IFERROR(INDEX(Ref_Litho!$C:$C,MATCH(VLOOKUP(C2,Ref_GMU_Attributes!$A:$G,COLUMN(G:$G),FALSE),Ref_Litho!$A:$A,0)),""))
A3: BEDROCK_002 | C3: =IF(B3="","",VALUE(LEFT(B3,FIND(":",B3)-1))) | E3: =IF(D3="","",VALUE(LEFT(D3,FIND(":",D3)-1))) | F3: =IF(C3="","",IFERROR(INDEX(Ref_LithoStratFormation!$C:$C,MATCH(VLOOKUP(C3,Ref_GMU_Attributes!$A:$B,COLUMN(B:$B),FALSE),Ref_LithoStratFormation!$A:$A,0)),"")) | G3: =IF(C3="","",IFERROR(INDEX(Ref_Chrono!$C:$C,MATCH(VLOOKUP(C3,Ref_GMU_Attributes!$A:$C,COLUMN(C:$C),FALSE),Ref_Chrono!$A:$A,0)),"")) | H3: =IF(C3="","",IFERROR(INDEX(Ref_Chrono!$C:$C,MATCH(VLOOKUP(C3,Ref_GMU_Attributes!$A:$D,COLUMN(D:$D),FALSE),Ref_Chrono!$A:$A,0)),"")) | I3: =IF(C3="","",IFERROR(INDEX(Ref_Litho!$C:$C,MATCH(VLOOKUP(C3,Ref_GMU_Attributes!$A:$E,COLUMN(E:$E),FALSE),Ref_Litho!$A:$A,0)),"")) | J3: =IF(C3="","",IFERROR(INDEX(Ref_Litho!$C:$C,MATCH(VLOOKUP(C3,Ref_GMU_Attributes!$A:$F,COLUMN(F:$F),FALSE),Ref_Litho!$A:$A,0)),"")) | K3: =IF(C3="","",IFERROR(INDEX(Ref_Litho!$C:$C,MATCH(VLOOKUP(C3,Ref_GMU_Attributes!$A:$G,COLUMN(G:$G),FALSE),Ref_Litho!$A:$A,0)),""))
C4: =IF(B4="","",VALUE(LEFT(B4,FIND(":",B4)-1))) | E4: =IF(D4="","",VALUE(LEFT(D4,FIND(":",D4)-1))) | F4: =IF(C4="","",IFERROR(INDEX(Ref_LithoStratFormation!$C:$C,MATCH(VLOOKUP(C4,Ref_GMU_Attributes!$A:$B,COLUMN(B:$B),FALSE),Ref_LithoStratFormation!$A:$A,0)),"")) | G4: =IF(C4="","",IFERROR(INDEX(Ref_Chrono!$C:$C,MATCH(VLOOKUP(C4,Ref_GMU_Attributes!$A:$C,COLUMN(C:$C),FALSE),Ref_Chrono!$A:$A,0)),"")) | H4: =IF(C4="","",IFERROR(INDEX(Ref_Chrono!$C:$C,MATCH(VLOOKUP(C4,Ref_GMU_Attributes!$A:$D,COLUMN(D:$D),FALSE),Ref_Chrono!$A:$A,0)),"")) | I4: =IF(C4="","",IFERROR(INDEX(Ref_Litho!$C:$C,MATCH(VLOOKUP(C4,Ref_GMU_Attributes!$A:$E,COLUMN(E:$E),FALSE),Ref_Litho!$A:$A,0)),"")) | J4: =IF(C4="","",IFERROR(INDEX(Ref_Litho!$C:$C,MATCH(VLOOKUP(C4,Ref_GMU_Attributes!$A:$F,COLUMN(F:$F),FALSE),Ref_Litho!$A:$A,0)),"")) | K4: =IF(C4="","",IFERROR(INDEX(Ref_Litho!$C:$C,MATCH(VLOOKUP(C4,Ref_GMU_Attributes!$A:$G,COLUMN(G:$G),FALSE),Ref_Litho!$A:$A,0)),""))
C5: =IF(B5="","",VALUE(LEFT(B5,FIND(":",B5)-1))) | E5: =IF(D5="","",VALUE(LEFT(D5,FIND(":",D5)-1))) | F5: =IF(C5="","",IFERROR(INDEX(Ref_LithoStratFormation!$C:$C,MATCH(VLOOKUP(C5,Ref_GMU_Attributes!$A:$B,COLUMN(B:$B),FALSE),Ref_LithoStratFormation!$A:$A,0)),"")) | G5: =IF(C5="","",IFERROR(INDEX(Ref_Chrono!$C:$C,MATCH(VLOOKUP(C5,Ref_GMU_Attributes!$A:$C,COLUMN(C:$C),FALSE),Ref_Chrono!$A:$A,0)),"")) | H5: =IF(C5="","",IFERROR(INDEX(Ref_Chrono!$C:$C,MATCH(VLOOKUP(C5,Ref_GMU_Attributes!$A:$D,COLUMN(D:$D),FALSE),Ref_Chrono!$A:$A,0)),"")) | I5: =IF(C5="","",IFERROR(INDEX(Ref_Litho!$C:$C,MATCH(VLOOKUP(C5,Ref_GMU_Attributes!$A:$E,COLUMN(E:$E),FALSE),Ref_Litho!$A:$A,0)),"")) | J5: =IF(C5="","",IFERROR(INDEX(Ref_Litho!$C:$C,MATCH(VLOOKUP(C5,Ref_GMU_Attributes!$A:$F,COLUMN(F:$F),FALSE),Ref_Litho!$A:$A,0)),"")) | K5: =IF(C5="","",IFERROR(INDEX(Ref_Litho!$C:$C,MATCH(VLOOKUP(C5,Ref_GMU_Attributes!$A:$G,COLUMN(G:$G),FALSE),Ref_Litho!$A:$A,0)),""))
C6: =IF(B6="","",VALUE(LEFT(B6,FIND(":",B6)-1))) | E6: =IF(D6="","",VALUE(LEFT(D6,FIND(":",D6)-1))) | F6: =IF(C6="","",IFERROR(INDEX(Ref_LithoStratFormation!$C:$C,MATCH(VLOOKUP(C6,Ref_GMU_Attributes!$A:$B,COLUMN(B:$B),FALSE),Ref_LithoStratFormation!$A:$A,0)),"")) | G6: =IF(C6="","",IFERROR(INDEX(Ref_Chrono!$C:$C,MATCH(VLOOKUP(C6,Ref_GMU_Attributes!$A:$C,COLUMN(C:$C),FALSE),Ref_Chrono!$A:$A,0)),"")) | H6: =IF(C6="","",IFERROR(INDEX(Ref_Chrono!$C:$C,MATCH(VLOOKUP(C6,Ref_GMU_Attributes!$A:$D,COLUMN(D:$D),FALSE),Ref_Chrono!$A:$A,0)),"")) | I6: =IF(C6="","",IFERROR(INDEX(Ref_Litho!$C:$C,MATCH(VLOOKUP(C6,Ref_GMU_Attributes!$A:$E,COLUMN(E:$E),FALSE),Ref_Litho!$A:$A,0)),"")) | J6: =IF(C6="","",IFERROR(INDEX(Ref_Litho!$C:$C,MATCH(VLOOKUP(C6,Ref_GMU_Attributes!$A:$F,COLUMN(F:$F),FALSE),Ref_Litho!$A:$A,0)),"")) | K6: =IF(C6="","",IFERROR(INDEX(Ref_Litho!$C:$C,MATCH(VLOOKUP(C6,Ref_GMU_Attributes!$A:$G,COLUMN(G:$G),FALSE),Ref_Litho!$A:$A,0)),""))
C7: =IF(B7="","",VALUE(LEFT(B7,FIND(":",B7)-1))) | E7: =IF(D7="","",VALUE(LEFT(D7,FIND(":",D7)-1))) | F7: =IF(C7="","",IFERROR(INDEX(Ref_LithoStratFormation!$C:$C,MATCH(VLOOKUP(C7,Ref_GMU_Attributes!$A:$B,COLUMN(B:$B),FALSE),Ref_LithoStratFormation!$A:$A,0)),"")) | G7: =IF(C7="","",IFERROR(INDEX(Ref_Chrono!$C:$C,MATCH(VLOOKUP(C7,Ref_GMU_Attributes!$A:$C,COLUMN(C:$C),FALSE),Ref_Chrono!$A:$A,0)),"")) | H7: =IF(C7="","",IFERROR(INDEX(Ref_Chrono!$C:$C,MATCH(VLOOKUP(C7,Ref_GMU_Attributes!$A:$D,COLUMN(D:$D),FALSE),Ref_Chrono!$A:$A,0)),"")) | I7: =IF(C7="","",IFERROR(INDEX(Ref_Litho!$C:$C,MATCH(VLOOKUP(C7,Ref_GMU_Attributes!$A:$E,COLUMN(E:$E),FALSE),Ref_Litho!$A:$A,0)),"")) | J7: =IF(C7="","",IFERROR(INDEX(Ref_Litho!$C:$C,MATCH(VLOOKUP(C7,Ref_GMU_Attributes!$A:$F,COLUMN(F:$F),FALSE),Ref_Litho!$A:$A,0)),"")) | K7: =IF(C7="","",IFERROR(INDEX(Ref_Litho!$C:$C,MATCH(VLOOKUP(C7,Ref_GMU_Attributes!$A:$G,COLUMN(G:$G),FALSE),Ref_Litho!$A:$A,0)),""))
C8: =IF(B8="","",VALUE(LEFT(B8,FIND(":",B8)-1))) | E8: =IF(D8="","",VALUE(LEFT(D8,FIND(":",D8)-1))) | F8: =IF(C8="","",IFERROR(INDEX(Ref_LithoStratFormation!$C:$C,MATCH(VLOOKUP(C8,Ref_GMU_Attributes!$A:$B,COLUMN(B:$B),FALSE),Ref_LithoStratFormation!$A:$A,0)),"")) | G8: =IF(C8="","",IFERROR(INDEX(Ref_Chrono!$C:$C,MATCH(VLOOKUP(C8,Ref_GMU_Attributes!$A:$C,COLUMN(C:$C),FALSE),Ref_Chrono!$A:$A,0)),"")) | H8: =IF(C8="","",IFERROR(INDEX(Ref_Chrono!$C:$C,MATCH(VLOOKUP(C8,Ref_GMU_Attributes!$A:$D,COLUMN(D:$D),FALSE),Ref_Chrono!$A:$A,0)),"")) | I8: =IF(C8="","",IFERROR(INDEX(Ref_Litho!$C:$C,MATCH(VLOOKUP(C8,Ref_GMU_Attributes!$A:$E,COLUMN(E:$E),FALSE),Ref_Litho!$A:$A,0)),"")) | J8: =IF(C8="","",IFERROR(INDEX(Ref_Litho!$C:$C,MATCH(VLOOKUP(C8,Ref_GMU_Attributes!$A:$F,COLUMN(F:$F),FALSE),Ref_Litho!$A:$A,0)),"")) | K8: =IF(C8="","",IFERROR(INDEX(Ref_Litho!$C:$C,MATCH(VLOOKUP(C8,Ref_GMU_Attributes!$A:$G,COLUMN(G:$G),FALSE),Ref_Litho!$A:$A,0)),""))
C9: =IF(B9="","",VALUE(LEFT(B9,FIND(":",B9)-1))) | E9: =IF(D9="","",VALUE(LEFT(D9,FIND(":",D9)-1))) | F9: =IF(C9="","",IFERROR(INDEX(Ref_LithoStratFormation!$C:$C,MATCH(VLOOKUP(C9,Ref_GMU_Attributes!$A:$B,COLUMN(B:$B),FALSE),Ref_LithoStratFormation!$A:$A,0)),"")) | G9: =IF(C9="","",IFERROR(INDEX(Ref_Chrono!$C:$C,MATCH(VLOOKUP(C9,Ref_GMU_Attributes!$A:$C,COLUMN(C:$C),FALSE),Ref_Chrono!$A:$A,0)),"")) | H9: =IF(C9="","",IFERROR(INDEX(Ref_Chrono!$C:$C,MATCH(VLOOKUP(C9,Ref_GMU_Attributes!$A:$D,COLUMN(D:$D),FALSE),Ref_Chrono!$A:$A,0)),"")) | I9: =IF(C9="","",IFERROR(INDEX(Ref_Litho!$C:$C,MATCH(VLOOKUP(C9,Ref_GMU_Attributes!$A:$E,COLUMN(E:$E),FALSE),Ref_Litho!$A:$A,0)),"")) | J9: =IF(C9="","",IFERROR(INDEX(Ref_Litho!$C:$C,MATCH(VLOOKUP(C9,Ref_GMU_Attributes!$A:$F,COLUMN(F:$F),FALSE),Ref_Litho!$A:$A,0)),"")) | K9: =IF(C9="","",IFERROR(INDEX(Ref_Litho!$C:$C,MATCH(VLOOKUP(C9,Ref_GMU_Attributes!$A:$G,COLUMN(G:$G),FALSE),Ref_Litho!$A:$A,0)),""))
C10: =IF(B10="","",VALUE(LEFT(B10,FIND(":",B10)-1))) | E10: =IF(D10="","",VALUE(LEFT(D10,FIND(":",D10)-1))) | F10: =IF(C10="","",IFERROR(INDEX(Ref_LithoStratFormation!$C:$C,MATCH(VLOOKUP(C10,Ref_GMU_Attributes!$A:$B,COLUMN(B:$B),FALSE),Ref_LithoStratFormation!$A:$A,0)),"")) | G10: =IF(C10="","",IFERROR(INDEX(Ref_Chrono!$C:$C,MATCH(VLOOKUP(C10,Ref_GMU_Attributes!$A:$C,COLUMN(C:$C),FALSE),Ref_Chrono!$A:$A,0)),"")) | H10: =IF(C10="","",IFERROR(INDEX(Ref_Chrono!$C:$C,MATCH(VLOOKUP(C10,Ref_GMU_Attributes!$A:$D,COLUMN(D:$D),FALSE),Ref_Chrono!$A:$A,0)),"")) | I10: =IF(C10="","",IFERROR(INDEX(Ref_Litho!$C:$C,MATCH(VLOOKUP(C10,Ref_GMU_Attributes!$A:$E,COLUMN(E:$E),FALSE),Ref_Litho!$A:$A,0)),"")) | J10: =IF(C10="","",IFERROR(INDEX(Ref_Litho!$C:$C,MATCH(VLOOKUP(C10,Ref_GMU_Attributes!$A:$F,COLUMN(F:$F),FALSE),Ref_Litho!$A:$A,0)),"")) | K10: =IF(C10="","",IFERROR(INDEX(Ref_Litho!$C:$C,MATCH(VLOOKUP(C10,Ref_GMU_Attributes!$A:$G,COLUMN(G:$G),FALSE),Ref_Litho!$A:$A,0)),""))
C11: =IF(B11="","",VALUE(LEFT(B11,FIND(":",B11)-1))) | E11: =IF(D11="","",VALUE(LEFT(D11,FIND(":",D11)-1))) | F11: =IF(C11="","",IFERROR(INDEX(Ref_LithoStratFormation!$C:$C,MATCH(VLOOKUP(C11,Ref_GMU_Attributes!$A:$B,COLUMN(B:$B),FALSE),Ref_LithoStratFormation!$A:$A,0)),"")) | G11: =IF(C11="","",IFERROR(INDEX(Ref_Chrono!$C:$C,MATCH(VLOOKUP(C11,Ref_GMU_Attributes!$A:$C,COLUMN(C:$C),FALSE),Ref_Chrono!$A:$A,0)),"")) | H11: =IF(C11="","",IFERROR(INDEX(Ref_Chrono!$C:$C,MATCH(VLOOKUP(C11,Ref_GMU_Attributes!$A:$D,COLUMN(D:$D),FALSE),Ref_Chrono!$A:$A,0)),"")) | I11: =IF(C11="","",IFERROR(INDEX(Ref_Litho!$C:$C,MATCH(VLOOKUP(C11,Ref_GMU_Attributes!$A:$E,COLUMN(E:$E),FALSE),Ref_Litho!$A:$A,0)),"")) | J11: =IF(C11="","",IFERROR(INDEX(Ref_Litho!$C:$C,MATCH(VLOOKUP(C11,Ref_GMU_Attributes!$A:$F,COLUMN(F:$F),FALSE),Ref_Litho!$A:$A,0)),"")) | K11: =IF(C11="","",IFERROR(INDEX(Ref_Litho!$C:$C,MATCH(VLOOKUP(C11,Ref_GMU_Attributes!$A:$G,COLUMN(G:$G),FALSE),Ref_Litho!$A:$A,0)),""))
C12: =IF(B12="","",VALUE(LEFT(B12,FIND(":",B12)-1))) | E12: =IF(D12="","",VALUE(LEFT(D12,FIND(":",D12)-1))) | F12: =IF(C12="","",IFERROR(INDEX(Ref_LithoStratFormation!$C:$C,MATCH(VLOOKUP(C12,Ref_GMU_Attributes!$A:$B,COLUMN(B:$B),FALSE),Ref_LithoStratFormation!$A:$A,0)),"")) | G12: =IF(C12="","",IFERROR(INDEX(Ref_Chrono!$C:$C,MATCH(VLOOKUP(C12,Ref_GMU_Attributes!$A:$C,COLUMN(C:$C),FALSE),Ref_Chrono!$A:$A,0)),"")) | H12: =IF(C12="","",IFERROR(INDEX(Ref_Chrono!$C:$C,MATCH(VLOOKUP(C12,Ref_GMU_Attributes!$A:$D,COLUMN(D:$D),FALSE),Ref_Chrono!$A:$A,0)),"")) | I12: =IF(C12="","",IFERROR(INDEX(Ref_Litho!$C:$C,MATCH(VLOOKUP(C12,Ref_GMU_Attributes!$A:$E,COLUMN(E:$E),FALSE),Ref_Litho!$A:$A,0)),"")) | J12: =IF(C12="","",IFERROR(INDEX(Ref_Litho!$C:$C,MATCH(VLOOKUP(C12,Ref_GMU_Attributes!$A:$F,COLUMN(F:$F),FALSE),Ref_Litho!$A:$A,0)),"")) | K12: =IF(C12="","",IFERROR(INDEX(Ref_Litho!$C:$C,MATCH(VLOOKUP(C12,Ref_GMU_Attributes!$A:$G,COLUMN(G:$G),FALSE),Ref_Litho!$A:$A,0)),""))
C13: =IF(B13="","",VALUE(LEFT(B13,FIND(":",B13)-1))) | E13: =IF(D13="","",VALUE(LEFT(D13,FIND(":",D13)-1))) | F13: =IF(C13="","",IFERROR(INDEX(Ref_LithoStratFormation!$C:$C,MATCH(VLOOKUP(C13,Ref_GMU_Attributes!$A:$B,COLUMN(B:$B),FALSE),Ref_LithoStratFormation!$A:$A,0)),"")) | G13: =IF(C13="","",IFERROR(INDEX(Ref_Chrono!$C:$C,MATCH(VLOOKUP(C13,Ref_GMU_Attributes!$A:$C,COLUMN(C:$C),FALSE),Ref_Chrono!$A:$A,0)),"")) | H13: =IF(C13="","",IFERROR(INDEX(Ref_Chrono!$C:$C,MATCH(VLOOKUP(C13,Ref_GMU_Attributes!$A:$D,COLUMN(D:$D),FALSE),Ref_Chrono!$A:$A,0)),"")) | I13: =IF(C13="","",IFERROR(INDEX(Ref_Litho!$C:$C,MATCH(VLOOKUP(C13,Ref_GMU_Attributes!$A:$E,COLUMN(E:$E),FALSE),Ref_Litho!$A:$A,0)),"")) | J13: =IF(C13="","",IFERROR(INDEX(Ref_Litho!$C:$C,MATCH(VLOOKUP(C13,Ref_GMU_Attributes!$A:$F,COLUMN(F:$F),FALSE),Ref_Litho!$A:$A,0)),"")) | K13: =IF(C13="","",IFERROR(INDEX(Ref_Litho!$C:$C,MATCH(VLOOKUP(C13,Ref_GMU_Attributes!$A:$G,COLUMN(G:$G),FALSE),Ref_Litho!$A:$A,0)),""))
C14: =IF(B14="","",VALUE(LEFT(B14,FIND(":",B14)-1))) | E14: =IF(D14="","",VALUE(LEFT(D14,FIND(":",D14)-1))) | F14: =IF(C14="","",IFERROR(INDEX(Ref_LithoStratFormation!$C:$C,MATCH(VLOOKUP(C14,Ref_GMU_Attributes!$A:$B,COLUMN(B:$B),FALSE),Ref_LithoStratFormation!$A:$A,0)),"")) | G14: =IF(C14="","",IFERROR(INDEX(Ref_Chrono!$C:$C,MATCH(VLOOKUP(C14,Ref_GMU_Attributes!$A:$C,COLUMN(C:$C),FALSE),Ref_Chrono!$A:$A,0)),"")) | H14: =IF(C14="","",IFERROR(INDEX(Ref_Chrono!$C:$C,MATCH(VLOOKUP(C14,Ref_GMU_Attributes!$A:$D,COLUMN(D:$D),FALSE),Ref_Chrono!$A:$A,0)),"")) | I14: =IF(C14="","",IFERROR(INDEX(Ref_Litho!$C:$C,MATCH(VLOOKUP(C14,Ref_GMU_Attributes!$A:$E,COLUMN(E:$E),FALSE),Ref_Litho!$A:$A,0)),"")) | J14: =IF(C14="","",IFERROR(INDEX(Ref_Litho!$C:$C,MATCH(VLOOKUP(C14,Ref_GMU_Attributes!$A:$F,COLUMN(F:$F),FALSE),Ref_Litho!$A:$A,0)),"")) | K14: =IF(C14="","",IFERROR(INDEX(Ref_Litho!$C:$C,MATCH(VLOOKUP(C14,Ref_GMU_Attributes!$A:$G,COLUMN(G:$G),FALSE),Ref_Litho!$A:$A,0)),""))
C15: =IF(B15="","",VALUE(LEFT(B15,FIND(":",B15)-1))) | E15: =IF(D15="","",VALUE(LEFT(D15,FIND(":",D15)-1))) | F15: =IF(C15="","",IFERROR(INDEX(Ref_LithoStratFormation!$C:$C,MATCH(VLOOKUP(C15,Ref_GMU_Attributes!$A:$B,COLUMN(B:$B),FALSE),Ref_LithoStratFormation!$A:$A,0)),"")) | G15: =IF(C15="","",IFERROR(INDEX(Ref_Chrono!$C:$C,MATCH(VLOOKUP(C15,Ref_GMU_Attributes!$A:$C,COLUMN(C:$C),FALSE),Ref_Chrono!$A:$A,0)),"")) | H15: =IF(C15="","",IFERROR(INDEX(Ref_Chrono!$C:$C,MATCH(VLOOKUP(C15,Ref_GMU_Attributes!$A:$D,COLUMN(D:$D),FALSE),Ref_Chrono!$A:$A,0)),"")) | I15: =IF(C15="","",IFERROR(INDEX(Ref_Litho!$C:$C,MATCH(VLOOKUP(C15,Ref_GMU_Attributes!$A:$E,COLUMN(E:$E),FALSE),Ref_Litho!$A:$A,0)),"")) | J15: =IF(C15="","",IFERROR(INDEX(Ref_Litho!$C:$C,MATCH(VLOOKUP(C15,Ref_GMU_Attributes!$A:$F,COLUMN(F:$F),FALSE),Ref_Litho!$A:$A,0)),"")) | K15: =IF(C15="","",IFERROR(INDEX(Ref_Litho!$C:$C,MATCH(VLOOKUP(C15,Ref_GMU_Attributes!$A:$G,COLUMN(G:$G),FALSE),Ref_Litho!$A:$A,0)),""))
... C1000: =IF(B1000="","",VALUE(LEFT(B1000,FIND(":",B1000)-1))) | E1000: =IF(D1000="","",VALUE(LEFT(D1000,FIND(":",D1000)-1))) | F1000: =IF(C1000="","",IFERROR(INDEX(Ref_LithoStratFormation!$C:$C,MATCH(VLOOKUP(C1000,Ref_GMU_Attributes!$A:$B,COLUMN(B:$B),FALSE),Ref_LithoStratFormation!$A:$A,0)),"")) | G1000: =IF(C1000="","",IFERROR(INDEX(Ref_Chrono!$C:$C,MATCH(VLOOKUP(C1000,Ref_GMU_Attributes!$A:$C,COLUMN(C:$C),FALSE),Ref_Chrono!$A:$A,0)),"")) | H1000: =IF(C1000="","",IFERROR(INDEX(Ref_Chrono!$C:$C,MATCH(VLOOKUP(C1000,Ref_GMU_Attributes!$A:$D,COLUMN(D:$D),FALSE),Ref_Chrono!$A:$A,0)),"")) | I1000: =IF(C1000="","",IFERROR(INDEX(Ref_Litho!$C:$C,MATCH(VLOOKUP(C1000,Ref_GMU_Attributes!$A:$E,COLUMN(E:$E),FALSE),Ref_Litho!$A:$A,0)),"")) | J1000: =IF(C1000="","",IFERROR(INDEX(Ref_Litho!$C:$C,MATCH(VLOOKUP(C1000,Ref_GMU_Attributes!$A:$F,COLUMN(F:$F),FALSE),Ref_Litho!$A:$A,0)),"")) | K1000: =IF(C1000="","",IFERROR(INDEX(Ref_Litho!$C:$C,MATCH(VLOOKUP(C1000,Ref_GMU_Attributes!$A:$G,COLUMN(G:$G),FALSE),Ref_Litho!$A:$A,0)),""))

Sheet Unconsolidated_Deposits_PLG
A1: User_Code | B1: LITSTRAT_Display | C1: LITSTRAT | D1: LITHO_Display | E1: LITHO | F1: CHRONO_TOP_Display | G1: CHRONO_TOP | H1: CHRONO_BASE_Display | I1: CHRONO_BASE
A2: UNCO_001 | C2: =IF(B2="","",VALUE(LEFT(B2,FIND(":",B2)-1))) | E2: =IF(D2="","",VALUE(LEFT(D2,FIND(":",D2)-1))) | G2: =IF(F2="","",VALUE(LEFT(F2,FIND(":",F2)-1))) | I2: =IF(H2="","",VALUE(LEFT(H2,FIND(":",H2)-1)))
A3: UNCO_002 | C3: =IF(B3="","",VALUE(LEFT(B3,FIND(":",B3)-1))) | E3: =IF(D3="","",VALUE(LEFT(D3,FIND(":",D3)-1))) | G3: =IF(F3="","",VALUE(LEFT(F3,FIND(":",F3)-1))) | I3: =IF(H3="","",VALUE(LEFT(H3,FIND(":",H3)-1)))
C4: =IF(B4="","",VALUE(LEFT(B4,FIND(":",B4)-1))) | E4: =IF(D4="","",VALUE(LEFT(D4,FIND(":",D4)-1))) | G4: =IF(F4="","",VALUE(LEFT(F4,FIND(":",F4)-1))) | I4: =IF(H4="","",VALUE(LEFT(H4,FIND(":",H4)-1)))
C5: =IF(B5="","",VALUE(LEFT(B5,FIND(":",B5)-1))) | E5: =IF(D5="","",VALUE(LEFT(D5,FIND(":",D5)-1))) | G5: =IF(F5="","",VALUE(LEFT(F5,FIND(":",F5)-1))) | I5: =IF(H5="","",VALUE(LEFT(H5,FIND(":",H5)-1)))
C6: =IF(B6="","",VALUE(LEFT(B6,FIND(":",B6)-1))) | E6: =IF(D6="","",VALUE(LEFT(D6,FIND(":",D6)-1))) | G6: =IF(F6="","",VALUE(LEFT(F6,FIND(":",F6)-1))) | I6: =IF(H6="","",VALUE(LEFT(H6,FIND(":",H6)-1)))
C7: =IF(B7="","",VALUE(LEFT(B7,FIND(":",B7)-1))) | E7: =IF(D7="","",VALUE(LEFT(D7,FIND(":",D7)-1))) | G7: =IF(F7="","",VALUE(LEFT(F7,FIND(":",F7)-1))) | I7: =IF(H7="","",VALUE(LEFT(H7,FIND(":",H7)-1)))
C8: =IF(B8="","",VALUE(LEFT(B8,FIND(":",B8)-1))) | E8: =IF(D8="","",VALUE(LEFT(D8,FIND(":",D8)-1))) | G8: =IF(F8="","",VALUE(LEFT(F8,FIND(":",F8)-1))) | I8: =IF(H8="","",VALUE(LEFT(H8,FIND(":",H8)-1)))
C9: =IF(B9="","",VALUE(LEFT(B9,FIND(":",B9)-1))) | E9: =IF(D9="","",VALUE(LEFT(D9,FIND(":",D9)-1))) | G9: =IF(F9="","",VALUE(LEFT(F9,FIND(":",F9)-1))) | I9: =IF(H9="","",VALUE(LEFT(H9,FIND(":",H9)-1)))
C10: =IF(B10="","",VALUE(LEFT(B10,FIND(":",B10)-1))) | E10: =IF(D10="","",VALUE(LEFT(D10,FIND(":",D10)-1))) | G10: =IF(F10="","",VALUE(LEFT(F10,FIND(":",F10)-1))) | I10: =IF(H10="","",VALUE(LEFT(H10,FIND(":",H10)-1)))
C11: =IF(B11="","",VALUE(LEFT(B11,FIND(":",B11)-1))) | E11: =IF(D11="","",VALUE(LEFT(D11,FIND(":",D11)-1))) | G11: =IF(F11="","",VALUE(LEFT(F11,FIND(":",F11)-1))) | I11: =IF(H11="","",VALUE(LEFT(H11,FIND(":",H11)-1)))
C12: =IF(B12="","",VALUE(LEFT(B12,FIND(":",B12)-1))) | E12: =IF(D12="","",VALUE(LEFT(D12,FIND(":",D12)-1))) | G12: =IF(F12="","",VALUE(LEFT(F12,FIND(":",F12)-1))) | I12: =IF(H12="","",VALUE(LEFT(H12,FIND(":",H12)-1)))
C13: =IF(B13="","",VALUE(LEFT(B13,FIND(":",B13)-1))) | E13: =IF(D13="","",VALUE(LEFT(D13,FIND(":",D13)-1))) | G13: =IF(F13="","",VALUE(LEFT(F13,FIND(":",F13)-1))) | I13: =IF(H13="","",VALUE(LEFT(H13,FIND(":",H13)-1)))
C14: =IF(B14="","",VALUE(LEFT(B14,FIND(":",B14)-1))) | E14: =IF(D14="","",VALUE(LEFT(D14,FIND(":",D14)-1))) | G14: =IF(F14="","",VALUE(LEFT(F14,FIND(":",F14)-1))) | I14: =IF(H14="","",VALUE(LEFT(H14,FIND(":",H14)-1)))
C15: =IF(B15="","",VALUE(LEFT(B15,FIND(":",B15)-1))) | E15: =IF(D15="","",VALUE(LEFT(D15,FIND(":",D15)-1))) | G15: =IF(F15="","",VALUE(LEFT(F15,FIND(":",F15)-1))) | I15: =IF(H15="","",VALUE(LEFT(H15,FIND(":",H15)-1)))
... C1000: =IF(B1000="","",VALUE(LEFT(B1000,FIND(":",B1000)-1))) | E1000: =IF(D1000="","",VALUE(LEFT(D1000,FIND(":",D1000)-1))) | G1000: =IF(F1000="","",VALUE(LEFT(F1000,FIND(":",F1000)-1))) | I1000: =IF(H1000="","",VALUE(LEFT(H1000,FIND(":",H1000)-1)))

Sheet Fossils_PT
A1: User_Code | B1: KIND_Display | C1: KIND | D1: LFOS_DIVISION_Display | E1: LFOS_DIVISION | F1: LFOS_DAT_METH_Display | G1: LFOS_DAT_METH | H1: LFOS_STATUS_Display | I1: LFOS_STATUS | J1: Notes
A2: FOSSILSPT_001 | C2: =IF(B2="","",VALUE(LEFT(B2,FIND(":",B2)-1))) | E2: =IF(D2="","",VALUE(LEFT(D2,FIND(":",D2)-1))) | G2: =IF(F2="","",VALUE(LEFT(F2,FIND(":",F2)-1))) | I2: =IF(H2="","",VALUE(LEFT(H2,FIND(":",H2)-1)))
C3: =IF(B3="","",VALUE(LEFT(B3,FIND(":",B3)-1))) | E3: =IF(D3="","",VALUE(LEFT(D3,FIND(":",D3)-1))) | G3: =IF(F3="","",VALUE(LEFT(F3,FIND(":",F3)-1))) | I3: =IF(H3="","",VALUE(LEFT(H3,FIND(":",H3)-1)))
C4: =IF(B4="","",VALUE(LEFT(B4,FIND(":",B4)-1))) | E4: =IF(D4="","",VALUE(LEFT(D4,FIND(":",D4)-1))) | G4: =IF(F4="","",VALUE(LEFT(F4,FIND(":",F4)-1))) | I4: =IF(H4="","",VALUE(LEFT(H4,FIND(":",H4)-1)))
C5: =IF(B5="","",VALUE(LEFT(B5,FIND(":",B5)-1))) | E5: =IF(D5="","",VALUE(LEFT(D5,FIND(":",D5)-1))) | G5: =IF(F5="","",VALUE(LEFT(F5,FIND(":",F5)-1))) | I5: =IF(H5="","",VALUE(LEFT(H5,FIND(":",H5)-1)))
C6: =IF(B6="","",VALUE(LEFT(B6,FIND(":",B6)-1))) | E6: =IF(D6="","",VALUE(LEFT(D6,FIND(":",D6)-1))) | G6: =IF(F6="","",VALUE(LEFT(F6,FIND(":",F6)-1))) | I6: =IF(H6="","",VALUE(LEFT(H6,FIND(":",H6)-1)))
C7: =IF(B7="","",VALUE(LEFT(B7,FIND(":",B7)-1))) | E7: =IF(D7="","",VALUE(LEFT(D7,FIND(":",D7)-1))) | G7: =IF(F7="","",VALUE(LEFT(F7,FIND(":",F7)-1))) | I7: =IF(H7="","",VALUE(LEFT(H7,FIND(":",H7)-1)))
C8: =IF(B8="","",VALUE(LEFT(B8,FIND(":",B8)-1))) | E8: =IF(D8="","",VALUE(LEFT(D8,FIND(":",D8)-1))) | G8: =IF(F8="","",VALUE(LEFT(F8,FIND(":",F8)-1))) | I8: =IF(H8="","",VALUE(LEFT(H8,FIND(":",H8)-1)))
C9: =IF(B9="","",VALUE(LEFT(B9,FIND(":",B9)-1))) | E9: =IF(D9="","",VALUE(LEFT(D9,FIND(":",D9)-1))) | G9: =IF(F9="","",VALUE(LEFT(F9,FIND(":",F9)-1))) | I9: =IF(H9="","",VALUE(LEFT(H9,FIND(":",H9)-1)))
C10: =IF(B10="","",VALUE(LEFT(B10,FIND(":",B10)-1))) | E10: =IF(D10="","",VALUE(LEFT(D10,FIND(":",D10)-1))) | G10: =IF(F10="","",VALUE(LEFT(F10,FIND(":",F10)-1))) | I10: =IF(H10="","",VALUE(LEFT(H10,FIND(":",H10)-1)))
C11: =IF(B11="","",VALUE(LEFT(B11,FIND(":",B11)-1))) | E11: =IF(D11="","",VALUE(LEFT(D11,FIND(":",D11)-1))) | G11: =IF(F11="","",VALUE(LEFT(F11,FIND(":",F11)-1))) | I11: =IF(H11="","",VALUE(LEFT(H11,FIND(":",H11)-1)))
C12: =IF(B12="","",VALUE(LEFT(B12,FIND(":",B12)-1))) | E12: =IF(D12="","",VALUE(LEFT(D12,FIND(":",D12)-1))) | G12: =IF(F12="","",VALUE(LEFT(F12,FIND(":",F12)-1))) | I12: =IF(H12="","",VALUE(LEFT(H12,FIND(":",H12)-1)))
C13: =IF(B13="","",VALUE(LEFT(B13,FIND(":",B13)-1))) | E13: =IF(D13="","",VALUE(LEFT(D13,FIND(":",D13)-1))) | G13: =IF(F13="","",VALUE(LEFT(F13,FIND(":",F13)-1))) | I13: =IF(H13="","",VALUE(LEFT(H13,FIND(":",H13)-1)))
C14: =IF(B14="","",VALUE(LEFT(B14,FIND(":",B14)-1))) | E14: =IF(D14="","",VALUE(LEFT(D14,FIND(":",D14)-1))) | G14: =IF(F14="","",VALUE(LEFT(F14,FIND(":",F14)-1))) | I14: =IF(H14="","",VALUE(LEFT(H14,FIND(":",H14)-1)))
... C1000: =IF(B1000="","",VALUE(LEFT(B1000,FIND(":",B1000)-1))) | E1000: =IF(D1000="","",VALUE(LEFT(D1000,FIND(":",D1000)-1))) | G1000: =IF(F1000="","",VALUE(LEFT(F1000,FIND(":",F1000)-1))) | I1000: =IF(H1000="","",VALUE(LEFT(H1000,FIND(":",H1000)-1)))

Sheet Deposits_PT
A1: User_Code | B1: KIND_Display | C1: KIND | D1: STATUS_Display | E1: STATUS | F1: ROCK_SPE_Display | G1: ROCK_SPE | H1: ROCK_TYPE_Display | I1: ROCK_TYPE | J1: Notes
A2: UNCONSOLID_001 | C2: =IF(B2="","",VALUE(LEFT(B2,FIND(":",B2)-1))) | E2: =IF(D2="","",VALUE(LEFT(D2,FIND(":",D2)-1))) | G2: =IF(F2="","",VALUE(LEFT(F2,FIND(":",F2)-1))) | I2: =IF(H2="","",VALUE(LEFT(H2,FIND(":",H2)-1)))
C3: =IF(B3="","",VALUE(LEFT(B3,FIND(":",B3)-1))) | E3: =IF(D3="","",VALUE(LEFT(D3,FIND(":",D3)-1))) | G3: =IF(F3="","",VALUE(LEFT(F3,FIND(":",F3)-1))) | I3: =IF(H3="","",VALUE(LEFT(H3,FIND(":",H3)-1)))
C4: =IF(B4="","",VALUE(LEFT(B4,FIND(":",B4)-1))) | E4: =IF(D4="","",VALUE(LEFT(D4,FIND(":",D4)-1))) | G4: =IF(F4="","",VALUE(LEFT(F4,FIND(":",F4)-1))) | I4: =IF(H4="","",VALUE(LEFT(H4,FIND(":",H4)-1)))
C5: =IF(B5="","",VALUE(LEFT(B5,FIND(":",B5)-1))) | E5: =IF(D5="","",VALUE(LEFT(D5,FIND(":",D5)-1))) | G5: =IF(F5="","",VALUE(LEFT(F5,FIND(":",F5)-1))) | I5: =IF(H5="","",VALUE(LEFT(H5,FIND(":",H5)-1)))
C6: =IF(B6="","",VALUE(LEFT(B6,FIND(":",B6)-1))) | E6: =IF(D6="","",VALUE(LEFT(D6,FIND(":",D6)-1))) | G6: =IF(F6="","",VALUE(LEFT(F6,FIND(":",F6)-1))) | I6: =IF(H6="","",VALUE(LEFT(H6,FIND(":",H6)-1)))
C7: =IF(B7="","",VALUE(LEFT(B7,FIND(":",B7)-1))) | E7: =IF(D7="","",VALUE(LEFT(D7,FIND(":",D7)-1))) | G7: =IF(F7="","",VALUE(LEFT(F7,FIND(":",F7)-1))) | I7: =IF(H7="","",VALUE(LEFT(H7,FIND(":",H7)-1)))
C8: =IF(B8="","",VALUE(LEFT(B8,FIND(":",B8)-1))) | E8: =IF(D8="","",VALUE(LEFT(D8,FIND(":",D8)-1))) | G8: =IF(F8="","",VALUE(LEFT(F8,FIND(":",F8)-1))) | I8: =IF(H8="","",VALUE(LEFT(H8,FIND(":",H8)-1)))
C9: =IF(B9="","",VALUE(LEFT(B9,FIND(":",B9)-1))) | E9: =IF(D9="","",VALUE(LEFT(D9,FIND(":",D9)-1))) | G9: =IF(F9="","",VALUE(LEFT(F9,FIND(":",F9)-1))) | I9: =IF(H9="","",VALUE(LEFT(H9,FIND(":",H9)-1)))
C10: =IF(B10="","",VALUE(LEFT(B10,FIND(":",B10)-1))) | E10: =IF(D10="","",VALUE(LEFT(D10,FIND(":",D10)-1))) | G10: =IF(F10="","",VALUE(LEFT(F10,FIND(":",F10)-1))) | I10: =IF(H10="","",VALUE(LEFT(H10,FIND(":",H10)-1)))
C11: =IF(B11="","",VALUE(LEFT(B11,FIND(":",B11)-1))) | E11: =IF(D11="","",VALUE(LEFT(D11,FIND(":",D11)-1))) | G11: =IF(F11="","",VALUE(LEFT(F11,FIND(":",F11)-1))) | I11: =IF(H11="","",VALUE(LEFT(H11,FIND(":",H11)-1)))
C12: =IF(B12="","",VALUE(LEFT(B12,FIND(":",B12)-1))) | E12: =IF(D12="","",VALUE(LEFT(D12,FIND(":",D12)-1))) | G12: =IF(F12="","",VALUE(LEFT(F12,FIND(":",F12)-1))) | I12: =IF(H12="","",VALUE(LEFT(H12,FIND(":",H12)-1)))
C13: =IF(B13="","",VALUE(LEFT(B13,FIND(":",B13)-1))) | E13: =IF(D13="","",VALUE(LEFT(D13,FIND(":",D13)-1))) | G13: =IF(F13="","",VALUE(LEFT(F13,FIND(":",F13)-1))) | I13: =IF(H13="","",VALUE(LEFT(H13,FIND(":",H13)-1)))
C14: =IF(B14="","",VALUE(LEFT(B14,FIND(":",B14)-1))) | E14: =IF(D14="","",VALUE(LEFT(D14,FIND(":",D14)-1))) | G14: =IF(F14="","",VALUE(LEFT(F14,FIND(":",F14)-1))) | I14: =IF(H14="","",VALUE(LEFT(H14,FIND(":",H14)-1)))
... C1000: =IF(B1000="","",VALUE(LEFT(B1000,FIND(":",B1000)-1))) | E1000: =IF(D1000="","",VALUE(LEFT(D1000,FIND(":",D1000)-1))) | G1000: =IF(F1000="","",VALUE(LEFT(F1000,FIND(":",F1000)-1))) | I1000: =IF(H1000="","",VALUE(LEFT(H1000,FIND(":",H1000)-1)))

Sheet Instability_PT
A1: User_Code | B1: KIND_Display | C1: KIND | D1: Notes
A2: INSTABILIT_001 | C2: =IF(B2="","",VALUE(LEFT(B2,FIND(":",B2)-1)))
C3: =IF(B3="","",VALUE(LEFT(B3,FIND(":",B3)-1)))
C4: =IF(B4="","",VALUE(LEFT(B4,FIND(":",B4)-1)))
C5: =IF(B5="","",VALUE(LEFT(B5,FIND(":",B5)-1)))
C6: =IF(B6="","",VALUE(LEFT(B6,FIND(":",B6)-1)))
C7: =IF(B7="","",VALUE(LEFT(B7,FIND(":",B7)-1)))
C8: =IF(B8="","",VALUE(LEFT(B8,FIND(":",B8)-1)))
C9: =IF(B9="","",VALUE(LEFT(B9,FIND(":",B9)-1)))
C10: =IF(B10="","",VALUE(LEFT(B10,FIND(":",B10)-1)))
C11: =IF(B11="","",VALUE(LEFT(B11,FIND(":",B11)-1)))
C12: =IF(B12="","",VALUE(LEFT(B12,FIND(":",B12)-1)))
C13: =IF(B13="","",VALUE(LEFT(B13,FIND(":",B13)-1)))
C14: =IF(B14="","",VALUE(LEFT(B14,FIND(":",B14)-1)))
... C1000: =IF(B1000="","",VALUE(LEFT(B1000,FIND(":",B1000)-1)))

Sheet Instability_L
A1: User_Code | B1: KIND_Display | C1: KIND | D1: Notes
A2: INSTABILIT_001 | C2: =IF(B2="","",VALUE(LEFT(B2,FIND(":",B2)-1)))
C3: =IF(B3="","",VALUE(LEFT(B3,FIND(":",B3)-1)))
C4: =IF(B4="","",VALUE(LEFT(B4,FIND(":",B4)-1)))
C5: =IF(B5="","",VALUE(LEFT(B5,FIND(":",B5)-1)))
C6: =IF(B6="","",VALUE(LEFT(B6,FIND(":",B6)-1)))
C7: =IF(B7="","",VALUE(LEFT(B7,FIND(":",B7)-1)))
C8: =IF(B8="","",VALUE(LEFT(B8,FIND(":",B8)-1)))
C9: =IF(B9="","",VALUE(LEFT(B9,FIND(":",B9)-1)))
C10: =IF(B10="","",VALUE(LEFT(B10,FIND(":",B10)-1)))
C11: =IF(B11="","",VALUE(LEFT(B11,FIND(":",B11)-1)))
C12: =IF(B12="","",VALUE(LEFT(B12,FIND(":",B12)-1)))
C13: =IF(B13="","",VALUE(LEFT(B13,FIND(":",B13)-1)))
C14: =IF(B14="","",VALUE(LEFT(B14,FIND(":",B14)-1)))
... C1000: =IF(B1000="","",VALUE(LEFT(B1000,FIND(":",B1000)-1)))

Sheet Instability_PLG
A1: User_Code | B1: KIND_Display | C1: KIND | D1: GINS_MAIN_MOV_Display | E1: GINS_MAIN_MOV | F1: Notes
A2: INSTABILIT_001 | C2: =IF(B2="","",VALUE(LEFT(B2,FIND(":",B2)-1))) | E2: =IF(D2="","",VALUE(LEFT(D2,FIND(":",D2)-1)))
C3: =IF(B3="","",VALUE(LEFT(B3,FIND(":",B3)-1))) | E3: =IF(D3="","",VALUE(LEFT(D3,FIND(":",D3)-1)))
C4: =IF(B4="","",VALUE(LEFT(B4,FIND(":",B4)-1))) | E4: =IF(D4="","",VALUE(LEFT(D4,FIND(":",D4)-1)))
C5: =IF(B5="","",VALUE(LEFT(B5,FIND(":",B5)-1))) | E5: =IF(D5="","",VALUE(LEFT(D5,FIND(":",D5)-1)))
C6: =IF(B6="","",VALUE(LEFT(B6,FIND(":",B6)-1))) | E6: =IF(D6="","",VALUE(LEFT(D6,FIND(":",D6)-1)))
C7: =IF(B7="","",VALUE(LEFT(B7,FIND(":",B7)-1))) | E7: =IF(D7="","",VALUE(LEFT(D7,FIND(":",D7)-1)))
C8: =IF(B8="","",VALUE(LEFT(B8,FIND(":",B8)-1))) | E8: =IF(D8="","",VALUE(LEFT(D8,FIND(":",D8)-1)))
C9: =IF(B9="","",VALUE(LEFT(B9,FIND(":",B9)-1))) | E9: =IF(D9="","",VALUE(LEFT(D9,FIND(":",D9)-1)))
C10: =IF(B10="","",VALUE(LEFT(B10,FIND(":",B10)-1))) | E10: =IF(D10="","",VALUE(LEFT(D10,FIND(":",D10)-1)))
C11: =IF(B11="","",VALUE(LEFT(B11,FIND(":",B11)-1))) | E11: =IF(D11="","",VALUE(LEFT(D11,FIND(":",D11)-1)))
C12: =IF(B12="","",VALUE(LEFT(B12,FIND(":",B12)-1))) | E12: =IF(D12="","",VALUE(LEFT(D12,FIND(":",D12)-1)))
C13: =IF(B13="","",VALUE(LEFT(B13,FIND(":",B13)-1))) | E13: =IF(D13="","",VALUE(LEFT(D13,FIND(":",D13)-1)))
C14: =IF(B14="","",VALUE(LEFT(B14,FIND(":",B14)-1))) | E14: =IF(D14="","",VALUE(LEFT(D14,FIND(":",D14)-1)))
... C1000: =IF(B1000="","",VALUE(LEFT(B1000,FIND(":",B1000)-1))) | E1000: =IF(D1000="","",VALUE(LEFT(D1000,FIND(":",D1000)-1)))

Sheet Glacial_PT
A1: User_Code | B1: KIND_Display | C1: KIND | D1: Notes
A2: GLACIALSTR_001 | C2: =IF(B2="","",VALUE(LEFT(B2,FIND(":",B2)-1)))
C3: =IF(B3="","",VALUE(LEFT(B3,FIND(":",B3)-1)))
C4: =IF(B4="","",VALUE(LEFT(B4,FIND(":",B4)-1)))
C5: =IF(B5="","",VALUE(LEFT(B5,FIND(":",B5)-1)))
C6: =IF(B6="","",VALUE(LEFT(B6,FIND(":",B6)-1)))
C7: =IF(B7="","",VALUE(LEFT(B7,FIND(":",B7)-1)))
C8: =IF(B8="","",VALUE(LEFT(B8,FIND(":",B8)-1)))
C9: =IF(B9="","",VALUE(LEFT(B9,FIND(":",B9)-1)))
C10: =IF(B10="","",VALUE(LEFT(B10,FIND(":",B10)-1)))
C11: =IF(B11="","",VALUE(LEFT(B11,FIND(":",B11)-1)))
C12: =IF(B12="","",VALUE(LEFT(B12,FIND(":",B12)-1)))
C13: =IF(B13="","",VALUE(LEFT(B13,FIND(":",B13)-1)))
C14: =IF(B14="","",VALUE(LEFT(B14,FIND(":",B14)-1)))
... C1000: =IF(B1000="","",VALUE(LEFT(B1000,FIND(":",B1000)-1)))

Sheet Glacial_and_Periglacial_Structu
A1: User_Code | B1: KIND_Display | C1: KIND | D1: GGLA_MORAI_MO_Display | E1: GGLA_MORAI_MO | F1: GGLA_GLAC_TYP_Display | G1: GGLA_GLAC_TYP | H1: GGLA_ICE_M_P_Display | I1: GGLA_ICE_M_P | J1: GGLA_QUAT_STR_Display | K1: GGLA_QUAT_STR | L1: Notes
A2: GLACIALAND_001 | C2: =IF(B2="","",VALUE(LEFT(B2,FIND(":",B2)-1))) | E2: =IF(D2="","",VALUE(LEFT(D2,FIND(":",D2)-1))) | G2: =IF(F2="","",VALUE(LEFT(F2,FIND(":",F2)-1))) | I2: =IF(H2="","",VALUE(LEFT(H2,FIND(":",H2)-1))) | K2: =IF(J2="","",VALUE(LEFT(J2,FIND(":",J2)-1)))
C3: =IF(B3="","",VALUE(LEFT(B3,FIND(":",B3)-1))) | E3: =IF(D3="","",VALUE(LEFT(D3,FIND(":",D3)-1))) | G3: =IF(F3="","",VALUE(LEFT(F3,FIND(":",F3)-1))) | I3: =IF(H3="","",VALUE(LEFT(H3,FIND(":",H3)-1))) | K3: =IF(J3="","",VALUE(LEFT(J3,FIND(":",J3)-1)))
C4: =IF(B4="","",VALUE(LEFT(B4,FIND(":",B4)-1))) | E4: =IF(D4="","",VALUE(LEFT(D4,FIND(":",D4)-1))) | G4: =IF(F4="","",VALUE(LEFT(F4,FIND(":",F4)-1))) | I4: =IF(H4="","",VALUE(LEFT(H4,FIND(":",H4)-1))) | K4: =IF(J4="","",VALUE(LEFT(J4,FIND(":",J4)-1)))
C5: =IF(B5="","",VALUE(LEFT(B5,FIND(":",B5)-1))) | E5: =IF(D5="","",VALUE(LEFT(D5,FIND(":",D5)-1))) | G5: =IF(F5="","",VALUE(LEFT(F5,FIND(":",F5)-1))) | I5: =IF(H5="","",VALUE(LEFT(H5,FIND(":",H5)-1))) | K5: =IF(J5="","",VALUE(LEFT(J5,FIND(":",J5)-1)))
C6: =IF(B6="","",VALUE(LEFT(B6,FIND(":",B6)-1))) | E6: =IF(D6="","",VALUE(LEFT(D6,FIND(":",D6)-1))) | G6: =IF(F6="","",VALUE(LEFT(F6,FIND(":",F6)-1))) | I6: =IF(H6="","",VALUE(LEFT(H6,FIND(":",H6)-1))) | K6: =IF(J6="","",VALUE(LEFT(J6,FIND(":",J6)-1)))
C7: =IF(B7="","",VALUE(LEFT(B7,FIND(":",B7)-1))) | E7: =IF(D7="","",VALUE(LEFT(D7,FIND(":",D7)-1))) | G7: =IF(F7="","",VALUE(LEFT(F7,FIND(":",F7)-1))) | I7: =IF(H7="","",VALUE(LEFT(H7,FIND(":",H7)-1))) | K7: =IF(J7="","",VALUE(LEFT(J7,FIND(":",J7)-1)))
C8: =IF(B8="","",VALUE(LEFT(B8,FIND(":",B8)-1))) | E8: =IF(D8="","",VALUE(LEFT(D8,FIND(":",D8)-1))) | G8: =IF(F8="","",VALUE(LEFT(F8,FIND(":",F8)-1))) | I8: =IF(H8="","",VALUE(LEFT(H8,FIND(":",H8)-1))) | K8: =IF(J8="","",VALUE(LEFT(J8,FIND(":",J8)-1)))
C9: =IF(B9="","",VALUE(LEFT(B9,FIND(":",B9)-1))) | E9: =IF(D9="","",VALUE(LEFT(D9,FIND(":",D9)-1))) | G9: =IF(F9="","",VALUE(LEFT(F9,FIND(":",F9)-1))) | I9: =IF(H9="","",VALUE(LEFT(H9,FIND(":",H9)-1))) | K9: =IF(J9="","",VALUE(LEFT(J9,FIND(":",J9)-1)))
C10: =IF(B10="","",VALUE(LEFT(B10,FIND(":",B10)-1))) | E10: =IF(D10="","",VALUE(LEFT(D10,FIND(":",D10)-1))) | G10: =IF(F10="","",VALUE(LEFT(F10,FIND(":",F10)-1))) | I10: =IF(H10="","",VALUE(LEFT(H10,FIND(":",H10)-1))) | K10: =IF(J10="","",VALUE(LEFT(J10,FIND(":",J10)-1)))
C11: =IF(B11="","",VALUE(LEFT(B11,FIND(":",B11)-1))) | E11: =IF(D11="","",VALUE(LEFT(D11,FIND(":",D11)-1))) | G11: =IF(F11="","",VALUE(LEFT(F11,FIND(":",F11)-1))) | I11: =IF(H11="","",VALUE(LEFT(H11,FIND(":",H11)-1))) | K11: =IF(J11="","",VALUE(LEFT(J11,FIND(":",J11)-1)))
C12: =IF(B12="","",VALUE(LEFT(B12,FIND(":",B12)-1))) | E12: =IF(D12="","",VALUE(LEFT(D12,FIND(":",D12)-1))) | G12: =IF(F12="","",VALUE(LEFT(F12,FIND(":",F12)-1))) | I12: =IF(H12="","",VALUE(LEFT(H12,FIND(":",H12)-1))) | K12: =IF(J12="","",VALUE(LEFT(J12,FIND(":",J12)-1)))
C13: =IF(B13="","",VALUE(LEFT(B13,FIND(":",B13)-1))) | E13: =IF(D13="","",VALUE(LEFT(D13,FIND(":",D13)-1))) | G13: =IF(F13="","",VALUE(LEFT(F13,FIND(":",F13)-1))) | I13: =IF(H13="","",VALUE(LEFT(H13,FIND(":",H13)-1))) | K13: =IF(J13="","",VALUE(LEFT(J13,FIND(":",J13)-1)))
C14: =IF(B14="","",VALUE(LEFT(B14,FIND(":",B14)-1))) | E14: =IF(D14="","",VALUE(LEFT(D14,FIND(":",D14)-1))) | G14: =IF(F14="","",VALUE(LEFT(F14,FIND(":",F14)-1))) | I14: =IF(H14="","",VALUE(LEFT(H14,FIND(":",H14)-1))) | K14: =IF(J14="","",VALUE(LEFT(J14,FIND(":",J14)-1)))
... C1000: =IF(B1000="","",VALUE(LEFT(B1000,FIND(":",B1000)-1))) | E1000: =IF(D1000="","",VALUE(LEFT(D1000,FIND(":",D1000)-1))) | G1000: =IF(F1000="","",VALUE(LEFT(F1000,FIND(":",F1000)-1))) | I1000: =IF(H1000="","",VALUE(LEFT(H1000,FIND(":",H1000)-1))) | K1000: =IF(J1000="","",VALUE(LEFT(J1000,FIND(":",J1000)-1)))

Sheet Glacial_PLG
A1: User_Code | B1: KIND_Display | C1: KIND | D1: Notes
A2: GLACIALSTR_001 | C2: =IF(B2="","",VALUE(LEFT(B2,FIND(":",B2)-1)))
C3: =IF(B3="","",VALUE(LEFT(B3,FIND(":",B3)-1)))
C4: =IF(B4="","",VALUE(LEFT(B4,FIND(":",B4)-1)))
C5: =IF(B5="","",VALUE(LEFT(B5,FIND(":",B5)-1)))
C6: =IF(B6="","",VALUE(LEFT(B6,FIND(":",B6)-1)))
C7: =IF(B7="","",VALUE(LEFT(B7,FIND(":",B7)-1)))
C8: =IF(B8="","",VALUE(LEFT(B8,FIND(":",B8)-1)))
C9: =IF(B9="","",VALUE(LEFT(B9,FIND(":",B9)-1)))
C10: =IF(B10="","",VALUE(LEFT(B10,FIND(":",B10)-1)))
C11: =IF(B11="","",VALUE(LEFT(B11,FIND(":",B11)-1)))
C12: =IF(B12="","",VALUE(LEFT(B12,FIND(":",B12)-1)))
C13: =IF(B13="","",VALUE(LEFT(B13,FIND(":",B13)-1)))
C14: =IF(B14="","",VALUE(LEFT(B14,FIND(":",B14)-1)))
... C1000: =IF(B1000="","",VALUE(LEFT(B1000,FIND(":",B1000)-1)))

Sheet Erosion_PT
A1: User_Code | B1: KIND_Display | C1: KIND | D1: Notes
A2: EROSIONALS_001 | C2: =IF(B2="","",VALUE(LEFT(B2,FIND(":",B2)-1)))
C3: =IF(B3="","",VALUE(LEFT(B3,FIND(":",B3)-1)))
C4: =IF(B4="","",VALUE(LEFT(B4,FIND(":",B4)-1)))
C5: =IF(B5="","",VALUE(LEFT(B5,FIND(":",B5)-1)))
C6: =IF(B6="","",VALUE(LEFT(B6,FIND(":",B6)-1)))
C7: =IF(B7="","",VALUE(LEFT(B7,FIND(":",B7)-1)))
C8: =IF(B8="","",VALUE(LEFT(B8,FIND(":",B8)-1)))
C9: =IF(B9="","",VALUE(LEFT(B9,FIND(":",B9)-1)))
C10: =IF(B10="","",VALUE(LEFT(B10,FIND(":",B10)-1)))
C11: =IF(B11="","",VALUE(LEFT(B11,FIND(":",B11)-1)))
C12: =IF(B12="","",VALUE(LEFT(B12,FIND(":",B12)-1)))
C13: =IF(B13="","",VALUE(LEFT(B13,FIND(":",B13)-1)))
C14: =IF(B14="","",VALUE(LEFT(B14,FIND(":",B14)-1)))
... C1000: =IF(B1000="","",VALUE(LEFT(B1000,FIND(":",B1000)-1)))

Sheet Erosion_L
A1: User_Code | B1: KIND_Display | C1: KIND | D1: Notes
A2: EROSIONALS_001 | C2: =IF(B2="","",VALUE(LEFT(B2,FIND(":",B2)-1)))
C3: =IF(B3="","",VALUE(LEFT(B3,FIND(":",B3)-1)))
C4: =IF(B4="","",VALUE(LEFT(B4,FIND(":",B4)-1)))
C5: =IF(B5="","",VALUE(LEFT(B5,FIND(":",B5)-1)))
C6: =IF(B6="","",VALUE(LEFT(B6,FIND(":",B6)-1)))
C7: =IF(B7="","",VALUE(LEFT(B7,FIND(":",B7)-1)))
C8: =IF(B8="","",VALUE(LEFT(B8,FIND(":",B8)-1)))
C9: =IF(B9="","",VALUE(LEFT(B9,FIND(":",B9)-1)))
C10: =IF(B10="","",VALUE(LEFT(B10,FIND(":",B10)-1)))
C11: =IF(B11="","",VALUE(LEFT(B11,FIND(":",B11)-1)))
C12: =IF(B12="","",VALUE(LEFT(B12,FIND(":",B12)-1)))
C13: =IF(B13="","",VALUE(LEFT(B13,FIND(":",B13)-1)))
C14: =IF(B14="","",VALUE(LEFT(B14,FIND(":",B14)-1)))
... C1000: =IF(B1000="","",VALUE(LEFT(B1000,FIND(":",B1000)-1)))

Sheet Karst_PT
A1: User_Code | B1: KIND_Display | C1: KIND | D1: Notes
A2: KARSTICSTR_001 | C2: =IF(B2="","",VALUE(LEFT(B2,FIND(":",B2)-1)))
C3: =IF(B3="","",VALUE(LEFT(B3,FIND(":",B3)-1)))
C4: =IF(B4="","",VALUE(LEFT(B4,FIND(":",B4)-1)))
C5: =IF(B5="","",VALUE(LEFT(B5,FIND(":",B5)-1)))
C6: =IF(B6="","",VALUE(LEFT(B6,FIND(":",B6)-1)))
C7: =IF(B7="","",VALUE(LEFT(B7,FIND(":",B7)-1)))
C8: =IF(B8="","",VALUE(LEFT(B8,FIND(":",B8)-1)))
C9: =IF(B9="","",VALUE(LEFT(B9,FIND(":",B9)-1)))
C10: =IF(B10="","",VALUE(LEFT(B10,FIND(":",B10)-1)))
C11: =IF(B11="","",VALUE(LEFT(B11,FIND(":",B11)-1)))
C12: =IF(B12="","",VALUE(LEFT(B12,FIND(":",B12)-1)))
C13: =IF(B13="","",VALUE(LEFT(B13,FIND(":",B13)-1)))
C14: =IF(B14="","",VALUE(LEFT(B14,FIND(":",B14)-1)))
... C1000: =IF(B1000="","",VALUE(LEFT(B1000,FIND(":",B1000)-1)))

Sheet Karst_PLG
A1: User_Code | B1: KIND_Display | C1: KIND | D1: Notes
A2: KARSTICSTR_001 | C2: =IF(B2="","",VALUE(LEFT(B2,FIND(":",B2)-1)))
C3: =IF(B3="","",VALUE(LEFT(B3,FIND(":",B3)-1)))
C4: =IF(B4="","",VALUE(LEFT(B4,FIND(":",B4)-1)))
C5: =IF(B5="","",VALUE(LEFT(B5,FIND(":",B5)-1)))
C6: =IF(B6="","",VALUE(LEFT(B6,FIND(":",B6)-1)))
C7: =IF(B7="","",VALUE(LEFT(B7,FIND(":",B7)-1)))
C8: =IF(B8="","",VALUE(LEFT(B8,FIND(":",B8)-1)))
C9: =IF(B9="","",VALUE(LEFT(B9,FIND(":",B9)-1)))
C10: =IF(B10="","",VALUE(LEFT(B10,FIND(":",B10)-1)))
C11: =IF(B11="","",VALUE(LEFT(B11,FIND(":",B11)-1)))
C12: =IF(B12="","",VALUE(LEFT(B12,FIND(":",B12)-1)))
C13: =IF(B13="","",VALUE(LEFT(B13,FIND(":",B13)-1)))
C14: =IF(B14="","",VALUE(LEFT(B14,FIND(":",B14)-1)))
... C1000: =IF(B1000="","",VALUE(LEFT(B1000,FIND(":",B1000)-1)))

Sheet Alluvial_and_Lacustrine_Structu
A1: User_Code | B1: KIND_Display | C1: KIND | D1: GALL_AGE_Display | E1: GALL_AGE | F1: Notes
A2: ALLUVIALAN_001 | C2: =IF(B2="","",VALUE(LEFT(B2,FIND(":",B2)-1))) | E2: =IF(D2="","",VALUE(LEFT(D2,FIND(":",D2)-1)))
C3: =IF(B3="","",VALUE(LEFT(B3,FIND(":",B3)-1))) | E3: =IF(D3="","",VALUE(LEFT(D3,FIND(":",D3)-1)))
C4: =IF(B4="","",VALUE(LEFT(B4,FIND(":",B4)-1))) | E4: =IF(D4="","",VALUE(LEFT(D4,FIND(":",D4)-1)))
C5: =IF(B5="","",VALUE(LEFT(B5,FIND(":",B5)-1))) | E5: =IF(D5="","",VALUE(LEFT(D5,FIND(":",D5)-1)))
C6: =IF(B6="","",VALUE(LEFT(B6,FIND(":",B6)-1))) | E6: =IF(D6="","",VALUE(LEFT(D6,FIND(":",D6)-1)))
C7: =IF(B7="","",VALUE(LEFT(B7,FIND(":",B7)-1))) | E7: =IF(D7="","",VALUE(LEFT(D7,FIND(":",D7)-1)))
C8: =IF(B8="","",VALUE(LEFT(B8,FIND(":",B8)-1))) | E8: =IF(D8="","",VALUE(LEFT(D8,FIND(":",D8)-1)))
C9: =IF(B9="","",VALUE(LEFT(B9,FIND(":",B9)-1))) | E9: =IF(D9="","",VALUE(LEFT(D9,FIND(":",D9)-1)))
C10: =IF(B10="","",VALUE(LEFT(B10,FIND(":",B10)-1))) | E10: =IF(D10="","",VALUE(LEFT(D10,FIND(":",D10)-1)))
C11: =IF(B11="","",VALUE(LEFT(B11,FIND(":",B11)-1))) | E11: =IF(D11="","",VALUE(LEFT(D11,FIND(":",D11)-1)))
C12: =IF(B12="","",VALUE(LEFT(B12,FIND(":",B12)-1))) | E12: =IF(D12="","",VALUE(LEFT(D12,FIND(":",D12)-1)))
C13: =IF(B13="","",VALUE(LEFT(B13,FIND(":",B13)-1))) | E13: =IF(D13="","",VALUE(LEFT(D13,FIND(":",D13)-1)))
C14: =IF(B14="","",VALUE(LEFT(B14,FIND(":",B14)-1))) | E14: =IF(D14="","",VALUE(LEFT(D14,FIND(":",D14)-1)))
... C1000: =IF(B1000="","",VALUE(LEFT(B1000,FIND(":",B1000)-1))) | E1000: =IF(D1000="","",VALUE(LEFT(D1000,FIND(":",D1000)-1)))

Sheet Deformation_PT
A1: User_Code | B1: KIND_Display | C1: KIND | D1: TDEF_FOLD_TYP_Display | E1: TDEF_FOLD_TYP | F1: TDEF_FOLD_FOR_Display | G1: TDEF_FOLD_FOR | H1: Notes
A2: DEFORMATIO_001 | C2: =IF(B2="","",VALUE(LEFT(B2,FIND(":",B2)-1))) | E2: =IF(D2="","",VALUE(LEFT(D2,FIND(":",D2)-1))) | G2: =IF(F2="","",VALUE(LEFT(F2,FIND(":",F2)-1)))
C3: =IF(B3="","",VALUE(LEFT(B3,FIND(":",B3)-1))) | E3: =IF(D3="","",VALUE(LEFT(D3,FIND(":",D3)-1))) | G3: =IF(F3="","",VALUE(LEFT(F3,FIND(":",F3)-1)))
C4: =IF(B4="","",VALUE(LEFT(B4,FIND(":",B4)-1))) | E4: =IF(D4="","",VALUE(LEFT(D4,FIND(":",D4)-1))) | G4: =IF(F4="","",VALUE(LEFT(F4,FIND(":",F4)-1)))
C5: =IF(B5="","",VALUE(LEFT(B5,FIND(":",B5)-1))) | E5: =IF(D5="","",VALUE(LEFT(D5,FIND(":",D5)-1))) | G5: =IF(F5="","",VALUE(LEFT(F5,FIND(":",F5)-1)))
C6: =IF(B6="","",VALUE(LEFT(B6,FIND(":",B6)-1))) | E6: =IF(D6="","",VALUE(LEFT(D6,FIND(":",D6)-1))) | G6: =IF(F6="","",VALUE(LEFT(F6,FIND(":",F6)-1)))
C7: =IF(B7="","",VALUE(LEFT(B7,FIND(":",B7)-1))) | E7: =IF(D7="","",VALUE(LEFT(D7,FIND(":",D7)-1))) | G7: =IF(F7="","",VALUE(LEFT(F7,FIND(":",F7)-1)))
C8: =IF(B8="","",VALUE(LEFT(B8,FIND(":",B8)-1))) | E8: =IF(D8="","",VALUE(LEFT(D8,FIND(":",D8)-1))) | G8: =IF(F8="","",VALUE(LEFT(F8,FIND(":",F8)-1)))
C9: =IF(B9="","",VALUE(LEFT(B9,FIND(":",B9)-1))) | E9: =IF(D9="","",VALUE(LEFT(D9,FIND(":",D9)-1))) | G9: =IF(F9="","",VALUE(LEFT(F9,FIND(":",F9)-1)))
C10: =IF(B10="","",VALUE(LEFT(B10,FIND(":",B10)-1))) | E10: =IF(D10="","",VALUE(LEFT(D10,FIND(":",D10)-1))) | G10: =IF(F10="","",VALUE(LEFT(F10,FIND(":",F10)-1)))
C11: =IF(B11="","",VALUE(LEFT(B11,FIND(":",B11)-1))) | E11: =IF(D11="","",VALUE(LEFT(D11,FIND(":",D11)-1))) | G11: =IF(F11="","",VALUE(LEFT(F11,FIND(":",F11)-1)))
C12: =IF(B12="","",VALUE(LEFT(B12,FIND(":",B12)-1))) | E12: =IF(D12="","",VALUE(LEFT(D12,FIND(":",D12)-1))) | G12: =IF(F12="","",VALUE(LEFT(F12,FIND(":",F12)-1)))
C13: =IF(B13="","",VALUE(LEFT(B13,FIND(":",B13)-1))) | E13: =IF(D13="","",VALUE(LEFT(D13,FIND(":",D13)-1))) | G13: =IF(F13="","",VALUE(LEFT(F13,FIND(":",F13)-1)))
C14: =IF(B14="","",VALUE(LEFT(B14,FIND(":",B14)-1))) | E14: =IF(D14="","",VALUE(LEFT(D14,FIND(":",D14)-1))) | G14: =IF(F14="","",VALUE(LEFT(F14,FIND(":",F14)-1)))
... C1000: =IF(B1000="","",VALUE(LEFT(B1000,FIND(":",B1000)-1))) | E1000: =IF(D1000="","",VALUE(LEFT(D1000,FIND(":",D1000)-1))) | G1000: =IF(F1000="","",VALUE(LEFT(F1000,FIND(":",F1000)-1)))

Sheet Deformation_L
A1: User_Code | B1: KIND_Display | C1: KIND | D1: Notes
A2: DEFORMATIO_001 | C2: =IF(B2="","",VALUE(LEFT(B2,FIND(":",B2)-1)))
C3: =IF(B3="","",VALUE(LEFT(B3,FIND(":",B3)-1)))
C4: =IF(B4="","",VALUE(LEFT(B4,FIND(":",B4)-1)))
C5: =IF(B5="","",VALUE(LEFT(B5,FIND(":",B5)-1)))
C6: =IF(B6="","",VALUE(LEFT(B6,FIND(":",B6)-1)))
C7: =IF(B7="","",VALUE(LEFT(B7,FIND(":",B7)-1)))
C8: =IF(B8="","",VALUE(LEFT(B8,FIND(":",B8)-1)))
C9: =IF(B9="","",VALUE(LEFT(B9,FIND(":",B9)-1)))
C10: =IF(B10="","",VALUE(LEFT(B10,FIND(":",B10)-1)))
C11: =IF(B11="","",VALUE(LEFT(B11,FIND(":",B11)-1)))
C12: =IF(B12="","",VALUE(LEFT(B12,FIND(":",B12)-1)))
C13: =IF(B13="","",VALUE(LEFT(B13,FIND(":",B13)-1)))
C14: =IF(B14="","",VALUE(LEFT(B14,FIND(":",B14)-1)))
... C1000: =IF(B1000="","",VALUE(LEFT(B1000,FIND(":",B1000)-1)))

Sheet Deformation_PLG
A1: User_Code | B1: KIND_Display | C1: KIND | D1: TYPE_Display | E1: TYPE | F1: Notes
A2: DEFORMATIO_001 | C2: =IF(B2="","",VALUE(LEFT(B2,FIND(":",B2)-1))) | E2: =IF(D2="","",VALUE(LEFT(D2,FIND(":",D2)-1)))
C3: =IF(B3="","",VALUE(LEFT(B3,FIND(":",B3)-1))) | E3: =IF(D3="","",VALUE(LEFT(D3,FIND(":",D3)-1)))
C4: =IF(B4="","",VALUE(LEFT(B4,FIND(":",B4)-1))) | E4: =IF(D4="","",VALUE(LEFT(D4,FIND(":",D4)-1)))
C5: =IF(B5="","",VALUE(LEFT(B5,FIND(":",B5)-1))) | E5: =IF(D5="","",VALUE(LEFT(D5,FIND(":",D5)-1)))
C6: =IF(B6="","",VALUE(LEFT(B6,FIND(":",B6)-1))) | E6: =IF(D6="","",VALUE(LEFT(D6,FIND(":",D6)-1)))
C7: =IF(B7="","",VALUE(LEFT(B7,FIND(":",B7)-1))) | E7: =IF(D7="","",VALUE(LEFT(D7,FIND(":",D7)-1)))
C8: =IF(B8="","",VALUE(LEFT(B8,FIND(":",B8)-1))) | E8: =IF(D8="","",VALUE(LEFT(D8,FIND(":",D8)-1)))
C9: =IF(B9="","",VALUE(LEFT(B9,FIND(":",B9)-1))) | E9: =IF(D9="","",VALUE(LEFT(D9,FIND(":",D9)-1)))
C10: =IF(B10="","",VALUE(LEFT(B10,FIND(":",B10)-1))) | E10: =IF(D10="","",VALUE(LEFT(D10,FIND(":",D10)-1)))
C11: =IF(B11="","",VALUE(LEFT(B11,FIND(":",B11)-1))) | E11: =IF(D11="","",VALUE(LEFT(D11,FIND(":",D11)-1)))
C12: =IF(B12="","",VALUE(LEFT(B12,FIND(":",B12)-1))) | E12: =IF(D12="","",VALUE(LEFT(D12,FIND(":",D12)-1)))
C13: =IF(B13="","",VALUE(LEFT(B13,FIND(":",B13)-1))) | E13: =IF(D13="","",VALUE(LEFT(D13,FIND(":",D13)-1)))
C14: =IF(B14="","",VALUE(LEFT(B14,FIND(":",B14)-1))) | E14: =IF(D14="","",VALUE(LEFT(D14,FIND(":",D14)-1)))
... C1000: =IF(B1000="","",VALUE(LEFT(B1000,FIND(":",B1000)-1))) | E1000: =IF(D1000="","",VALUE(LEFT(D1000,FIND(":",D1000)-1)))

Sheet Tectonic_L
A1: User_Code | B1: KIND_Display | C1: KIND | D1: TTEC_FAULT_MO_Display | E1: TTEC_FAULT_MO | F1: TTECT_VERTI_MO_Display | G1: TTECT_VERTI_MO | H1: TTEC_HORIZ_MO_Display | I1: TTEC_HORIZ_MO | J1: TTEC_LIM_TYP_Display | K1: TTEC_LIM_TYP | L1: HIERA_Display | M1: HIERA | N1: STATUS_Display | O1: STATUS | P1: META_STA_Display | Q1: META_STA | R1: Notes
A2: TECTONICBO_001 | C2: =IF(B2="","",VALUE(LEFT(B2,FIND(":",B2)-1))) | E2: =IF(D2="","",VALUE(LEFT(D2,FIND(":",D2)-1))) | G2: =IF(F2="","",VALUE(LEFT(F2,FIND(":",F2)-1))) | I2: =IF(H2="","",VALUE(LEFT(H2,FIND(":",H2)-1))) | K2: =IF(J2="","",VALUE(LEFT(J2,FIND(":",J2)-1))) | M2: =IF(L2="","",VALUE(LEFT(L2,FIND(":",L2)-1))) | O2: =IF(N2="","",VALUE(LEFT(N2,FIND(":",N2)-1))) | Q2: =IF(P2="","",VALUE(LEFT(P2,FIND(":",P2)-1)))
C3: =IF(B3="","",VALUE(LEFT(B3,FIND(":",B3)-1))) | E3: =IF(D3="","",VALUE(LEFT(D3,FIND(":",D3)-1))) | G3: =IF(F3="","",VALUE(LEFT(F3,FIND(":",F3)-1))) | I3: =IF(H3="","",VALUE(LEFT(H3,FIND(":",H3)-1))) | K3: =IF(J3="","",VALUE(LEFT(J3,FIND(":",J3)-1))) | M3: =IF(L3="","",VALUE(LEFT(L3,FIND(":",L3)-1))) | O3: =IF(N3="","",VALUE(LEFT(N3,FIND(":",N3)-1))) | Q3: =IF(P3="","",VALUE(LEFT(P3,FIND(":",P3)-1)))
C4: =IF(B4="","",VALUE(LEFT(B4,FIND(":",B4)-1))) | E4: =IF(D4="","",VALUE(LEFT(D4,FIND(":",D4)-1))) | G4: =IF(F4="","",VALUE(LEFT(F4,FIND(":",F4)-1))) | I4: =IF(H4="","",VALUE(LEFT(H4,FIND(":",H4)-1))) | K4: =IF(J4="","",VALUE(LEFT(J4,FIND(":",J4)-1))) | M4: =IF(L4="","",VALUE(LEFT(L4,FIND(":",L4)-1))) | O4: =IF(N4="","",VALUE(LEFT(N4,FIND(":",N4)-1))) | Q4: =IF(P4="","",VALUE(LEFT(P4,FIND(":",P4)-1)))
C5: =IF(B5="","",VALUE(LEFT(B5,FIND(":",B5)-1))) | E5: =IF(D5="","",VALUE(LEFT(D5,FIND(":",D5)-1))) | G5: =IF(F5="","",VALUE(LEFT(F5,FIND(":",F5)-1))) | I5: =IF(H5="","",VALUE(LEFT(H5,FIND(":",H5)-1))) | K5: =IF(J5="","",VALUE(LEFT(J5,FIND(":",J5)-1))) | M5: =IF(L5="","",VALUE(LEFT(L5,FIND(":",L5)-1))) | O5: =IF(N5="","",VALUE(LEFT(N5,FIND(":",N5)-1))) | Q5: =IF(P5="","",VALUE(LEFT(P5,FIND(":",P5)-1)))
C6: =IF(B6="","",VALUE(LEFT(B6,FIND(":",B6)-1))) | E6: =IF(D6="","",VALUE(LEFT(D6,FIND(":",D6)-1))) | G6: =IF(F6="","",VALUE(LEFT(F6,FIND(":",F6)-1))) | I6: =IF(H6="","",VALUE(LEFT(H6,FIND(":",H6)-1))) | K6: =IF(J6="","",VALUE(LEFT(J6,FIND(":",J6)-1))) | M6: =IF(L6="","",VALUE(LEFT(L6,FIND(":",L6)-1))) | O6: =IF(N6="","",VALUE(LEFT(N6,FIND(":",N6)-1))) | Q6: =IF(P6="","",VALUE(LEFT(P6,FIND(":",P6)-1)))
C7: =IF(B7="","",VALUE(LEFT(B7,FIND(":",B7)-1))) | E7: =IF(D7="","",VALUE(LEFT(D7,FIND(":",D7)-1))) | G7: =IF(F7="","",VALUE(LEFT(F7,FIND(":",F7)-1))) | I7: =IF(H7="","",VALUE(LEFT(H7,FIND(":",H7)-1))) | K7: =IF(J7="","",VALUE(LEFT(J7,FIND(":",J7)-1))) | M7: =IF(L7="","",VALUE(LEFT(L7,FIND(":",L7)-1))) | O7: =IF(N7="","",VALUE(LEFT(N7,FIND(":",N7)-1))) | Q7: =IF(P7="","",VALUE(LEFT(P7,FIND(":",P7)-1)))
C8: =IF(B8="","",VALUE(LEFT(B8,FIND(":",B8)-1))) | E8: =IF(D8="","",VALUE(LEFT(D8,FIND(":",D8)-1))) | G8: =IF(F8="","",VALUE(LEFT(F8,FIND(":",F8)-1))) | I8: =IF(H8="","",VALUE(LEFT(H8,FIND(":",H8)-1))) | K8: =IF(J8="","",VALUE(LEFT(J8,FIND(":",J8)-1))) | M8: =IF(L8="","",VALUE(LEFT(L8,FIND(":",L8)-1))) | O8: =IF(N8="","",VALUE(LEFT(N8,FIND(":",N8)-1))) | Q8: =IF(P8="","",VALUE(LEFT(P8,FIND(":",P8)-1)))
C9: =IF(B9="","",VALUE(LEFT(B9,FIND(":",B9)-1))) | E9: =IF(D9="","",VALUE(LEFT(D9,FIND(":",D9)-1))) | G9: =IF(F9="","",VALUE(LEFT(F9,FIND(":",F9)-1))) | I9: =IF(H9="","",VALUE(LEFT(H9,FIND(":",H9)-1))) | K9: =IF(J9="","",VALUE(LEFT(J9,FIND(":",J9)-1))) | M9: =IF(L9="","",VALUE(LEFT(L9,FIND(":",L9)-1))) | O9: =IF(N9="","",VALUE(LEFT(N9,FIND(":",N9)-1))) | Q9: =IF(P9="","",VALUE(LEFT(P9,FIND(":",P9)-1)))
C10: =IF(B10="","",VALUE(LEFT(B10,FIND(":",B10)-1))) | E10: =IF(D10="","",VALUE(LEFT(D10,FIND(":",D10)-1))) | G10: =IF(F10="","",VALUE(LEFT(F10,FIND(":",F10)-1))) | I10: =IF(H10="","",VALUE(LEFT(H10,FIND(":",H10)-1))) | K10: =IF(J10="","",VALUE(LEFT(J10,FIND(":",J10)-1))) | M10: =IF(L10="","",VALUE(LEFT(L10,FIND(":",L10)-1))) | O10: =IF(N10="","",VALUE(LEFT(N10,FIND(":",N10)-1))) | Q10: =IF(P10="","",VALUE(LEFT(P10,FIND(":",P10)-1)))
C11: =IF(B11="","",VALUE(LEFT(B11,FIND(":",B11)-1))) | E11: =IF(D11="","",VALUE(LEFT(D11,FIND(":",D11)-1))) | G11: =IF(F11="","",VALUE(LEFT(F11,FIND(":",F11)-1))) | I11: =IF(H11="","",VALUE(LEFT(H11,FIND(":",H11)-1))) | K11: =IF(J11="","",VALUE(LEFT(J11,FIND(":",J11)-1))) | M11: =IF(L11="","",VALUE(LEFT(L11,FIND(":",L11)-1))) | O11: =IF(N11="","",VALUE(LEFT(N11,FIND(":",N11)-1))) | Q11: =IF(P11="","",VALUE(LEFT(P11,FIND(":",P11)-1)))
C12: =IF(B12="","",VALUE(LEFT(B12,FIND(":",B12)-1))) | E12: =IF(D12="","",VALUE(LEFT(D12,FIND(":",D12)-1))) | G12: =IF(F12="","",VALUE(LEFT(F12,FIND(":",F12)-1))) | I12: =IF(H12="","",VALUE(LEFT(H12,FIND(":",H12)-1))) | K12: =IF(J12="","",VALUE(LEFT(J12,FIND(":",J12)-1))) | M12: =IF(L12="","",VALUE(LEFT(L12,FIND(":",L12)-1))) | O12: =IF(N12="","",VALUE(LEFT(N12,FIND(":",N12)-1))) | Q12: =IF(P12="","",VALUE(LEFT(P12,FIND(":",P12)-1)))
C13: =IF(B13="","",VALUE(LEFT(B13,FIND(":",B13)-1))) | E13: =IF(D13="","",VALUE(LEFT(D13,FIND(":",D13)-1))) | G13: =IF(F13="","",VALUE(LEFT(F13,FIND(":",F13)-1))) | I13: =IF(H13="","",VALUE(LEFT(H13,FIND(":",H13)-1))) | K13: =IF(J13="","",VALUE(LEFT(J13,FIND(":",J13)-1))) | M13: =IF(L13="","",VALUE(LEFT(L13,FIND(":",L13)-1))) | O13: =IF(N13="","",VALUE(LEFT(N13,FIND(":",N13)-1))) | Q13: =IF(P13="","",VALUE(LEFT(P13,FIND(":",P13)-1)))
C14: =IF(B14="","",VALUE(LEFT(B14,FIND(":",B14)-1))) | E14: =IF(D14="","",VALUE(LEFT(D14,FIND(":",D14)-1))) | G14: =IF(F14="","",VALUE(LEFT(F14,FIND(":",F14)-1))) | I14: =IF(H14="","",VALUE(LEFT(H14,FIND(":",H14)-1))) | K14: =IF(J14="","",VALUE(LEFT(J14,FIND(":",J14)-1))) | M14: =IF(L14="","",VALUE(LEFT(L14,FIND(":",L14)-1))) | O14: =IF(N14="","",VALUE(LEFT(N14,FIND(":",N14)-1))) | Q14: =IF(P14="","",VALUE(LEFT(P14,FIND(":",P14)-1)))
... C1000: =IF(B1000="","",VALUE(LEFT(B1000,FIND(":",B1000)-1))) | E1000: =IF(D1000="","",VALUE(LEFT(D1000,FIND(":",D1000)-1))) | G1000: =IF(F1000="","",VALUE(LEFT(F1000,FIND(":",F1000)-1))) | I1000: =IF(H1000="","",VALUE(LEFT(H1000,FIND(":",H1000)-1))) | K1000: =IF(J1000="","",VALUE(LEFT(J1000,FIND(":",J1000)-1))) | M1000: =IF(L1000="","",VALUE(LEFT(L1000,FIND(":",L1000)-1))) | O1000: =IF(N1000="","",VALUE(LEFT(N1000,FIND(":",N1000)-1))) | Q1000: =IF(P1000="","",VALUE(LEFT(P1000,FIND(":",P1000)-1)))

Sheet Folds_PT
A1: User_Code | B1: KIND_Display | C1: KIND | D1: MFOL_FOLD_TYP_Display | E1: MFOL_FOLD_TYP | F1: FOLD_FOR_Display | G1: FOLD_FOR | H1: MFOL_PHASE_Display | I1: MFOL_PHASE | J1: Notes
A2: FOLDSPT_001 | C2: =IF(B2="","",VALUE(LEFT(B2,FIND(":",B2)-1))) | E2: =IF(D2="","",VALUE(LEFT(D2,FIND(":",D2)-1))) | G2: =IF(F2="","",VALUE(LEFT(F2,FIND(":",F2)-1))) | I2: =IF(H2="","",VALUE(LEFT(H2,FIND(":",H2)-1)))
C3: =IF(B3="","",VALUE(LEFT(B3,FIND(":",B3)-1))) | E3: =IF(D3="","",VALUE(LEFT(D3,FIND(":",D3)-1))) | G3: =IF(F3="","",VALUE(LEFT(F3,FIND(":",F3)-1))) | I3: =IF(H3="","",VALUE(LEFT(H3,FIND(":",H3)-1)))
C4: =IF(B4="","",VALUE(LEFT(B4,FIND(":",B4)-1))) | E4: =IF(D4="","",VALUE(LEFT(D4,FIND(":",D4)-1))) | G4: =IF(F4="","",VALUE(LEFT(F4,FIND(":",F4)-1))) | I4: =IF(H4="","",VALUE(LEFT(H4,FIND(":",H4)-1)))
C5: =IF(B5="","",VALUE(LEFT(B5,FIND(":",B5)-1))) | E5: =IF(D5="","",VALUE(LEFT(D5,FIND(":",D5)-1))) | G5: =IF(F5="","",VALUE(LEFT(F5,FIND(":",F5)-1))) | I5: =IF(H5="","",VALUE(LEFT(H5,FIND(":",H5)-1)))
C6: =IF(B6="","",VALUE(LEFT(B6,FIND(":",B6)-1))) | E6: =IF(D6="","",VALUE(LEFT(D6,FIND(":",D6)-1))) | G6: =IF(F6="","",VALUE(LEFT(F6,FIND(":",F6)-1))) | I6: =IF(H6="","",VALUE(LEFT(H6,FIND(":",H6)-1)))
C7: =IF(B7="","",VALUE(LEFT(B7,FIND(":",B7)-1))) | E7: =IF(D7="","",VALUE(LEFT(D7,FIND(":",D7)-1))) | G7: =IF(F7="","",VALUE(LEFT(F7,FIND(":",F7)-1))) | I7: =IF(H7="","",VALUE(LEFT(H7,FIND(":",H7)-1)))
C8: =IF(B8="","",VALUE(LEFT(B8,FIND(":",B8)-1))) | E8: =IF(D8="","",VALUE(LEFT(D8,FIND(":",D8)-1))) | G8: =IF(F8="","",VALUE(LEFT(F8,FIND(":",F8)-1))) | I8: =IF(H8="","",VALUE(LEFT(H8,FIND(":",H8)-1)))
C9: =IF(B9="","",VALUE(LEFT(B9,FIND(":",B9)-1))) | E9: =IF(D9="","",VALUE(LEFT(D9,FIND(":",D9)-1))) | G9: =IF(F9="","",VALUE(LEFT(F9,FIND(":",F9)-1))) | I9: =IF(H9="","",VALUE(LEFT(H9,FIND(":",H9)-1)))
C10: =IF(B10="","",VALUE(LEFT(B10,FIND(":",B10)-1))) | E10: =IF(D10="","",VALUE(LEFT(D10,FIND(":",D10)-1))) | G10: =IF(F10="","",VALUE(LEFT(F10,FIND(":",F10)-1))) | I10: =IF(H10="","",VALUE(LEFT(H10,FIND(":",H10)-1)))
C11: =IF(B11="","",VALUE(LEFT(B11,FIND(":",B11)-1))) | E11: =IF(D11="","",VALUE(LEFT(D11,FIND(":",D11)-1))) | G11: =IF(F11="","",VALUE(LEFT(F11,FIND(":",F11)-1))) | I11: =IF(H11="","",VALUE(LEFT(H11,FIND(":",H11)-1)))
C12: =IF(B12="","",VALUE(LEFT(B12,FIND(":",B12)-1))) | E12: =IF(D12="","",VALUE(LEFT(D12,FIND(":",D12)-1))) | G12: =IF(F12="","",VALUE(LEFT(F12,FIND(":",F12)-1))) | I12: =IF(H12="","",VALUE(LEFT(H12,FIND(":",H12)-1)))
C13: =IF(B13="","",VALUE(LEFT(B13,FIND(":",B13)-1))) | E13: =IF(D13="","",VALUE(LEFT(D13,FIND(":",D13)-1))) | G13: =IF(F13="","",VALUE(LEFT(F13,FIND(":",F13)-1))) | I13: =IF(H13="","",VALUE(LEFT(H13,FIND(":",H13)-1)))
C14: =IF(B14="","",VALUE(LEFT(B14,FIND(":",B14)-1))) | E14: =IF(D14="","",VALUE(LEFT(D14,FIND(":",D14)-1))) | G14: =IF(F14="","",VALUE(LEFT(F14,FIND(":",F14)-1))) | I14: =IF(H14="","",VALUE(LEFT(H14,FIND(":",H14)-1)))
... C1000: =IF(B1000="","",VALUE(LEFT(B1000,FIND(":",B1000)-1))) | E1000: =IF(D1000="","",VALUE(LEFT(D1000,FIND(":",D1000)-1))) | G1000: =IF(F1000="","",VALUE(LEFT(F1000,FIND(":",F1000)-1))) | I1000: =IF(H1000="","",VALUE(LEFT(H1000,FIND(":",H1000)-1)))

Sheet Lineation_PT
A1: User_Code | B1: KIND_Display | C1: KIND | D1: Notes
A2: LINEATIONP_001 | C2: =IF(B2="","",VALUE(LEFT(B2,FIND(":",B2)-1)))
C3: =IF(B3="","",VALUE(LEFT(B3,FIND(":",B3)-1)))
C4: =IF(B4="","",VALUE(LEFT(B4,FIND(":",B4)-1)))
C5: =IF(B5="","",VALUE(LEFT(B5,FIND(":",B5)-1)))
C6: =IF(B6="","",VALUE(LEFT(B6,FIND(":",B6)-1)))
C7: =IF(B7="","",VALUE(LEFT(B7,FIND(":",B7)-1)))
C8: =IF(B8="","",VALUE(LEFT(B8,FIND(":",B8)-1)))
C9: =IF(B9="","",VALUE(LEFT(B9,FIND(":",B9)-1)))
C10: =IF(B10="","",VALUE(LEFT(B10,FIND(":",B10)-1)))
C11: =IF(B11="","",VALUE(LEFT(B11,FIND(":",B11)-1)))
C12: =IF(B12="","",VALUE(LEFT(B12,FIND(":",B12)-1)))
C13: =IF(B13="","",VALUE(LEFT(B13,FIND(":",B13)-1)))
C14: =IF(B14="","",VALUE(LEFT(B14,FIND(":",B14)-1)))
... C1000: =IF(B1000="","",VALUE(LEFT(B1000,FIND(":",B1000)-1)))

Sheet Planar_PT
A1: User_Code | B1: KIND_Display | C1: KIND | D1: MPLA_POLARITY_Display | E1: MPLA_POLARITY | F1: MPLA_PHASE_Display | G1: MPLA_PHASE | H1: Notes
A2: PLANARSTRU_001 | C2: =IF(B2="","",VALUE(LEFT(B2,FIND(":",B2)-1))) | E2: =IF(D2="","",VALUE(LEFT(D2,FIND(":",D2)-1))) | G2: =IF(F2="","",VALUE(LEFT(F2,FIND(":",F2)-1)))
C3: =IF(B3="","",VALUE(LEFT(B3,FIND(":",B3)-1))) | E3: =IF(D3="","",VALUE(LEFT(D3,FIND(":",D3)-1))) | G3: =IF(F3="","",VALUE(LEFT(F3,FIND(":",F3)-1)))
C4: =IF(B4="","",VALUE(LEFT(B4,FIND(":",B4)-1))) | E4: =IF(D4="","",VALUE(LEFT(D4,FIND(":",D4)-1))) | G4: =IF(F4="","",VALUE(LEFT(F4,FIND(":",F4)-1)))
C5: =IF(B5="","",VALUE(LEFT(B5,FIND(":",B5)-1))) | E5: =IF(D5="","",VALUE(LEFT(D5,FIND(":",D5)-1))) | G5: =IF(F5="","",VALUE(LEFT(F5,FIND(":",F5)-1)))
C6: =IF(B6="","",VALUE(LEFT(B6,FIND(":",B6)-1))) | E6: =IF(D6="","",VALUE(LEFT(D6,FIND(":",D6)-1))) | G6: =IF(F6="","",VALUE(LEFT(F6,FIND(":",F6)-1)))
C7: =IF(B7="","",VALUE(LEFT(B7,FIND(":",B7)-1))) | E7: =IF(D7="","",VALUE(LEFT(D7,FIND(":",D7)-1))) | G7: =IF(F7="","",VALUE(LEFT(F7,FIND(":",F7)-1)))
C8: =IF(B8="","",VALUE(LEFT(B8,FIND(":",B8)-1))) | E8: =IF(D8="","",VALUE(LEFT(D8,FIND(":",D8)-1))) | G8: =IF(F8="","",VALUE(LEFT(F8,FIND(":",F8)-1)))
C9: =IF(B9="","",VALUE(LEFT(B9,FIND(":",B9)-1))) | E9: =IF(D9="","",VALUE(LEFT(D9,FIND(":",D9)-1))) | G9: =IF(F9="","",VALUE(LEFT(F9,FIND(":",F9)-1)))
C10: =IF(B10="","",VALUE(LEFT(B10,FIND(":",B10)-1))) | E10: =IF(D10="","",VALUE(LEFT(D10,FIND(":",D10)-1))) | G10: =IF(F10="","",VALUE(LEFT(F10,FIND(":",F10)-1)))
C11: =IF(B11="","",VALUE(LEFT(B11,FIND(":",B11)-1))) | E11: =IF(D11="","",VALUE(LEFT(D11,FIND(":",D11)-1))) | G11: =IF(F11="","",VALUE(LEFT(F11,FIND(":",F11)-1)))
C12: =IF(B12="","",VALUE(LEFT(B12,FIND(":",B12)-1))) | E12: =IF(D12="","",VALUE(LEFT(D12,FIND(":",D12)-1))) | G12: =IF(F12="","",VALUE(LEFT(F12,FIND(":",F12)-1)))
C13: =IF(B13="","",VALUE(LEFT(B13,FIND(":",B13)-1))) | E13: =IF(D13="","",VALUE(LEFT(D13,FIND(":",D13)-1))) | G13: =IF(F13="","",VALUE(LEFT(F13,FIND(":",F13)-1)))
C14: =IF(B14="","",VALUE(LEFT(B14,FIND(":",B14)-1))) | E14: =IF(D14="","",VALUE(LEFT(D14,FIND(":",D14)-1))) | G14: =IF(F14="","",VALUE(LEFT(F14,FIND(":",F14)-1)))
... C1000: =IF(B1000="","",VALUE(LEFT(B1000,FIND(":",B1000)-1))) | E1000: =IF(D1000="","",VALUE(LEFT(D1000,FIND(":",D1000)-1))) | G1000: =IF(F1000="","",VALUE(LEFT(F1000,FIND(":",F1000)-1)))

Sheet Anomaly_PT
A1: User_Code | B1: KIND_Display | C1: KIND | D1: LANO_TYPE_Display | E1: LANO_TYPE | F1: Notes
A2: ANOMALIESP_001 | C2: =IF(B2="","",VALUE(LEFT(B2,FIND(":",B2)-1))) | E2: =IF(D2="","",VALUE(LEFT(D2,FIND(":",D2)-1)))
C3: =IF(B3="","",VALUE(LEFT(B3,FIND(":",B3)-1))) | E3: =IF(D3="","",VALUE(LEFT(D3,FIND(":",D3)-1)))
C4: =IF(B4="","",VALUE(LEFT(B4,FIND(":",B4)-1))) | E4: =IF(D4="","",VALUE(LEFT(D4,FIND(":",D4)-1)))
C5: =IF(B5="","",VALUE(LEFT(B5,FIND(":",B5)-1))) | E5: =IF(D5="","",VALUE(LEFT(D5,FIND(":",D5)-1)))
C6: =IF(B6="","",VALUE(LEFT(B6,FIND(":",B6)-1))) | E6: =IF(D6="","",VALUE(LEFT(D6,FIND(":",D6)-1)))
C7: =IF(B7="","",VALUE(LEFT(B7,FIND(":",B7)-1))) | E7: =IF(D7="","",VALUE(LEFT(D7,FIND(":",D7)-1)))
C8: =IF(B8="","",VALUE(LEFT(B8,FIND(":",B8)-1))) | E8: =IF(D8="","",VALUE(LEFT(D8,FIND(":",D8)-1)))
C9: =IF(B9="","",VALUE(LEFT(B9,FIND(":",B9)-1))) | E9: =IF(D9="","",VALUE(LEFT(D9,FIND(":",D9)-1)))
C10: =IF(B10="","",VALUE(LEFT(B10,FIND(":",B10)-1))) | E10: =IF(D10="","",VALUE(LEFT(D10,FIND(":",D10)-1)))
C11: =IF(B11="","",VALUE(LEFT(B11,FIND(":",B11)-1))) | E11: =IF(D11="","",VALUE(LEFT(D11,FIND(":",D11)-1)))
C12: =IF(B12="","",VALUE(LEFT(B12,FIND(":",B12)-1))) | E12: =IF(D12="","",VALUE(LEFT(D12,FIND(":",D12)-1)))
C13: =IF(B13="","",VALUE(LEFT(B13,FIND(":",B13)-1))) | E13: =IF(D13="","",VALUE(LEFT(D13,FIND(":",D13)-1)))
C14: =IF(B14="","",VALUE(LEFT(B14,FIND(":",B14)-1))) | E14: =IF(D14="","",VALUE(LEFT(D14,FIND(":",D14)-1)))
... C1000: =IF(B1000="","",VALUE(LEFT(B1000,FIND(":",B1000)-1))) | E1000: =IF(D1000="","",VALUE(LEFT(D1000,FIND(":",D1000)-1)))

Sheet Resources_PT
A1: User_Code | B1: KIND_Display | C1: KIND | D1: LRES_STATUS_Display | E1: LRES_STATUS | F1: LRES_MATERIAL_Display | G1: LRES_MATERIAL | H1: Notes
A2: INDICATION_001 | C2: =IF(B2="","",VALUE(LEFT(B2,FIND(":",B2)-1))) | E2: =IF(D2="","",VALUE(LEFT(D2,FIND(":",D2)-1))) | G2: =IF(F2="","",VALUE(LEFT(F2,FIND(":",F2)-1)))
C3: =IF(B3="","",VALUE(LEFT(B3,FIND(":",B3)-1))) | E3: =IF(D3="","",VALUE(LEFT(D3,FIND(":",D3)-1))) | G3: =IF(F3="","",VALUE(LEFT(F3,FIND(":",F3)-1)))
C4: =IF(B4="","",VALUE(LEFT(B4,FIND(":",B4)-1))) | E4: =IF(D4="","",VALUE(LEFT(D4,FIND(":",D4)-1))) | G4: =IF(F4="","",VALUE(LEFT(F4,FIND(":",F4)-1)))
C5: =IF(B5="","",VALUE(LEFT(B5,FIND(":",B5)-1))) | E5: =IF(D5="","",VALUE(LEFT(D5,FIND(":",D5)-1))) | G5: =IF(F5="","",VALUE(LEFT(F5,FIND(":",F5)-1)))
C6: =IF(B6="","",VALUE(LEFT(B6,FIND(":",B6)-1))) | E6: =IF(D6="","",VALUE(LEFT(D6,FIND(":",D6)-1))) | G6: =IF(F6="","",VALUE(LEFT(F6,FIND(":",F6)-1)))
C7: =IF(B7="","",VALUE(LEFT(B7,FIND(":",B7)-1))) | E7: =IF(D7="","",VALUE(LEFT(D7,FIND(":",D7)-1))) | G7: =IF(F7="","",VALUE(LEFT(F7,FIND(":",F7)-1)))
C8: =IF(B8="","",VALUE(LEFT(B8,FIND(":",B8)-1))) | E8: =IF(D8="","",VALUE(LEFT(D8,FIND(":",D8)-1))) | G8: =IF(F8="","",VALUE(LEFT(F8,FIND(":",F8)-1)))
C9: =IF(B9="","",VALUE(LEFT(B9,FIND(":",B9)-1))) | E9: =IF(D9="","",VALUE(LEFT(D9,FIND(":",D9)-1))) | G9: =IF(F9="","",VALUE(LEFT(F9,FIND(":",F9)-1)))
C10: =IF(B10="","",VALUE(LEFT(B10,FIND(":",B10)-1))) | E10: =IF(D10="","",VALUE(LEFT(D10,FIND(":",D10)-1))) | G10: =IF(F10="","",VALUE(LEFT(F10,FIND(":",F10)-1)))
C11: =IF(B11="","",VALUE(LEFT(B11,FIND(":",B11)-1))) | E11: =IF(D11="","",VALUE(LEFT(D11,FIND(":",D11)-1))) | G11: =IF(F11="","",VALUE(LEFT(F11,FIND(":",F11)-1)))
C12: =IF(B12="","",VALUE(LEFT(B12,FIND(":",B12)-1))) | E12: =IF(D12="","",VALUE(LEFT(D12,FIND(":",D12)-1))) | G12: =IF(F12="","",VALUE(LEFT(F12,FIND(":",F12)-1)))
C13: =IF(B13="","",VALUE(LEFT(B13,FIND(":",B13)-1))) | E13: =IF(D13="","",VALUE(LEFT(D13,FIND(":",D13)-1))) | G13: =IF(F13="","",VALUE(LEFT(F13,FIND(":",F13)-1)))
C14: =IF(B14="","",VALUE(LEFT(B14,FIND(":",B14)-1))) | E14: =IF(D14="","",VALUE(LEFT(D14,FIND(":",D14)-1))) | G14: =IF(F14="","",VALUE(LEFT(F14,FIND(":",F14)-1)))
... C1000: =IF(B1000="","",VALUE(LEFT(B1000,FIND(":",B1000)-1))) | E1000: =IF(D1000="","",VALUE(LEFT(D1000,FIND(":",D1000)-1))) | G1000: =IF(F1000="","",VALUE(LEFT(F1000,FIND(":",F1000)-1)))

Sheet Mineral_L
A1: User_Code | B1: KIND_Display | C1: KIND | D1: Notes
A2: MINERALISE_001 | C2: =IF(B2="","",VALUE(LEFT(B2,FIND(":",B2)-1)))
C3: =IF(B3="","",VALUE(LEFT(B3,FIND(":",B3)-1)))
C4: =IF(B4="","",VALUE(LEFT(B4,FIND(":",B4)-1)))
C5: =IF(B5="","",VALUE(LEFT(B5,FIND(":",B5)-1)))
C6: =IF(B6="","",VALUE(LEFT(B6,FIND(":",B6)-1)))
C7: =IF(B7="","",VALUE(LEFT(B7,FIND(":",B7)-1)))
C8: =IF(B8="","",VALUE(LEFT(B8,FIND(":",B8)-1)))
C9: =IF(B9="","",VALUE(LEFT(B9,FIND(":",B9)-1)))
C10: =IF(B10="","",VALUE(LEFT(B10,FIND(":",B10)-1)))
C11: =IF(B11="","",VALUE(LEFT(B11,FIND(":",B11)-1)))
C12: =IF(B12="","",VALUE(LEFT(B12,FIND(":",B12)-1)))
C13: =IF(B13="","",VALUE(LEFT(B13,FIND(":",B13)-1)))
C14: =IF(B14="","",VALUE(LEFT(B14,FIND(":",B14)-1)))
... C1000: =IF(B1000="","",VALUE(LEFT(B1000,FIND(":",B1000)-1)))

Sheet Sediment_PT
A1: User_Code | B1: KIND_Display | C1: KIND | D1: Notes
A2: SEDIMENTAR_001 | C2: =IF(B2="","",VALUE(LEFT(B2,FIND(":",B2)-1)))
C3: =IF(B3="","",VALUE(LEFT(B3,FIND(":",B3)-1)))
C4: =IF(B4="","",VALUE(LEFT(B4,FIND(":",B4)-1)))
C5: =IF(B5="","",VALUE(LEFT(B5,FIND(":",B5)-1)))
C6: =IF(B6="","",VALUE(LEFT(B6,FIND(":",B6)-1)))
C7: =IF(B7="","",VALUE(LEFT(B7,FIND(":",B7)-1)))
C8: =IF(B8="","",VALUE(LEFT(B8,FIND(":",B8)-1)))
C9: =IF(B9="","",VALUE(LEFT(B9,FIND(":",B9)-1)))
C10: =IF(B10="","",VALUE(LEFT(B10,FIND(":",B10)-1)))
C11: =IF(B11="","",VALUE(LEFT(B11,FIND(":",B11)-1)))
C12: =IF(B12="","",VALUE(LEFT(B12,FIND(":",B12)-1)))
C13: =IF(B13="","",VALUE(LEFT(B13,FIND(":",B13)-1)))
C14: =IF(B14="","",VALUE(LEFT(B14,FIND(":",B14)-1)))
... C1000: =IF(B1000="","",VALUE(LEFT(B1000,FIND(":",B1000)-1)))

Sheet Locality_PT
A1: User_Code | B1: KIND_Display | C1: KIND | D1: LTYP_STRATI_Display | E1: LTYP_STRATI | F1: Notes
A2: TYPELOCALI_001 | C2: =IF(B2="","",VALUE(LEFT(B2,FIND(":",B2)-1))) | E2: =IF(D2="","",VALUE(LEFT(D2,FIND(":",D2)-1)))
C3: =IF(B3="","",VALUE(LEFT(B3,FIND(":",B3)-1))) | E3: =IF(D3="","",VALUE(LEFT(D3,FIND(":",D3)-1)))
C4: =IF(B4="","",VALUE(LEFT(B4,FIND(":",B4)-1))) | E4: =IF(D4="","",VALUE(LEFT(D4,FIND(":",D4)-1)))
C5: =IF(B5="","",VALUE(LEFT(B5,FIND(":",B5)-1))) | E5: =IF(D5="","",VALUE(LEFT(D5,FIND(":",D5)-1)))
C6: =IF(B6="","",VALUE(LEFT(B6,FIND(":",B6)-1))) | E6: =IF(D6="","",VALUE(LEFT(D6,FIND(":",D6)-1)))
C7: =IF(B7="","",VALUE(LEFT(B7,FIND(":",B7)-1))) | E7: =IF(D7="","",VALUE(LEFT(D7,FIND(":",D7)-1)))
C8: =IF(B8="","",VALUE(LEFT(B8,FIND(":",B8)-1))) | E8: =IF(D8="","",VALUE(LEFT(D8,FIND(":",D8)-1)))
C9: =IF(B9="","",VALUE(LEFT(B9,FIND(":",B9)-1))) | E9: =IF(D9="","",VALUE(LEFT(D9,FIND(":",D9)-1)))
C10: =IF(B10="","",VALUE(LEFT(B10,FIND(":",B10)-1))) | E10: =IF(D10="","",VALUE(LEFT(D10,FIND(":",D10)-1)))
C11: =IF(B11="","",VALUE(LEFT(B11,FIND(":",B11)-1))) | E11: =IF(D11="","",VALUE(LEFT(D11,FIND(":",D11)-1)))
C12: =IF(B12="","",VALUE(LEFT(B12,FIND(":",B12)-1))) | E12: =IF(D12="","",VALUE(LEFT(D12,FIND(":",D12)-1)))
C13: =IF(B13="","",VALUE(LEFT(B13,FIND(":",B13)-1))) | E13: =IF(D13="","",VALUE(LEFT(D13,FIND(":",D13)-1)))
C14: =IF(B14="","",VALUE(LEFT(B14,FIND(":",B14)-1))) | E14: =IF(D14="","",VALUE(LEFT(D14,FIND(":",D14)-1)))
... C1000: =IF(B1000="","",VALUE(LEFT(B1000,FIND(":",B1000)-1))) | E1000: =IF(D1000="","",VALUE(LEFT(D1000,FIND(":",D1000)-1)))

Sheet Prominent_Lithological_Features
A1: User_Code | B1: KIND_Display | C1: KIND | D1: CONG_SPE_Display | E1: CONG_SPE | F1: Notes
A2: PROMINENTL_001 | C2: =IF(B2="","",VALUE(LEFT(B2,FIND(":",B2)-1))) | E2: =IF(D2="","",VALUE(LEFT(D2,FIND(":",D2)-1)))
C3: =IF(B3="","",VALUE(LEFT(B3,FIND(":",B3)-1))) | E3: =IF(D3="","",VALUE(LEFT(D3,FIND(":",D3)-1)))
C4: =IF(B4="","",VALUE(LEFT(B4,FIND(":",B4)-1))) | E4: =IF(D4="","",VALUE(LEFT(D4,FIND(":",D4)-1)))
C5: =IF(B5="","",VALUE(LEFT(B5,FIND(":",B5)-1))) | E5: =IF(D5="","",VALUE(LEFT(D5,FIND(":",D5)-1)))
C6: =IF(B6="","",VALUE(LEFT(B6,FIND(":",B6)-1))) | E6: =IF(D6="","",VALUE(LEFT(D6,FIND(":",D6)-1)))
C7: =IF(B7="","",VALUE(LEFT(B7,FIND(":",B7)-1))) | E7: =IF(D7="","",VALUE(LEFT(D7,FIND(":",D7)-1)))
C8: =IF(B8="","",VALUE(LEFT(B8,FIND(":",B8)-1))) | E8: =IF(D8="","",VALUE(LEFT(D8,FIND(":",D8)-1)))
C9: =IF(B9="","",VALUE(LEFT(B9,FIND(":",B9)-1))) | E9: =IF(D9="","",VALUE(LEFT(D9,FIND(":",D9)-1)))
C10: =IF(B10="","",VALUE(LEFT(B10,FIND(":",B10)-1))) | E10: =IF(D10="","",VALUE(LEFT(D10,FIND(":",D10)-1)))
C11: =IF(B11="","",VALUE(LEFT(B11,FIND(":",B11)-1))) | E11: =IF(D11="","",VALUE(LEFT(D11,FIND(":",D11)-1)))
C12: =IF(B12="","",VALUE(LEFT(B12,FIND(":",B12)-1))) | E12: =IF(D12="","",VALUE(LEFT(D12,FIND(":",D12)-1)))
C13: =IF(B13="","",VALUE(LEFT(B13,FIND(":",B13)-1))) | E13: =IF(D13="","",VALUE(LEFT(D13,FIND(":",D13)-1)))
C14: =IF(B14="","",VALUE(LEFT(B14,FIND(":",B14)-1))) | E14: =IF(D14="","",VALUE(LEFT(D14,FIND(":",D14)-1)))
... C1000: =IF(B1000="","",VALUE(LEFT(B1000,FIND(":",B1000)-1))) | E1000: =IF(D1000="","",VALUE(LEFT(D1000,FIND(":",D1000)-1)))

Sheet Misc_PT
A1: User_Code | B1: KIND_Display | C1: KIND | D1: Notes
A2: MISCELLANE_001 | C2: =IF(B2="","",VALUE(LEFT(B2,FIND(":",B2)-1)))
C3: =IF(B3="","",VALUE(LEFT(B3,FIND(":",B3)-1)))
C4: =IF(B4="","",VALUE(LEFT(B4,FIND(":",B4)-1)))
C5: =IF(B5="","",VALUE(LEFT(B5,FIND(":",B5)-1)))
C6: =IF(B6="","",VALUE(LEFT(B6,FIND(":",B6)-1)))
C7: =IF(B7="","",VALUE(LEFT(B7,FIND(":",B7)-1)))
C8: =IF(B8="","",VALUE(LEFT(B8,FIND(":",B8)-1)))
C9: =IF(B9="","",VALUE(LEFT(B9,FIND(":",B9)-1)))
C10: =IF(B10="","",VALUE(LEFT(B10,FIND(":",B10)-1)))
C11: =IF(B11="","",VALUE(LEFT(B11,FIND(":",B11)-1)))
C12: =IF(B12="","",VALUE(LEFT(B12,FIND(":",B12)-1)))
C13: =IF(B13="","",VALUE(LEFT(B13,FIND(":",B13)-1)))
C14: =IF(B14="","",VALUE(LEFT(B14,FIND(":",B14)-1)))
... C1000: =IF(B1000="","",VALUE(LEFT(B1000,FIND(":",B1000)-1)))

Sheet Geology_L
A1: User_Code | B1: KIND_Display | C1: KIND | D1: LGEO_STATUS_Display | E1: LGEO_STATUS | F1: Notes
A2: GEOLOGICAL_001 | C2: =IF(B2="","",VALUE(LEFT(B2,FIND(":",B2)-1))) | E2: =IF(D2="","",VALUE(LEFT(D2,FIND(":",D2)-1)))
C3: =IF(B3="","",VALUE(LEFT(B3,FIND(":",B3)-1))) | E3: =IF(D3="","",VALUE(LEFT(D3,FIND(":",D3)-1)))
C4: =IF(B4="","",VALUE(LEFT(B4,FIND(":",B4)-1))) | E4: =IF(D4="","",VALUE(LEFT(D4,FIND(":",D4)-1)))
C5: =IF(B5="","",VALUE(LEFT(B5,FIND(":",B5)-1))) | E5: =IF(D5="","",VALUE(LEFT(D5,FIND(":",D5)-1)))
C6: =IF(B6="","",VALUE(LEFT(B6,FIND(":",B6)-1))) | E6: =IF(D6="","",VALUE(LEFT(D6,FIND(":",D6)-1)))
C7: =IF(B7="","",VALUE(LEFT(B7,FIND(":",B7)-1))) | E7: =IF(D7="","",VALUE(LEFT(D7,FIND(":",D7)-1)))
C8: =IF(B8="","",VALUE(LEFT(B8,FIND(":",B8)-1))) | E8: =IF(D8="","",VALUE(LEFT(D8,FIND(":",D8)-1)))
C9: =IF(B9="","",VALUE(LEFT(B9,FIND(":",B9)-1))) | E9: =IF(D9="","",VALUE(LEFT(D9,FIND(":",D9)-1)))
C10: =IF(B10="","",VALUE(LEFT(B10,FIND(":",B10)-1))) | E10: =IF(D10="","",VALUE(LEFT(D10,FIND(":",D10)-1)))
C11: =IF(B11="","",VALUE(LEFT(B11,FIND(":",B11)-1))) | E11: =IF(D11="","",VALUE(LEFT(D11,FIND(":",D11)-1)))
C12: =IF(B12="","",VALUE(LEFT(B12,FIND(":",B12)-1))) | E12: =IF(D12="","",VALUE(LEFT(D12,FIND(":",D12)-1)))
C13: =IF(B13="","",VALUE(LEFT(B13,FIND(":",B13)-1))) | E13: =IF(D13="","",VALUE(LEFT(D13,FIND(":",D13)-1)))
C14: =IF(B14="","",VALUE(LEFT(B14,FIND(":",B14)-1))) | E14: =IF(D14="","",VALUE(LEFT(D14,FIND(":",D14)-1)))
... C1000: =IF(B1000="","",VALUE(LEFT(B1000,FIND(":",B1000)-1))) | E1000: =IF(D1000="","",VALUE(LEFT(D1000,FIND(":",D1000)-1)))

Sheet Slope_PT
A1: User_Code | B1: KIND_Display | C1: KIND | D1: PSLO_TYPE_Display | E1: PSLO_TYPE | F1: Notes
A2: SLOPEBEDRO_001 | C2: =IF(B2="","",VALUE(LEFT(B2,FIND(":",B2)-1))) | E2: =IF(D2="","",VALUE(LEFT(D2,FIND(":",D2)-1)))
C3: =IF(B3="","",VALUE(LEFT(B3,FIND(":",B3)-1))) | E3: =IF(D3="","",VALUE(LEFT(D3,FIND(":",D3)-1)))
C4: =IF(B4="","",VALUE(LEFT(B4,FIND(":",B4)-1))) | E4: =IF(D4="","",VALUE(LEFT(D4,FIND(":",D4)-1)))
C5: =IF(B5="","",VALUE(LEFT(B5,FIND(":",B5)-1))) | E5: =IF(D5="","",VALUE(LEFT(D5,FIND(":",D5)-1)))
C6: =IF(B6="","",VALUE(LEFT(B6,FIND(":",B6)-1))) | E6: =IF(D6="","",VALUE(LEFT(D6,FIND(":",D6)-1)))
C7: =IF(B7="","",VALUE(LEFT(B7,FIND(":",B7)-1))) | E7: =IF(D7="","",VALUE(LEFT(D7,FIND(":",D7)-1)))
C8: =IF(B8="","",VALUE(LEFT(B8,FIND(":",B8)-1))) | E8: =IF(D8="","",VALUE(LEFT(D8,FIND(":",D8)-1)))
C9: =IF(B9="","",VALUE(LEFT(B9,FIND(":",B9)-1))) | E9: =IF(D9="","",VALUE(LEFT(D9,FIND(":",D9)-1)))
C10: =IF(B10="","",VALUE(LEFT(B10,FIND(":",B10)-1))) | E10: =IF(D10="","",VALUE(LEFT(D10,FIND(":",D10)-1)))
C11: =IF(B11="","",VALUE(LEFT(B11,FIND(":",B11)-1))) | E11: =IF(D11="","",VALUE(LEFT(D11,FIND(":",D11)-1)))
C12: =IF(B12="","",VALUE(LEFT(B12,FIND(":",B12)-1))) | E12: =IF(D12="","",VALUE(LEFT(D12,FIND(":",D12)-1)))
C13: =IF(B13="","",VALUE(LEFT(B13,FIND(":",B13)-1))) | E13: =IF(D13="","",VALUE(LEFT(D13,FIND(":",D13)-1)))
C14: =IF(B14="","",VALUE(LEFT(B14,FIND(":",B14)-1))) | E14: =IF(D14="","",VALUE(LEFT(D14,FIND(":",D14)-1)))
... C1000: =IF(B1000="","",VALUE(LEFT(B1000,FIND(":",B1000)-1))) | E1000: =IF(D1000="","",VALUE(LEFT(D1000,FIND(":",D1000)-1)))

Sheet Contour_Bedrock_L
A1: User_Code | B1: KIND_Display | C1: KIND | D1: TYPE_Display | E1: TYPE | F1: Notes
A2: CONTOURLIN_001 | C2: =IF(B2="","",VALUE(LEFT(B2,FIND(":",B2)-1))) | E2: =IF(D2="","",VALUE(LEFT(D2,FIND(":",D2)-1)))
C3: =IF(B3="","",VALUE(LEFT(B3,FIND(":",B3)-1))) | E3: =IF(D3="","",VALUE(LEFT(D3,FIND(":",D3)-1)))
C4: =IF(B4="","",VALUE(LEFT(B4,FIND(":",B4)-1))) | E4: =IF(D4="","",VALUE(LEFT(D4,FIND(":",D4)-1)))
C5: =IF(B5="","",VALUE(LEFT(B5,FIND(":",B5)-1))) | E5: =IF(D5="","",VALUE(LEFT(D5,FIND(":",D5)-1)))
C6: =IF(B6="","",VALUE(LEFT(B6,FIND(":",B6)-1))) | E6: =IF(D6="","",VALUE(LEFT(D6,FIND(":",D6)-1)))
C7: =IF(B7="","",VALUE(LEFT(B7,FIND(":",B7)-1))) | E7: =IF(D7="","",VALUE(LEFT(D7,FIND(":",D7)-1)))
C8: =IF(B8="","",VALUE(LEFT(B8,FIND(":",B8)-1))) | E8: =IF(D8="","",VALUE(LEFT(D8,FIND(":",D8)-1)))
C9: =IF(B9="","",VALUE(LEFT(B9,FIND(":",B9)-1))) | E9: =IF(D9="","",VALUE(LEFT(D9,FIND(":",D9)-1)))
C10: =IF(B10="","",VALUE(LEFT(B10,FIND(":",B10)-1))) | E10: =IF(D10="","",VALUE(LEFT(D10,FIND(":",D10)-1)))
C11: =IF(B11="","",VALUE(LEFT(B11,FIND(":",B11)-1))) | E11: =IF(D11="","",VALUE(LEFT(D11,FIND(":",D11)-1)))
C12: =IF(B12="","",VALUE(LEFT(B12,FIND(":",B12)-1))) | E12: =IF(D12="","",VALUE(LEFT(D12,FIND(":",D12)-1)))
C13: =IF(B13="","",VALUE(LEFT(B13,FIND(":",B13)-1))) | E13: =IF(D13="","",VALUE(LEFT(D13,FIND(":",D13)-1)))
C14: =IF(B14="","",VALUE(LEFT(B14,FIND(":",B14)-1))) | E14: =IF(D14="","",VALUE(LEFT(D14,FIND(":",D14)-1)))
... C1000: =IF(B1000="","",VALUE(LEFT(B1000,FIND(":",B1000)-1))) | E1000: =IF(D1000="","",VALUE(LEFT(D1000,FIND(":",D1000)-1)))

Sheet WaterTable_PT
A1: User_Code | B1: KIND_Display | C1: KIND | D1: Notes
A2: MODELLEDWA_001 | C2: =IF(B2="","",VALUE(LEFT(B2,FIND(":",B2)-1)))
C3: =IF(B3="","",VALUE(LEFT(B3,FIND(":",B3)-1)))
C4: =IF(B4="","",VALUE(LEFT(B4,FIND(":",B4)-1)))
C5: =IF(B5="","",VALUE(LEFT(B5,FIND(":",B5)-1)))
C6: =IF(B6="","",VALUE(LEFT(B6,FIND(":",B6)-1)))
C7: =IF(B7="","",VALUE(LEFT(B7,FIND(":",B7)-1)))
C8: =IF(B8="","",VALUE(LEFT(B8,FIND(":",B8)-1)))
C9: =IF(B9="","",VALUE(LEFT(B9,FIND(":",B9)-1)))
C10: =IF(B10="","",VALUE(LEFT(B10,FIND(":",B10)-1)))
C11: =IF(B11="","",VALUE(LEFT(B11,FIND(":",B11)-1)))
C12: =IF(B12="","",VALUE(LEFT(B12,FIND(":",B12)-1)))
C13: =IF(B13="","",VALUE(LEFT(B13,FIND(":",B13)-1)))
C14: =IF(B14="","",VALUE(LEFT(B14,FIND(":",B14)-1)))
... C1000: =IF(B1000="","",VALUE(LEFT(B1000,FIND(":",B1000)-1)))

Sheet Contour_Hydro_L
A1: User_Code | B1: KIND_Display | C1: KIND | D1: CONFINE_Display | E1: CONFINE | F1: PCOH_WA_TABLE_Display | G1: PCOH_WA_TABLE | H1: Notes
A2: CONTOURLIN_001 | C2: =IF(B2="","",VALUE(LEFT(B2,FIND(":",B2)-1))) | E2: =IF(D2="","",VALUE(LEFT(D2,FIND(":",D2)-1))) | G2: =IF(F2="","",VALUE(LEFT(F2,FIND(":",F2)-1)))
C3: =IF(B3="","",VALUE(LEFT(B3,FIND(":",B3)-1))) | E3: =IF(D3="","",VALUE(LEFT(D3,FIND(":",D3)-1))) | G3: =IF(F3="","",VALUE(LEFT(F3,FIND(":",F3)-1)))
C4: =IF(B4="","",VALUE(LEFT(B4,FIND(":",B4)-1))) | E4: =IF(D4="","",VALUE(LEFT(D4,FIND(":",D4)-1))) | G4: =IF(F4="","",VALUE(LEFT(F4,FIND(":",F4)-1)))
C5: =IF(B5="","",VALUE(LEFT(B5,FIND(":",B5)-1))) | E5: =IF(D5="","",VALUE(LEFT(D5,FIND(":",D5)-1))) | G5: =IF(F5="","",VALUE(LEFT(F5,FIND(":",F5)-1)))
C6: =IF(B6="","",VALUE(LEFT(B6,FIND(":",B6)-1))) | E6: =IF(D6="","",VALUE(LEFT(D6,FIND(":",D6)-1))) | G6: =IF(F6="","",VALUE(LEFT(F6,FIND(":",F6)-1)))
C7: =IF(B7="","",VALUE(LEFT(B7,FIND(":",B7)-1))) | E7: =IF(D7="","",VALUE(LEFT(D7,FIND(":",D7)-1))) | G7: =IF(F7="","",VALUE(LEFT(F7,FIND(":",F7)-1)))
C8: =IF(B8="","",VALUE(LEFT(B8,FIND(":",B8)-1))) | E8: =IF(D8="","",VALUE(LEFT(D8,FIND(":",D8)-1))) | G8: =IF(F8="","",VALUE(LEFT(F8,FIND(":",F8)-1)))
C9: =IF(B9="","",VALUE(LEFT(B9,FIND(":",B9)-1))) | E9: =IF(D9="","",VALUE(LEFT(D9,FIND(":",D9)-1))) | G9: =IF(F9="","",VALUE(LEFT(F9,FIND(":",F9)-1)))
C10: =IF(B10="","",VALUE(LEFT(B10,FIND(":",B10)-1))) | E10: =IF(D10="","",VALUE(LEFT(D10,FIND(":",D10)-1))) | G10: =IF(F10="","",VALUE(LEFT(F10,FIND(":",F10)-1)))
C11: =IF(B11="","",VALUE(LEFT(B11,FIND(":",B11)-1))) | E11: =IF(D11="","",VALUE(LEFT(D11,FIND(":",D11)-1))) | G11: =IF(F11="","",VALUE(LEFT(F11,FIND(":",F11)-1)))
C12: =IF(B12="","",VALUE(LEFT(B12,FIND(":",B12)-1))) | E12: =IF(D12="","",VALUE(LEFT(D12,FIND(":",D12)-1))) | G12: =IF(F12="","",VALUE(LEFT(F12,FIND(":",F12)-1)))
C13: =IF(B13="","",VALUE(LEFT(B13,FIND(":",B13)-1))) | E13: =IF(D13="","",VALUE(LEFT(D13,FIND(":",D13)-1))) | G13: =IF(F13="","",VALUE(LEFT(F13,FIND(":",F13)-1)))
C14: =IF(B14="","",VALUE(LEFT(B14,FIND(":",B14)-1))) | E14: =IF(D14="","",VALUE(LEFT(D14,FIND(":",D14)-1))) | G14: =IF(F14="","",VALUE(LEFT(F14,FIND(":",F14)-1)))
... C1000: =IF(B1000="","",VALUE(LEFT(B1000,FIND(":",B1000)-1))) | E1000: =IF(D1000="","",VALUE(LEFT(D1000,FIND(":",D1000)-1))) | G1000: =IF(F1000="","",VALUE(LEFT(F1000,FIND(":",F1000)-1)))

Sheet Arch_PT
A1: User_Code | B1: KIND_Display | C1: KIND | D1: EPOCH_Display | E1: EPOCH | F1: AARC_PERIOD_Display | G1: AARC_PERIOD | H1: AARC_AGE_Display | I1: AARC_AGE | J1: AARC_TYPE_Display | K1: AARC_TYPE | L1: Notes
A2: ARCHAEOLOG_001 | C2: =IF(B2="","",VALUE(LEFT(B2,FIND(":",B2)-1))) | E2: =IF(D2="","",VALUE(LEFT(D2,FIND(":",D2)-1))) | G2: =IF(F2="","",VALUE(LEFT(F2,FIND(":",F2)-1))) | I2: =IF(H2="","",VALUE(LEFT(H2,FIND(":",H2)-1))) | K2: =IF(J2="","",VALUE(LEFT(J2,FIND(":",J2)-1)))
C3: =IF(B3="","",VALUE(LEFT(B3,FIND(":",B3)-1))) | E3: =IF(D3="","",VALUE(LEFT(D3,FIND(":",D3)-1))) | G3: =IF(F3="","",VALUE(LEFT(F3,FIND(":",F3)-1))) | I3: =IF(H3="","",VALUE(LEFT(H3,FIND(":",H3)-1))) | K3: =IF(J3="","",VALUE(LEFT(J3,FIND(":",J3)-1)))
C4: =IF(B4="","",VALUE(LEFT(B4,FIND(":",B4)-1))) | E4: =IF(D4="","",VALUE(LEFT(D4,FIND(":",D4)-1))) | G4: =IF(F4="","",VALUE(LEFT(F4,FIND(":",F4)-1))) | I4: =IF(H4="","",VALUE(LEFT(H4,FIND(":",H4)-1))) | K4: =IF(J4="","",VALUE(LEFT(J4,FIND(":",J4)-1)))
C5: =IF(B5="","",VALUE(LEFT(B5,FIND(":",B5)-1))) | E5: =IF(D5="","",VALUE(LEFT(D5,FIND(":",D5)-1))) | G5: =IF(F5="","",VALUE(LEFT(F5,FIND(":",F5)-1))) | I5: =IF(H5="","",VALUE(LEFT(H5,FIND(":",H5)-1))) | K5: =IF(J5="","",VALUE(LEFT(J5,FIND(":",J5)-1)))
C6: =IF(B6="","",VALUE(LEFT(B6,FIND(":",B6)-1))) | E6: =IF(D6="","",VALUE(LEFT(D6,FIND(":",D6)-1))) | G6: =IF(F6="","",VALUE(LEFT(F6,FIND(":",F6)-1))) | I6: =IF(H6="","",VALUE(LEFT(H6,FIND(":",H6)-1))) | K6: =IF(J6="","",VALUE(LEFT(J6,FIND(":",J6)-1)))
C7: =IF(B7="","",VALUE(LEFT(B7,FIND(":",B7)-1))) | E7: =IF(D7="","",VALUE(LEFT(D7,FIND(":",D7)-1))) | G7: =IF(F7="","",VALUE(LEFT(F7,FIND(":",F7)-1))) | I7: =IF(H7="","",VALUE(LEFT(H7,FIND(":",H7)-1))) | K7: =IF(J7="","",VALUE(LEFT(J7,FIND(":",J7)-1)))
C8: =IF(B8="","",VALUE(LEFT(B8,FIND(":",B8)-1))) | E8: =IF(D8="","",VALUE(LEFT(D8,FIND(":",D8)-1))) | G8: =IF(F8="","",VALUE(LEFT(F8,FIND(":",F8)-1))) | I8: =IF(H8="","",VALUE(LEFT(H8,FIND(":",H8)-1))) | K8: =IF(J8="","",VALUE(LEFT(J8,FIND(":",J8)-1)))
C9: =IF(B9="","",VALUE(LEFT(B9,FIND(":",B9)-1))) | E9: =IF(D9="","",VALUE(LEFT(D9,FIND(":",D9)-1))) | G9: =IF(F9="","",VALUE(LEFT(F9,FIND(":",F9)-1))) | I9: =IF(H9="","",VALUE(LEFT(H9,FIND(":",H9)-1))) | K9: =IF(J9="","",VALUE(LEFT(J9,FIND(":",J9)-1)))
C10: =IF(B10="","",VALUE(LEFT(B10,FIND(":",B10)-1))) | E10: =IF(D10="","",VALUE(LEFT(D10,FIND(":",D10)-1))) | G10: =IF(F10="","",VALUE(LEFT(F10,FIND(":",F10)-1))) | I10: =IF(H10="","",VALUE(LEFT(H10,FIND(":",H10)-1))) | K10: =IF(J10="","",VALUE(LEFT(J10,FIND(":",J10)-1)))
C11: =IF(B11="","",VALUE(LEFT(B11,FIND(":",B11)-1))) | E11: =IF(D11="","",VALUE(LEFT(D11,FIND(":",D11)-1))) | G11: =IF(F11="","",VALUE(LEFT(F11,FIND(":",F11)-1))) | I11: =IF(H11="","",VALUE(LEFT(H11,FIND(":",H11)-1))) | K11: =IF(J11="","",VALUE(LEFT(J11,FIND(":",J11)-1)))
C12: =IF(B12="","",VALUE(LEFT(B12,FIND(":",B12)-1))) | E12: =IF(D12="","",VALUE(LEFT(D12,FIND(":",D12)-1))) | G12: =IF(F12="","",VALUE(LEFT(F12,FIND(":",F12)-1))) | I12: =IF(H12="","",VALUE(LEFT(H12,FIND(":",H12)-1))) | K12: =IF(J12="","",VALUE(LEFT(J12,FIND(":",J12)-1)))
C13: =IF(B13="","",VALUE(LEFT(B13,FIND(":",B13)-1))) | E13: =IF(D13="","",VALUE(LEFT(D13,FIND(":",D13)-1))) | G13: =IF(F13="","",VALUE(LEFT(F13,FIND(":",F13)-1))) | I13: =IF(H13="","",VALUE(LEFT(H13,FIND(":",H13)-1))) | K13: =IF(J13="","",VALUE(LEFT(J13,FIND(":",J13)-1)))
C14: =IF(B14="","",VALUE(LEFT(B14,FIND(":",B14)-1))) | E14: =IF(D14="","",VALUE(LEFT(D14,FIND(":",D14)-1))) | G14: =IF(F14="","",VALUE(LEFT(F14,FIND(":",F14)-1))) | I14: =IF(H14="","",VALUE(LEFT(H14,FIND(":",H14)-1))) | K14: =IF(J14="","",VALUE(LEFT(J14,FIND(":",J14)-1)))
... C1000: =IF(B1000="","",VALUE(LEFT(B1000,FIND(":",B1000)-1))) | E1000: =IF(D1000="","",VALUE(LEFT(D1000,FIND(":",D1000)-1))) | G1000: =IF(F1000="","",VALUE(LEFT(F1000,FIND(":",F1000)-1))) | I1000: =IF(H1000="","",VALUE(LEFT(H1000,FIND(":",H1000)-1))) | K1000: =IF(J1000="","",VALUE(LEFT(J1000,FIND(":",J1000)-1)))

Sheet Arch_L
A1: User_Code | B1: KIND_Display | C1: KIND | D1: AARC_EPOCH_Display | E1: AARC_EPOCH | F1: AARC_PERIOD_Display | G1: AARC_PERIOD | H1: AARC_AGE_Display | I1: AARC_AGE | J1: Notes
A2: ARCHAEOLOG_001 | C2: =IF(B2="","",VALUE(LEFT(B2,FIND(":",B2)-1))) | E2: =IF(D2="","",VALUE(LEFT(D2,FIND(":",D2)-1))) | G2: =IF(F2="","",VALUE(LEFT(F2,FIND(":",F2)-1))) | I2: =IF(H2="","",VALUE(LEFT(H2,FIND(":",H2)-1)))
C3: =IF(B3="","",VALUE(LEFT(B3,FIND(":",B3)-1))) | E3: =IF(D3="","",VALUE(LEFT(D3,FIND(":",D3)-1))) | G3: =IF(F3="","",VALUE(LEFT(F3,FIND(":",F3)-1))) | I3: =IF(H3="","",VALUE(LEFT(H3,FIND(":",H3)-1)))
C4: =IF(B4="","",VALUE(LEFT(B4,FIND(":",B4)-1))) | E4: =IF(D4="","",VALUE(LEFT(D4,FIND(":",D4)-1))) | G4: =IF(F4="","",VALUE(LEFT(F4,FIND(":",F4)-1))) | I4: =IF(H4="","",VALUE(LEFT(H4,FIND(":",H4)-1)))
C5: =IF(B5="","",VALUE(LEFT(B5,FIND(":",B5)-1))) | E5: =IF(D5="","",VALUE(LEFT(D5,FIND(":",D5)-1))) | G5: =IF(F5="","",VALUE(LEFT(F5,FIND(":",F5)-1))) | I5: =IF(H5="","",VALUE(LEFT(H5,FIND(":",H5)-1)))
C6: =IF(B6="","",VALUE(LEFT(B6,FIND(":",B6)-1))) | E6: =IF(D6="","",VALUE(LEFT(D6,FIND(":",D6)-1))) | G6: =IF(F6="","",VALUE(LEFT(F6,FIND(":",F6)-1))) | I6: =IF(H6="","",VALUE(LEFT(H6,FIND(":",H6)-1)))
C7: =IF(B7="","",VALUE(LEFT(B7,FIND(":",B7)-1))) | E7: =IF(D7="","",VALUE(LEFT(D7,FIND(":",D7)-1))) | G7: =IF(F7="","",VALUE(LEFT(F7,FIND(":",F7)-1))) | I7: =IF(H7="","",VALUE(LEFT(H7,FIND(":",H7)-1)))
C8: =IF(B8="","",VALUE(LEFT(B8,FIND(":",B8)-1))) | E8: =IF(D8="","",VALUE(LEFT(D8,FIND(":",D8)-1))) | G8: =IF(F8="","",VALUE(LEFT(F8,FIND(":",F8)-1))) | I8: =IF(H8="","",VALUE(LEFT(H8,FIND(":",H8)-1)))
C9: =IF(B9="","",VALUE(LEFT(B9,FIND(":",B9)-1))) | E9: =IF(D9="","",VALUE(LEFT(D9,FIND(":",D9)-1))) | G9: =IF(F9="","",VALUE(LEFT(F9,FIND(":",F9)-1))) | I9: =IF(H9="","",VALUE(LEFT(H9,FIND(":",H9)-1)))
C10: =IF(B10="","",VALUE(LEFT(B10,FIND(":",B10)-1))) | E10: =IF(D10="","",VALUE(LEFT(D10,FIND(":",D10)-1))) | G10: =IF(F10="","",VALUE(LEFT(F10,FIND(":",F10)-1))) | I10: =IF(H10="","",VALUE(LEFT(H10,FIND(":",H10)-1)))
C11: =IF(B11="","",VALUE(LEFT(B11,FIND(":",B11)-1))) | E11: =IF(D11="","",VALUE(LEFT(D11,FIND(":",D11)-1))) | G11: =IF(F11="","",VALUE(LEFT(F11,FIND(":",F11)-1))) | I11: =IF(H11="","",VALUE(LEFT(H11,FIND(":",H11)-1)))
C12: =IF(B12="","",VALUE(LEFT(B12,FIND(":",B12)-1))) | E12: =IF(D12="","",VALUE(LEFT(D12,FIND(":",D12)-1))) | G12: =IF(F12="","",VALUE(LEFT(F12,FIND(":",F12)-1))) | I12: =IF(H12="","",VALUE(LEFT(H12,FIND(":",H12)-1)))
C13: =IF(B13="","",VALUE(LEFT(B13,FIND(":",B13)-1))) | E13: =IF(D13="","",VALUE(LEFT(D13,FIND(":",D13)-1))) | G13: =IF(F13="","",VALUE(LEFT(F13,FIND(":",F13)-1))) | I13: =IF(H13="","",VALUE(LEFT(H13,FIND(":",H13)-1)))
C14: =IF(B14="","",VALUE(LEFT(B14,FIND(":",B14)-1))) | E14: =IF(D14="","",VALUE(LEFT(D14,FIND(":",D14)-1))) | G14: =IF(F14="","",VALUE(LEFT(F14,FIND(":",F14)-1))) | I14: =IF(H14="","",VALUE(LEFT(H14,FIND(":",H14)-1)))
... C1000: =IF(B1000="","",VALUE(LEFT(B1000,FIND(":",B1000)-1))) | E1000: =IF(D1000="","",VALUE(LEFT(D1000,FIND(":",D1000)-1))) | G1000: =IF(F1000="","",VALUE(LEFT(F1000,FIND(":",F1000)-1))) | I1000: =IF(H1000="","",VALUE(LEFT(H1000,FIND(":",H1000)-1)))

Sheet Arch_PLG
A1: User_Code | B1: KIND_Display | C1: KIND | D1: AARC_EPOCH_Display | E1: AARC_EPOCH | F1: AARC_PERIOD_Display | G1: AARC_PERIOD | H1: AARC_AGE_Display | I1: AARC_AGE | J1: Notes
A2: ARCHAEOLOG_001 | C2: =IF(B2="","",VALUE(LEFT(B2,FIND(":",B2)-1))) | E2: =IF(D2="","",VALUE(LEFT(D2,FIND(":",D2)-1))) | G2: =IF(F2="","",VALUE(LEFT(F2,FIND(":",F2)-1))) | I2: =IF(H2="","",VALUE(LEFT(H2,FIND(":",H2)-1)))
C3: =IF(B3="","",VALUE(LEFT(B3,FIND(":",B3)-1))) | E3: =IF(D3="","",VALUE(LEFT(D3,FIND(":",D3)-1))) | G3: =IF(F3="","",VALUE(LEFT(F3,FIND(":",F3)-1))) | I3: =IF(H3="","",VALUE(LEFT(H3,FIND(":",H3)-1)))
C4: =IF(B4="","",VALUE(LEFT(B4,FIND(":",B4)-1))) | E4: =IF(D4="","",VALUE(LEFT(D4,FIND(":",D4)-1))) | G4: =IF(F4="","",VALUE(LEFT(F4,FIND(":",F4)-1))) | I4: =IF(H4="","",VALUE(LEFT(H4,FIND(":",H4)-1)))
C5: =IF(B5="","",VALUE(LEFT(B5,FIND(":",B5)-1))) | E5: =IF(D5="","",VALUE(LEFT(D5,FIND(":",D5)-1))) | G5: =IF(F5="","",VALUE(LEFT(F5,FIND(":",F5)-1))) | I5: =IF(H5="","",VALUE(LEFT(H5,FIND(":",H5)-1)))
C6: =IF(B6="","",VALUE(LEFT(B6,FIND(":",B6)-1))) | E6: =IF(D6="","",VALUE(LEFT(D6,FIND(":",D6)-1))) | G6: =IF(F6="","",VALUE(LEFT(F6,FIND(":",F6)-1))) | I6: =IF(H6="","",VALUE(LEFT(H6,FIND(":",H6)-1)))
C7: =IF(B7="","",VALUE(LEFT(B7,FIND(":",B7)-1))) | E7: =IF(D7="","",VALUE(LEFT(D7,FIND(":",D7)-1))) | G7: =IF(F7="","",VALUE(LEFT(F7,FIND(":",F7)-1))) | I7: =IF(H7="","",VALUE(LEFT(H7,FIND(":",H7)-1)))
C8: =IF(B8="","",VALUE(LEFT(B8,FIND(":",B8)-1))) | E8: =IF(D8="","",VALUE(LEFT(D8,FIND(":",D8)-1))) | G8: =IF(F8="","",VALUE(LEFT(F8,FIND(":",F8)-1))) | I8: =IF(H8="","",VALUE(LEFT(H8,FIND(":",H8)-1)))
C9: =IF(B9="","",VALUE(LEFT(B9,FIND(":",B9)-1))) | E9: =IF(D9="","",VALUE(LEFT(D9,FIND(":",D9)-1))) | G9: =IF(F9="","",VALUE(LEFT(F9,FIND(":",F9)-1))) | I9: =IF(H9="","",VALUE(LEFT(H9,FIND(":",H9)-1)))
C10: =IF(B10="","",VALUE(LEFT(B10,FIND(":",B10)-1))) | E10: =IF(D10="","",VALUE(LEFT(D10,FIND(":",D10)-1))) | G10: =IF(F10="","",VALUE(LEFT(F10,FIND(":",F10)-1))) | I10: =IF(H10="","",VALUE(LEFT(H10,FIND(":",H10)-1)))
C11: =IF(B11="","",VALUE(LEFT(B11,FIND(":",B11)-1))) | E11: =IF(D11="","",VALUE(LEFT(D11,FIND(":",D11)-1))) | G11: =IF(F11="","",VALUE(LEFT(F11,FIND(":",F11)-1))) | I11: =IF(H11="","",VALUE(LEFT(H11,FIND(":",H11)-1)))
C12: =IF(B12="","",VALUE(LEFT(B12,FIND(":",B12)-1))) | E12: =IF(D12="","",VALUE(LEFT(D12,FIND(":",D12)-1))) | G12: =IF(F12="","",VALUE(LEFT(F12,FIND(":",F12)-1))) | I12: =IF(H12="","",VALUE(LEFT(H12,FIND(":",H12)-1)))
C13: =IF(B13="","",VALUE(LEFT(B13,FIND(":",B13)-1))) | E13: =IF(D13="","",VALUE(LEFT(D13,FIND(":",D13)-1))) | G13: =IF(F13="","",VALUE(LEFT(F13,FIND(":",F13)-1))) | I13: =IF(H13="","",VALUE(LEFT(H13,FIND(":",H13)-1)))
C14: =IF(B14="","",VALUE(LEFT(B14,FIND(":",B14)-1))) | E14: =IF(D14="","",VALUE(LEFT(D14,FIND(":",D14)-1))) | G14: =IF(F14="","",VALUE(LEFT(F14,FIND(":",F14)-1))) | I14: =IF(H14="","",VALUE(LEFT(H14,FIND(":",H14)-1)))
... C1000: =IF(B1000="","",VALUE(LEFT(B1000,FIND(":",B1000)-1))) | E1000: =IF(D1000="","",VALUE(LEFT(D1000,FIND(":",D1000)-1))) | G1000: =IF(F1000="","",VALUE(LEFT(F1000,FIND(":",F1000)-1))) | I1000: =IF(H1000="","",VALUE(LEFT(H1000,FIND(":",H1000)-1)))

Sheet Geomaterials_PT
A1: User_Code | B1: KIND_Display | C1: KIND | D1: STATUS_Display | E1: STATUS | F1: TARG_MAT_Display | G1: TARG_MAT | H1: Notes
A2: EXPLOITATI_001 | C2: =IF(B2="","",VALUE(LEFT(B2,FIND(":",B2)-1))) | E2: =IF(D2="","",VALUE(LEFT(D2,FIND(":",D2)-1))) | G2: =IF(F2="","",VALUE(LEFT(F2,FIND(":",F2)-1)))
C3: =IF(B3="","",VALUE(LEFT(B3,FIND(":",B3)-1))) | E3: =IF(D3="","",VALUE(LEFT(D3,FIND(":",D3)-1))) | G3: =IF(F3="","",VALUE(LEFT(F3,FIND(":",F3)-1)))
C4: =IF(B4="","",VALUE(LEFT(B4,FIND(":",B4)-1))) | E4: =IF(D4="","",VALUE(LEFT(D4,FIND(":",D4)-1))) | G4: =IF(F4="","",VALUE(LEFT(F4,FIND(":",F4)-1)))
C5: =IF(B5="","",VALUE(LEFT(B5,FIND(":",B5)-1))) | E5: =IF(D5="","",VALUE(LEFT(D5,FIND(":",D5)-1))) | G5: =IF(F5="","",VALUE(LEFT(F5,FIND(":",F5)-1)))
C6: =IF(B6="","",VALUE(LEFT(B6,FIND(":",B6)-1))) | E6: =IF(D6="","",VALUE(LEFT(D6,FIND(":",D6)-1))) | G6: =IF(F6="","",VALUE(LEFT(F6,FIND(":",F6)-1)))
C7: =IF(B7="","",VALUE(LEFT(B7,FIND(":",B7)-1))) | E7: =IF(D7="","",VALUE(LEFT(D7,FIND(":",D7)-1))) | G7: =IF(F7="","",VALUE(LEFT(F7,FIND(":",F7)-1)))
C8: =IF(B8="","",VALUE(LEFT(B8,FIND(":",B8)-1))) | E8: =IF(D8="","",VALUE(LEFT(D8,FIND(":",D8)-1))) | G8: =IF(F8="","",VALUE(LEFT(F8,FIND(":",F8)-1)))
C9: =IF(B9="","",VALUE(LEFT(B9,FIND(":",B9)-1))) | E9: =IF(D9="","",VALUE(LEFT(D9,FIND(":",D9)-1))) | G9: =IF(F9="","",VALUE(LEFT(F9,FIND(":",F9)-1)))
C10: =IF(B10="","",VALUE(LEFT(B10,FIND(":",B10)-1))) | E10: =IF(D10="","",VALUE(LEFT(D10,FIND(":",D10)-1))) | G10: =IF(F10="","",VALUE(LEFT(F10,FIND(":",F10)-1)))
C11: =IF(B11="","",VALUE(LEFT(B11,FIND(":",B11)-1))) | E11: =IF(D11="","",VALUE(LEFT(D11,FIND(":",D11)-1))) | G11: =IF(F11="","",VALUE(LEFT(F11,FIND(":",F11)-1)))
C12: =IF(B12="","",VALUE(LEFT(B12,FIND(":",B12)-1))) | E12: =IF(D12="","",VALUE(LEFT(D12,FIND(":",D12)-1))) | G12: =IF(F12="","",VALUE(LEFT(F12,FIND(":",F12)-1)))
C13: =IF(B13="","",VALUE(LEFT(B13,FIND(":",B13)-1))) | E13: =IF(D13="","",VALUE(LEFT(D13,FIND(":",D13)-1))) | G13: =IF(F13="","",VALUE(LEFT(F13,FIND(":",F13)-1)))
C14: =IF(B14="","",VALUE(LEFT(B14,FIND(":",B14)-1))) | E14: =IF(D14="","",VALUE(LEFT(D14,FIND(":",D14)-1))) | G14: =IF(F14="","",VALUE(LEFT(F14,FIND(":",F14)-1)))
... C1000: =IF(B1000="","",VALUE(LEFT(B1000,FIND(":",B1000)-1))) | E1000: =IF(D1000="","",VALUE(LEFT(D1000,FIND(":",D1000)-1))) | G1000: =IF(F1000="","",VALUE(LEFT(F1000,FIND(":",F1000)-1)))

Sheet Geomaterials_L
A1: User_Code | B1: KIND_Display | C1: KIND | D1: STATUS_Display | E1: STATUS | F1: Notes
A2: EXPLOITATI_001 | C2: =IF(B2="","",VALUE(LEFT(B2,FIND(":",B2)-1))) | E2: =IF(D2="","",VALUE(LEFT(D2,FIND(":",D2)-1)))
C3: =IF(B3="","",VALUE(LEFT(B3,FIND(":",B3)-1))) | E3: =IF(D3="","",VALUE(LEFT(D3,FIND(":",D3)-1)))
C4: =IF(B4="","",VALUE(LEFT(B4,FIND(":",B4)-1))) | E4: =IF(D4="","",VALUE(LEFT(D4,FIND(":",D4)-1)))
C5: =IF(B5="","",VALUE(LEFT(B5,FIND(":",B5)-1))) | E5: =IF(D5="","",VALUE(LEFT(D5,FIND(":",D5)-1)))
C6: =IF(B6="","",VALUE(LEFT(B6,FIND(":",B6)-1))) | E6: =IF(D6="","",VALUE(LEFT(D6,FIND(":",D6)-1)))
C7: =IF(B7="","",VALUE(LEFT(B7,FIND(":",B7)-1))) | E7: =IF(D7="","",VALUE(LEFT(D7,FIND(":",D7)-1)))
C8: =IF(B8="","",VALUE(LEFT(B8,FIND(":",B8)-1))) | E8: =IF(D8="","",VALUE(LEFT(D8,FIND(":",D8)-1)))
C9: =IF(B9="","",VALUE(LEFT(B9,FIND(":",B9)-1))) | E9: =IF(D9="","",VALUE(LEFT(D9,FIND(":",D9)-1)))
C10: =IF(B10="","",VALUE(LEFT(B10,FIND(":",B10)-1))) | E10: =IF(D10="","",VALUE(LEFT(D10,FIND(":",D10)-1)))
C11: =IF(B11="","",VALUE(LEFT(B11,FIND(":",B11)-1))) | E11: =IF(D11="","",VALUE(LEFT(D11,FIND(":",D11)-1)))
C12: =IF(B12="","",VALUE(LEFT(B12,FIND(":",B12)-1))) | E12: =IF(D12="","",VALUE(LEFT(D12,FIND(":",D12)-1)))
C13: =IF(B13="","",VALUE(LEFT(B13,FIND(":",B13)-1))) | E13: =IF(D13="","",VALUE(LEFT(D13,FIND(":",D13)-1)))
C14: =IF(B14="","",VALUE(LEFT(B14,FIND(":",B14)-1))) | E14: =IF(D14="","",VALUE(LEFT(D14,FIND(":",D14)-1)))
... C1000: =IF(B1000="","",VALUE(LEFT(B1000,FIND(":",B1000)-1))) | E1000: =IF(D1000="","",VALUE(LEFT(D1000,FIND(":",D1000)-1)))

Sheet Geomaterials_PLG
A1: User_Code | B1: KIND_Display | C1: KIND | D1: STATUS_Display | E1: STATUS | F1: TARG_MAT_Display | G1: TARG_MAT | H1: Notes
A2: EXPLOITATI_001 | C2: =IF(B2="","",VALUE(LEFT(B2,FIND(":",B2)-1))) | E2: =IF(D2="","",VALUE(LEFT(D2,FIND(":",D2)-1))) | G2: =IF(F2="","",VALUE(LEFT(F2,FIND(":",F2)-1)))
C3: =IF(B3="","",VALUE(LEFT(B3,FIND(":",B3)-1))) | E3: =IF(D3="","",VALUE(LEFT(D3,FIND(":",D3)-1))) | G3: =IF(F3="","",VALUE(LEFT(F3,FIND(":",F3)-1)))
C4: =IF(B4="","",VALUE(LEFT(B4,FIND(":",B4)-1))) | E4: =IF(D4="","",VALUE(LEFT(D4,FIND(":",D4)-1))) | G4: =IF(F4="","",VALUE(LEFT(F4,FIND(":",F4)-1)))
C5: =IF(B5="","",VALUE(LEFT(B5,FIND(":",B5)-1))) | E5: =IF(D5="","",VALUE(LEFT(D5,FIND(":",D5)-1))) | G5: =IF(F5="","",VALUE(LEFT(F5,FIND(":",F5)-1)))
C6: =IF(B6="","",VALUE(LEFT(B6,FIND(":",B6)-1))) | E6: =IF(D6="","",VALUE(LEFT(D6,FIND(":",D6)-1))) | G6: =IF(F6="","",VALUE(LEFT(F6,FIND(":",F6)-1)))
C7: =IF(B7="","",VALUE(LEFT(B7,FIND(":",B7)-1))) | E7: =IF(D7="","",VALUE(LEFT(D7,FIND(":",D7)-1))) | G7: =IF(F7="","",VALUE(LEFT(F7,FIND(":",F7)-1)))
C8: =IF(B8="","",VALUE(LEFT(B8,FIND(":",B8)-1))) | E8: =IF(D8="","",VALUE(LEFT(D8,FIND(":",D8)-1))) | G8: =IF(F8="","",VALUE(LEFT(F8,FIND(":",F8)-1)))
C9: =IF(B9="","",VALUE(LEFT(B9,FIND(":",B9)-1))) | E9: =IF(D9="","",VALUE(LEFT(D9,FIND(":",D9)-1))) | G9: =IF(F9="","",VALUE(LEFT(F9,FIND(":",F9)-1)))
C10: =IF(B10="","",VALUE(LEFT(B10,FIND(":",B10)-1))) | E10: =IF(D10="","",VALUE(LEFT(D10,FIND(":",D10)-1))) | G10: =IF(F10="","",VALUE(LEFT(F10,FIND(":",F10)-1)))
C11: =IF(B11="","",VALUE(LEFT(B11,FIND(":",B11)-1))) | E11: =IF(D11="","",VALUE(LEFT(D11,FIND(":",D11)-1))) | G11: =IF(F11="","",VALUE(LEFT(F11,FIND(":",F11)-1)))
C12: =IF(B12="","",VALUE(LEFT(B12,FIND(":",B12)-1))) | E12: =IF(D12="","",VALUE(LEFT(D12,FIND(":",D12)-1))) | G12: =IF(F12="","",VALUE(LEFT(F12,FIND(":",F12)-1)))
C13: =IF(B13="","",VALUE(LEFT(B13,FIND(":",B13)-1))) | E13: =IF(D13="","",VALUE(LEFT(D13,FIND(":",D13)-1))) | G13: =IF(F13="","",VALUE(LEFT(F13,FIND(":",F13)-1)))
C14: =IF(B14="","",VALUE(LEFT(B14,FIND(":",B14)-1))) | E14: =IF(D14="","",VALUE(LEFT(D14,FIND(":",D14)-1))) | G14: =IF(F14="","",VALUE(LEFT(F14,FIND(":",F14)-1)))
... C1000: =IF(B1000="","",VALUE(LEFT(B1000,FIND(":",B1000)-1))) | E1000: =IF(D1000="","",VALUE(LEFT(D1000,FIND(":",D1000)-1))) | G1000: =IF(F1000="","",VALUE(LEFT(F1000,FIND(":",F1000)-1)))

Sheet Boreholes_PT
A1: User_Code | B1: KIND_Display | C1: KIND | D1: ABOR_MAIN_TAR_Display | E1: ABOR_MAIN_TAR | F1: ABOR_TARG_MAT_Display | G1: ABOR_TARG_MAT | H1: Notes
A2: BOREHOLESP_001 | C2: =IF(B2="","",VALUE(LEFT(B2,FIND(":",B2)-1))) | E2: =IF(D2="","",VALUE(LEFT(D2,FIND(":",D2)-1))) | G2: =IF(F2="","",VALUE(LEFT(F2,FIND(":",F2)-1)))
C3: =IF(B3="","",VALUE(LEFT(B3,FIND(":",B3)-1))) | E3: =IF(D3="","",VALUE(LEFT(D3,FIND(":",D3)-1))) | G3: =IF(F3="","",VALUE(LEFT(F3,FIND(":",F3)-1)))
C4: =IF(B4="","",VALUE(LEFT(B4,FIND(":",B4)-1))) | E4: =IF(D4="","",VALUE(LEFT(D4,FIND(":",D4)-1))) | G4: =IF(F4="","",VALUE(LEFT(F4,FIND(":",F4)-1)))
C5: =IF(B5="","",VALUE(LEFT(B5,FIND(":",B5)-1))) | E5: =IF(D5="","",VALUE(LEFT(D5,FIND(":",D5)-1))) | G5: =IF(F5="","",VALUE(LEFT(F5,FIND(":",F5)-1)))
C6: =IF(B6="","",VALUE(LEFT(B6,FIND(":",B6)-1))) | E6: =IF(D6="","",VALUE(LEFT(D6,FIND(":",D6)-1))) | G6: =IF(F6="","",VALUE(LEFT(F6,FIND(":",F6)-1)))
C7: =IF(B7="","",VALUE(LEFT(B7,FIND(":",B7)-1))) | E7: =IF(D7="","",VALUE(LEFT(D7,FIND(":",D7)-1))) | G7: =IF(F7="","",VALUE(LEFT(F7,FIND(":",F7)-1)))
C8: =IF(B8="","",VALUE(LEFT(B8,FIND(":",B8)-1))) | E8: =IF(D8="","",VALUE(LEFT(D8,FIND(":",D8)-1))) | G8: =IF(F8="","",VALUE(LEFT(F8,FIND(":",F8)-1)))
C9: =IF(B9="","",VALUE(LEFT(B9,FIND(":",B9)-1))) | E9: =IF(D9="","",VALUE(LEFT(D9,FIND(":",D9)-1))) | G9: =IF(F9="","",VALUE(LEFT(F9,FIND(":",F9)-1)))
C10: =IF(B10="","",VALUE(LEFT(B10,FIND(":",B10)-1))) | E10: =IF(D10="","",VALUE(LEFT(D10,FIND(":",D10)-1))) | G10: =IF(F10="","",VALUE(LEFT(F10,FIND(":",F10)-1)))
C11: =IF(B11="","",VALUE(LEFT(B11,FIND(":",B11)-1))) | E11: =IF(D11="","",VALUE(LEFT(D11,FIND(":",D11)-1))) | G11: =IF(F11="","",VALUE(LEFT(F11,FIND(":",F11)-1)))
C12: =IF(B12="","",VALUE(LEFT(B12,FIND(":",B12)-1))) | E12: =IF(D12="","",VALUE(LEFT(D12,FIND(":",D12)-1))) | G12: =IF(F12="","",VALUE(LEFT(F12,FIND(":",F12)-1)))
C13: =IF(B13="","",VALUE(LEFT(B13,FIND(":",B13)-1))) | E13: =IF(D13="","",VALUE(LEFT(D13,FIND(":",D13)-1))) | G13: =IF(F13="","",VALUE(LEFT(F13,FIND(":",F13)-1)))
C14: =IF(B14="","",VALUE(LEFT(B14,FIND(":",B14)-1))) | E14: =IF(D14="","",VALUE(LEFT(D14,FIND(":",D14)-1))) | G14: =IF(F14="","",VALUE(LEFT(F14,FIND(":",F14)-1)))
... C1000: =IF(B1000="","",VALUE(LEFT(B1000,FIND(":",B1000)-1))) | E1000: =IF(D1000="","",VALUE(LEFT(D1000,FIND(":",D1000)-1))) | G1000: =IF(F1000="","",VALUE(LEFT(F1000,FIND(":",F1000)-1)))

Sheet Artificial_Surface_Modification
A1: User_Code | B1: KIND_Display | C1: KIND | D1: Notes
A2: ARTIFICIAL_001 | C2: =IF(B2="","",VALUE(LEFT(B2,FIND(":",B2)-1)))
C3: =IF(B3="","",VALUE(LEFT(B3,FIND(":",B3)-1)))
C4: =IF(B4="","",VALUE(LEFT(B4,FIND(":",B4)-1)))
C5: =IF(B5="","",VALUE(LEFT(B5,FIND(":",B5)-1)))
C6: =IF(B6="","",VALUE(LEFT(B6,FIND(":",B6)-1)))
C7: =IF(B7="","",VALUE(LEFT(B7,FIND(":",B7)-1)))
C8: =IF(B8="","",VALUE(LEFT(B8,FIND(":",B8)-1)))
C9: =IF(B9="","",VALUE(LEFT(B9,FIND(":",B9)-1)))
C10: =IF(B10="","",VALUE(LEFT(B10,FIND(":",B10)-1)))
C11: =IF(B11="","",VALUE(LEFT(B11,FIND(":",B11)-1)))
C12: =IF(B12="","",VALUE(LEFT(B12,FIND(":",B12)-1)))
C13: =IF(B13="","",VALUE(LEFT(B13,FIND(":",B13)-1)))
C14: =IF(B14="","",VALUE(LEFT(B14,FIND(":",B14)-1)))
... C1000: =IF(B1000="","",VALUE(LEFT(B1000,FIND(":",B1000)-1)))

Sheet Construct_PT
A1: User_Code | B1: KIND_Display | C1: KIND | D1: HCON_STATUS_Display | E1: HCON_STATUS | F1: HCON_EPOCH_Display | G1: HCON_EPOCH | H1: Notes
A2: CONSTRUCTI_001 | C2: =IF(B2="","",VALUE(LEFT(B2,FIND(":",B2)-1))) | E2: =IF(D2="","",VALUE(LEFT(D2,FIND(":",D2)-1))) | G2: =IF(F2="","",VALUE(LEFT(F2,FIND(":",F2)-1)))
C3: =IF(B3="","",VALUE(LEFT(B3,FIND(":",B3)-1))) | E3: =IF(D3="","",VALUE(LEFT(D3,FIND(":",D3)-1))) | G3: =IF(F3="","",VALUE(LEFT(F3,FIND(":",F3)-1)))
C4: =IF(B4="","",VALUE(LEFT(B4,FIND(":",B4)-1))) | E4: =IF(D4="","",VALUE(LEFT(D4,FIND(":",D4)-1))) | G4: =IF(F4="","",VALUE(LEFT(F4,FIND(":",F4)-1)))
C5: =IF(B5="","",VALUE(LEFT(B5,FIND(":",B5)-1))) | E5: =IF(D5="","",VALUE(LEFT(D5,FIND(":",D5)-1))) | G5: =IF(F5="","",VALUE(LEFT(F5,FIND(":",F5)-1)))
C6: =IF(B6="","",VALUE(LEFT(B6,FIND(":",B6)-1))) | E6: =IF(D6="","",VALUE(LEFT(D6,FIND(":",D6)-1))) | G6: =IF(F6="","",VALUE(LEFT(F6,FIND(":",F6)-1)))
C7: =IF(B7="","",VALUE(LEFT(B7,FIND(":",B7)-1))) | E7: =IF(D7="","",VALUE(LEFT(D7,FIND(":",D7)-1))) | G7: =IF(F7="","",VALUE(LEFT(F7,FIND(":",F7)-1)))
C8: =IF(B8="","",VALUE(LEFT(B8,FIND(":",B8)-1))) | E8: =IF(D8="","",VALUE(LEFT(D8,FIND(":",D8)-1))) | G8: =IF(F8="","",VALUE(LEFT(F8,FIND(":",F8)-1)))
C9: =IF(B9="","",VALUE(LEFT(B9,FIND(":",B9)-1))) | E9: =IF(D9="","",VALUE(LEFT(D9,FIND(":",D9)-1))) | G9: =IF(F9="","",VALUE(LEFT(F9,FIND(":",F9)-1)))
C10: =IF(B10="","",VALUE(LEFT(B10,FIND(":",B10)-1))) | E10: =IF(D10="","",VALUE(LEFT(D10,FIND(":",D10)-1))) | G10: =IF(F10="","",VALUE(LEFT(F10,FIND(":",F10)-1)))
C11: =IF(B11="","",VALUE(LEFT(B11,FIND(":",B11)-1))) | E11: =IF(D11="","",VALUE(LEFT(D11,FIND(":",D11)-1))) | G11: =IF(F11="","",VALUE(LEFT(F11,FIND(":",F11)-1)))
C12: =IF(B12="","",VALUE(LEFT(B12,FIND(":",B12)-1))) | E12: =IF(D12="","",VALUE(LEFT(D12,FIND(":",D12)-1))) | G12: =IF(F12="","",VALUE(LEFT(F12,FIND(":",F12)-1)))
C13: =IF(B13="","",VALUE(LEFT(B13,FIND(":",B13)-1))) | E13: =IF(D13="","",VALUE(LEFT(D13,FIND(":",D13)-1))) | G13: =IF(F13="","",VALUE(LEFT(F13,FIND(":",F13)-1)))
C14: =IF(B14="","",VALUE(LEFT(B14,FIND(":",B14)-1))) | E14: =IF(D14="","",VALUE(LEFT(D14,FIND(":",D14)-1))) | G14: =IF(F14="","",VALUE(LEFT(F14,FIND(":",F14)-1)))
... C1000: =IF(B1000="","",VALUE(LEFT(B1000,FIND(":",B1000)-1))) | E1000: =IF(D1000="","",VALUE(LEFT(D1000,FIND(":",D1000)-1))) | G1000: =IF(F1000="","",VALUE(LEFT(F1000,FIND(":",F1000)-1)))

Sheet Construct_L
A1: User_Code | B1: KIND_Display | C1: KIND | D1: HCON_COMBI_Display | E1: HCON_COMBI | F1: Notes
A2: CONSTRUCTI_001 | C2: =IF(B2="","",VALUE(LEFT(B2,FIND(":",B2)-1))) | E2: =IF(D2="","",VALUE(LEFT(D2,FIND(":",D2)-1)))
C3: =IF(B3="","",VALUE(LEFT(B3,FIND(":",B3)-1))) | E3: =IF(D3="","",VALUE(LEFT(D3,FIND(":",D3)-1)))
C4: =IF(B4="","",VALUE(LEFT(B4,FIND(":",B4)-1))) | E4: =IF(D4="","",VALUE(LEFT(D4,FIND(":",D4)-1)))
C5: =IF(B5="","",VALUE(LEFT(B5,FIND(":",B5)-1))) | E5: =IF(D5="","",VALUE(LEFT(D5,FIND(":",D5)-1)))
C6: =IF(B6="","",VALUE(LEFT(B6,FIND(":",B6)-1))) | E6: =IF(D6="","",VALUE(LEFT(D6,FIND(":",D6)-1)))
C7: =IF(B7="","",VALUE(LEFT(B7,FIND(":",B7)-1))) | E7: =IF(D7="","",VALUE(LEFT(D7,FIND(":",D7)-1)))
C8: =IF(B8="","",VALUE(LEFT(B8,FIND(":",B8)-1))) | E8: =IF(D8="","",VALUE(LEFT(D8,FIND(":",D8)-1)))
C9: =IF(B9="","",VALUE(LEFT(B9,FIND(":",B9)-1))) | E9: =IF(D9="","",VALUE(LEFT(D9,FIND(":",D9)-1)))
C10: =IF(B10="","",VALUE(LEFT(B10,FIND(":",B10)-1))) | E10: =IF(D10="","",VALUE(LEFT(D10,FIND(":",D10)-1)))
C11: =IF(B11="","",VALUE(LEFT(B11,FIND(":",B11)-1))) | E11: =IF(D11="","",VALUE(LEFT(D11,FIND(":",D11)-1)))
C12: =IF(B12="","",VALUE(LEFT(B12,FIND(":",B12)-1))) | E12: =IF(D12="","",VALUE(LEFT(D12,FIND(":",D12)-1)))
C13: =IF(B13="","",VALUE(LEFT(B13,FIND(":",B13)-1))) | E13: =IF(D13="","",VALUE(LEFT(D13,FIND(":",D13)-1)))
C14: =IF(B14="","",VALUE(LEFT(B14,FIND(":",B14)-1))) | E14: =IF(D14="","",VALUE(LEFT(D14,FIND(":",D14)-1)))
... C1000: =IF(B1000="","",VALUE(LEFT(B1000,FIND(":",B1000)-1))) | E1000: =IF(D1000="","",VALUE(LEFT(D1000,FIND(":",D1000)-1)))

Sheet PalaeoHydro_L
A1: User_Code | B1: KIND_Display | C1: KIND | D1: HPAL_REL_AGE_Display | E1: HPAL_REL_AGE | F1: Notes
A2: PALAEOHYDR_001 | C2: =IF(B2="","",VALUE(LEFT(B2,FIND(":",B2)-1))) | E2: =IF(D2="","",VALUE(LEFT(D2,FIND(":",D2)-1)))
C3: =IF(B3="","",VALUE(LEFT(B3,FIND(":",B3)-1))) | E3: =IF(D3="","",VALUE(LEFT(D3,FIND(":",D3)-1)))
C4: =IF(B4="","",VALUE(LEFT(B4,FIND(":",B4)-1))) | E4: =IF(D4="","",VALUE(LEFT(D4,FIND(":",D4)-1)))
C5: =IF(B5="","",VALUE(LEFT(B5,FIND(":",B5)-1))) | E5: =IF(D5="","",VALUE(LEFT(D5,FIND(":",D5)-1)))
C6: =IF(B6="","",VALUE(LEFT(B6,FIND(":",B6)-1))) | E6: =IF(D6="","",VALUE(LEFT(D6,FIND(":",D6)-1)))
C7: =IF(B7="","",VALUE(LEFT(B7,FIND(":",B7)-1))) | E7: =IF(D7="","",VALUE(LEFT(D7,FIND(":",D7)-1)))
C8: =IF(B8="","",VALUE(LEFT(B8,FIND(":",B8)-1))) | E8: =IF(D8="","",VALUE(LEFT(D8,FIND(":",D8)-1)))
C9: =IF(B9="","",VALUE(LEFT(B9,FIND(":",B9)-1))) | E9: =IF(D9="","",VALUE(LEFT(D9,FIND(":",D9)-1)))
C10: =IF(B10="","",VALUE(LEFT(B10,FIND(":",B10)-1))) | E10: =IF(D10="","",VALUE(LEFT(D10,FIND(":",D10)-1)))
C11: =IF(B11="","",VALUE(LEFT(B11,FIND(":",B11)-1))) | E11: =IF(D11="","",VALUE(LEFT(D11,FIND(":",D11)-1)))
C12: =IF(B12="","",VALUE(LEFT(B12,FIND(":",B12)-1))) | E12: =IF(D12="","",VALUE(LEFT(D12,FIND(":",D12)-1)))
C13: =IF(B13="","",VALUE(LEFT(B13,FIND(":",B13)-1))) | E13: =IF(D13="","",VALUE(LEFT(D13,FIND(":",D13)-1)))
C14: =IF(B14="","",VALUE(LEFT(B14,FIND(":",B14)-1))) | E14: =IF(D14="","",VALUE(LEFT(D14,FIND(":",D14)-1)))
... C1000: =IF(B1000="","",VALUE(LEFT(B1000,FIND(":",B1000)-1))) | E1000: =IF(D1000="","",VALUE(LEFT(D1000,FIND(":",D1000)-1)))

Sheet SubWater_L
A1: User_Code | B1: KIND_Display | C1: KIND | D1: HSUB_COMBI_Display | E1: HSUB_COMBI | F1: Notes
A2: SUBSURFACE_001 | C2: =IF(B2="","",VALUE(LEFT(B2,FIND(":",B2)-1))) | E2: =IF(D2="","",VALUE(LEFT(D2,FIND(":",D2)-1)))
C3: =IF(B3="","",VALUE(LEFT(B3,FIND(":",B3)-1))) | E3: =IF(D3="","",VALUE(LEFT(D3,FIND(":",D3)-1)))
C4: =IF(B4="","",VALUE(LEFT(B4,FIND(":",B4)-1))) | E4: =IF(D4="","",VALUE(LEFT(D4,FIND(":",D4)-1)))
C5: =IF(B5="","",VALUE(LEFT(B5,FIND(":",B5)-1))) | E5: =IF(D5="","",VALUE(LEFT(D5,FIND(":",D5)-1)))
C6: =IF(B6="","",VALUE(LEFT(B6,FIND(":",B6)-1))) | E6: =IF(D6="","",VALUE(LEFT(D6,FIND(":",D6)-1)))
C7: =IF(B7="","",VALUE(LEFT(B7,FIND(":",B7)-1))) | E7: =IF(D7="","",VALUE(LEFT(D7,FIND(":",D7)-1)))
C8: =IF(B8="","",VALUE(LEFT(B8,FIND(":",B8)-1))) | E8: =IF(D8="","",VALUE(LEFT(D8,FIND(":",D8)-1)))
C9: =IF(B9="","",VALUE(LEFT(B9,FIND(":",B9)-1))) | E9: =IF(D9="","",VALUE(LEFT(D9,FIND(":",D9)-1)))
C10: =IF(B10="","",VALUE(LEFT(B10,FIND(":",B10)-1))) | E10: =IF(D10="","",VALUE(LEFT(D10,FIND(":",D10)-1)))
C11: =IF(B11="","",VALUE(LEFT(B11,FIND(":",B11)-1))) | E11: =IF(D11="","",VALUE(LEFT(D11,FIND(":",D11)-1)))
C12: =IF(B12="","",VALUE(LEFT(B12,FIND(":",B12)-1))) | E12: =IF(D12="","",VALUE(LEFT(D12,FIND(":",D12)-1)))
C13: =IF(B13="","",VALUE(LEFT(B13,FIND(":",B13)-1))) | E13: =IF(D13="","",VALUE(LEFT(D13,FIND(":",D13)-1)))
C14: =IF(B14="","",VALUE(LEFT(B14,FIND(":",B14)-1))) | E14: =IF(D14="","",VALUE(LEFT(D14,FIND(":",D14)-1)))
... C1000: =IF(B1000="","",VALUE(LEFT(B1000,FIND(":",B1000)-1))) | E1000: =IF(D1000="","",VALUE(LEFT(D1000,FIND(":",D1000)-1)))

Sheet SurfWater_PT
A1: User_Code | B1: KIND_Display | C1: KIND | D1: HSUR_STATUS_Display | E1: HSUR_STATUS | F1: HSUR_FLOW_CON_Display | G1: HSUR_FLOW_CON | H1: HSUR_TYPE_Display | I1: HSUR_TYPE | J1: HSUR_DIS_LOCA_Display | K1: HSUR_DIS_LOCA | L1: HSUR_COMBI_Display | M1: HSUR_COMBI | N1: Notes
A2: SURFACEWAT_001 | C2: =IF(B2="","",VALUE(LEFT(B2,FIND(":",B2)-1))) | E2: =IF(D2="","",VALUE(LEFT(D2,FIND(":",D2)-1))) | G2: =IF(F2="","",VALUE(LEFT(F2,FIND(":",F2)-1))) | I2: =IF(H2="","",VALUE(LEFT(H2,FIND(":",H2)-1))) | K2: =IF(J2="","",VALUE(LEFT(J2,FIND(":",J2)-1))) | M2: =IF(L2="","",VALUE(LEFT(L2,FIND(":",L2)-1)))
C3: =IF(B3="","",VALUE(LEFT(B3,FIND(":",B3)-1))) | E3: =IF(D3="","",VALUE(LEFT(D3,FIND(":",D3)-1))) | G3: =IF(F3="","",VALUE(LEFT(F3,FIND(":",F3)-1))) | I3: =IF(H3="","",VALUE(LEFT(H3,FIND(":",H3)-1))) | K3: =IF(J3="","",VALUE(LEFT(J3,FIND(":",J3)-1))) | M3: =IF(L3="","",VALUE(LEFT(L3,FIND(":",L3)-1)))
C4: =IF(B4="","",VALUE(LEFT(B4,FIND(":",B4)-1))) | E4: =IF(D4="","",VALUE(LEFT(D4,FIND(":",D4)-1))) | G4: =IF(F4="","",VALUE(LEFT(F4,FIND(":",F4)-1))) | I4: =IF(H4="","",VALUE(LEFT(H4,FIND(":",H4)-1))) | K4: =IF(J4="","",VALUE(LEFT(J4,FIND(":",J4)-1))) | M4: =IF(L4="","",VALUE(LEFT(L4,FIND(":",L4)-1)))
C5: =IF(B5="","",VALUE(LEFT(B5,FIND(":",B5)-1))) | E5: =IF(D5="","",VALUE(LEFT(D5,FIND(":",D5)-1))) | G5: =IF(F5="","",VALUE(LEFT(F5,FIND(":",F5)-1))) | I5: =IF(H5="","",VALUE(LEFT(H5,FIND(":",H5)-1))) | K5: =IF(J5="","",VALUE(LEFT(J5,FIND(":",J5)-1))) | M5: =IF(L5="","",VALUE(LEFT(L5,FIND(":",L5)-1)))
C6: =IF(B6="","",VALUE(LEFT(B6,FIND(":",B6)-1))) | E6: =IF(D6="","",VALUE(LEFT(D6,FIND(":",D6)-1))) | G6: =IF(F6="","",VALUE(LEFT(F6,FIND(":",F6)-1))) | I6: =IF(H6="","",VALUE(LEFT(H6,FIND(":",H6)-1))) | K6: =IF(J6="","",VALUE(LEFT(J6,FIND(":",J6)-1))) | M6: =IF(L6="","",VALUE(LEFT(L6,FIND(":",L6)-1)))
C7: =IF(B7="","",VALUE(LEFT(B7,FIND(":",B7)-1))) | E7: =IF(D7="","",VALUE(LEFT(D7,FIND(":",D7)-1))) | G7: =IF(F7="","",VALUE(LEFT(F7,FIND(":",F7)-1))) | I7: =IF(H7="","",VALUE(LEFT(H7,FIND(":",H7)-1))) | K7: =IF(J7="","",VALUE(LEFT(J7,FIND(":",J7)-1))) | M7: =IF(L7="","",VALUE(LEFT(L7,FIND(":",L7)-1)))
C8: =IF(B8="","",VALUE(LEFT(B8,FIND(":",B8)-1))) | E8: =IF(D8="","",VALUE(LEFT(D8,FIND(":",D8)-1))) | G8: =IF(F8="","",VALUE(LEFT(F8,FIND(":",F8)-1))) | I8: =IF(H8="","",VALUE(LEFT(H8,FIND(":",H8)-1))) | K8: =IF(J8="","",VALUE(LEFT(J8,FIND(":",J8)-1))) | M8: =IF(L8="","",VALUE(LEFT(L8,FIND(":",L8)-1)))
C9: =IF(B9="","",VALUE(LEFT(B9,FIND(":",B9)-1))) | E9: =IF(D9="","",VALUE(LEFT(D9,FIND(":",D9)-1))) | G9: =IF(F9="","",VALUE(LEFT(F9,FIND(":",F9)-1))) | I9: =IF(H9="","",VALUE(LEFT(H9,FIND(":",H9)-1))) | K9: =IF(J9="","",VALUE(LEFT(J9,FIND(":",J9)-1))) | M9: =IF(L9="","",VALUE(LEFT(L9,FIND(":",L9)-1)))
C10: =IF(B10="","",VALUE(LEFT(B10,FIND(":",B10)-1))) | E10: =IF(D10="","",VALUE(LEFT(D10,FIND(":",D10)-1))) | G10: =IF(F10="","",VALUE(LEFT(F10,FIND(":",F10)-1))) | I10: =IF(H10="","",VALUE(LEFT(H10,FIND(":",H10)-1))) | K10: =IF(J10="","",VALUE(LEFT(J10,FIND(":",J10)-1))) | M10: =IF(L10="","",VALUE(LEFT(L10,FIND(":",L10)-1)))
C11: =IF(B11="","",VALUE(LEFT(B11,FIND(":",B11)-1))) | E11: =IF(D11="","",VALUE(LEFT(D11,FIND(":",D11)-1))) | G11: =IF(F11="","",VALUE(LEFT(F11,FIND(":",F11)-1))) | I11: =IF(H11="","",VALUE(LEFT(H11,FIND(":",H11)-1))) | K11: =IF(J11="","",VALUE(LEFT(J11,FIND(":",J11)-1))) | M11: =IF(L11="","",VALUE(LEFT(L11,FIND(":",L11)-1)))
C12: =IF(B12="","",VALUE(LEFT(B12,FIND(":",B12)-1))) | E12: =IF(D12="","",VALUE(LEFT(D12,FIND(":",D12)-1))) | G12: =IF(F12="","",VALUE(LEFT(F12,FIND(":",F12)-1))) | I12: =IF(H12="","",VALUE(LEFT(H12,FIND(":",H12)-1))) | K12: =IF(J12="","",VALUE(LEFT(J12,FIND(":",J12)-1))) | M12: =IF(L12="","",VALUE(LEFT(L12,FIND(":",L12)-1)))
C13: =IF(B13="","",VALUE(LEFT(B13,FIND(":",B13)-1))) | E13: =IF(D13="","",VALUE(LEFT(D13,FIND(":",D13)-1))) | G13: =IF(F13="","",VALUE(LEFT(F13,FIND(":",F13)-1))) | I13: =IF(H13="","",VALUE(LEFT(H13,FIND(":",H13)-1))) | K13: =IF(J13="","",VALUE(LEFT(J13,FIND(":",J13)-1))) | M13: =IF(L13="","",VALUE(LEFT(L13,FIND(":",L13)-1)))
C14: =IF(B14="","",VALUE(LEFT(B14,FIND(":",B14)-1))) | E14: =IF(D14="","",VALUE(LEFT(D14,FIND(":",D14)-1))) | G14: =IF(F14="","",VALUE(LEFT(F14,FIND(":",F14)-1))) | I14: =IF(H14="","",VALUE(LEFT(H14,FIND(":",H14)-1))) | K14: =IF(J14="","",VALUE(LEFT(J14,FIND(":",J14)-1))) | M14: =IF(L14="","",VALUE(LEFT(L14,FIND(":",L14)-1)))
... C1000: =IF(B1000="","",VALUE(LEFT(B1000,FIND(":",B1000)-1))) | E1000: =IF(D1000="","",VALUE(LEFT(D1000,FIND(":",D1000)-1))) | G1000: =IF(F1000="","",VALUE(LEFT(F1000,FIND(":",F1000)-1))) | I1000: =IF(H1000="","",VALUE(LEFT(H1000,FIND(":",H1000)-1))) | K1000: =IF(J1000="","",VALUE(LEFT(J1000,FIND(":",J1000)-1))) | M1000: =IF(L1000="","",VALUE(LEFT(L1000,FIND(":",L1000)-1)))

Sheet SurfWater_L
A1: User_Code | B1: KIND_Display | C1: KIND | D1: Notes
A2: SURFACEWAT_001 | C2: =IF(B2="","",VALUE(LEFT(B2,FIND(":",B2)-1)))
C3: =IF(B3="","",VALUE(LEFT(B3,FIND(":",B3)-1)))
C4: =IF(B4="","",VALUE(LEFT(B4,FIND(":",B4)-1)))
C5: =IF(B5="","",VALUE(LEFT(B5,FIND(":",B5)-1)))
C6: =IF(B6="","",VALUE(LEFT(B6,FIND(":",B6)-1)))
C7: =IF(B7="","",VALUE(LEFT(B7,FIND(":",B7)-1)))
C8: =IF(B8="","",VALUE(LEFT(B8,FIND(":",B8)-1)))
C9: =IF(B9="","",VALUE(LEFT(B9,FIND(":",B9)-1)))
C10: =IF(B10="","",VALUE(LEFT(B10,FIND(":",B10)-1)))
C11: =IF(B11="","",VALUE(LEFT(B11,FIND(":",B11)-1)))
C12: =IF(B12="","",VALUE(LEFT(B12,FIND(":",B12)-1)))
C13: =IF(B13="","",VALUE(LEFT(B13,FIND(":",B13)-1)))
C14: =IF(B14="","",VALUE(LEFT(B14,FIND(":",B14)-1)))
... C1000: =IF(B1000="","",VALUE(LEFT(B1000,FIND(":",B1000)-1)))

Sheet SurfWater_PLG
A1: User_Code | B1: KIND_Display | C1: KIND | D1: Notes
A2: SURFACEWAT_001 | C2: =IF(B2="","",VALUE(LEFT(B2,FIND(":",B2)-1)))
C3: =IF(B3="","",VALUE(LEFT(B3,FIND(":",B3)-1)))
C4: =IF(B4="","",VALUE(LEFT(B4,FIND(":",B4)-1)))
C5: =IF(B5="","",VALUE(LEFT(B5,FIND(":",B5)-1)))
C6: =IF(B6="","",VALUE(LEFT(B6,FIND(":",B6)-1)))
C7: =IF(B7="","",VALUE(LEFT(B7,FIND(":",B7)-1)))
C8: =IF(B8="","",VALUE(LEFT(B8,FIND(":",B8)-1)))
C9: =IF(B9="","",VALUE(LEFT(B9,FIND(":",B9)-1)))
C10: =IF(B10="","",VALUE(LEFT(B10,FIND(":",B10)-1)))
C11: =IF(B11="","",VALUE(LEFT(B11,FIND(":",B11)-1)))
C12: =IF(B12="","",VALUE(LEFT(B12,FIND(":",B12)-1)))
C13: =IF(B13="","",VALUE(LEFT(B13,FIND(":",B13)-1)))
C14: =IF(B14="","",VALUE(LEFT(B14,FIND(":",B14)-1)))
... C1000: =IF(B1000="","",VALUE(LEFT(B1000,FIND(":",B1000)-1)))

Sheet Ref_GeolMappingUnit
A1: Code | B1: Label | C1: Display
A2: 15201622 | B2: "Mittelterrasse" | C2: 15201622: "Mittelterrasse"
A3: 15201044 | B3: 1. letzteiszeitlischs Vorstoss | C3: 15201044: 1. letzteiszeitlischs Vorstoss
A4: 15201043 | B4: 2. letzteiszeitlischs Vorstoss | C4: 15201043: 2. letzteiszeitlischs Vorstoss
A5: 15201210 | B5: Aabach-Schotter | C5: 15201210: Aabach-Schotter
A6: 15202183 | B6: Aar-Massiv: Frühvariszische Intrusiva | C6: 15202183: Aar-Massiv: Frühvariszische Intrusiva
A7: 15202191 | B7: Aar-Massiv: Frühvariszische Sedimente | C7: 15202191: Aar-Massiv: Frühvariszische Sedimente
A8: 15202177 | B8: Aar-Massiv: Mittelvariszische Intrusiva | C8: 15202177: Aar-Massiv: Mittelvariszische Intrusiva
A9: 15202194 | B9: Aar-Massiv: Prävariszisches polyzyklisches Grundgebirge | C9: 15202194: Aar-Massiv: Prävariszisches polyzyklisches Grundgebirge
A10: 15202157 | B10: Aar-Massiv: Spät- bis postvariszische Intrusiva | C10: 15202157: Aar-Massiv: Spät- bis postvariszische Intrusiva
A11: 15202164 | B11: Aar-Massiv: Spät- bis postvariszische Sedimente und Vulkanite | C11: 15202164: Aar-Massiv: Spät- bis postvariszische Sedimente und Vulkanite
A12: 15201055 | B12: Aarau-Schotter | C12: 15201055: Aarau-Schotter
A13: 15201682 | B13: Aarberg-Schotter | C13: 15201682: Aarberg-Schotter
... A3296: 15202152 | B3296: Üblital-Fm. | C3296: 15202152: Üblital-Fm.

Sheet Ref_Litho
A1: Code | B1: Label | C1: Display
A2: 15101039 | B2: Alluvion, undifferenziert | C2: 15101039: Alluvion, undifferenziert
A3: 15111630 | B3: Amphibolit | C3: 15111630: Amphibolit
A4: 15111632 | B4: Amphibolit: Granat | C4: 15111632: Amphibolit: Granat
A5: 15111633 | B5: Amphibolit: Hornblende | C5: 15111633: Amphibolit: Hornblende
A6: 15111631 | B6: Amphibolit: gebändert | C6: 15111631: Amphibolit: gebändert
A7: 15111634 | B7: Amphibolit: migmatitisch | C7: 15111634: Amphibolit: migmatitisch
A8: 15111365 | B8: Andesit | C8: 15111365: Andesit
A9: 15111384 | B9: Aplit | C9: 15111384: Aplit
A10: 15101071 | B10: Auffüllung | C10: 15101071: Auffüllung
A11: 15101070 | B11: Aufschüttung, Damm | C11: 15101070: Aufschüttung, Damm
A12: 15101041 | B12: Bachschutt | C12: 15101041: Bachschutt
A13: 15111368 | B13: Basalt | C13: 15111368: Basalt
... A723: 15101061 | B723: äolisches Sediment, undifferenziert | C723: 15101061: äolisches Sediment, undifferenziert

Sheet Ref_Chrono
A1: Code | B1: Label | C1: Display
A2: 15001074 | B2: Aalénien | C2: 15001074: Aalénien
A3: 15001059 | B3: Albien | C3: 15001059: Albien
A4: 15001087 | B4: Anisien | C4: 15001087: Anisien
A5: 15001060 | B5: Aptien | C5: 15001060: Aptien
A6: 15001028 | B6: Aquitanien | C6: 15001028: Aquitanien
A7: 15001153 | B7: Archaikum | C7: 15001153: Archaikum
A8: 15001113 | B8: Artinskien | C8: 15001113: Artinskien
A9: 15001117 | B9: Asselien | C9: 15001117: Asselien
A10: 15001073 | B10: Bajocien | C10: 15001073: Bajocien
A11: 15001061 | B11: Barrémien | C11: 15001061: Barrémien
A12: 15001041 | B12: Bartonien | C12: 15001041: Bartonien
A13: 15001140 | B13: Bashkirien | C13: 15001140: Bashkirien
... A143: 15001038 | B143: spätes Priabonien | C143: 15001038: spätes Priabonien

Sheet Ref_Tecto
A1: Code | B1: Label | C1: Display
A2: 15309061 | B2: Aar-Massiv | C2: 15309061: Aar-Massiv
A3: 15309008 | B3: Abgeschertes Nordalpines Vorland | C3: 15309008: Abgeschertes Nordalpines Vorland
A4: 15309394 | B4: Adamello-Batholith | C4: 15309394: Adamello-Batholith
A5: 15309191 | B5: Adula-Decke | C5: 15309191: Adula-Decke
A6: 15309057 | B6: Aiguilles-Rouges-Massiv | C6: 15309057: Aiguilles-Rouges-Massiv
A7: 15309357 | B7: Allgäu-Decke | C7: 15309357: Allgäu-Decke
A8: 15309408 | B8: Alphubelgletscher-Schuppe | C8: 15309408: Alphubelgletscher-Schuppe
A9: 15309175 | B9: Antigorio-Decke | C9: 15309175: Antigorio-Decke
A10: 15309174 | B10: Antigorio-Deckenkomplex | C10: 15309174: Antigorio-Deckenkomplex
A11: 15309272 | B11: Antrona-Decke | C11: 15309272: Antrona-Decke
A12: 15309161 | B12: Anzeinde-type slivers | C12: 15309161: Anzeinde-type slivers
A13: 15309078 | B13: Ardon-Decke | C13: 15309078: Ardon-Decke
... A420: 15309207 | B420: Üntschen-Decke | C420: 15309207: Üntschen-Decke

Sheet Ref_LithoStratFormation
A1: Code | B1: Label | C1: Display
A2: 15252008 | B2: Aargauer Juranagelfluh | C2: 15252008: Aargauer Juranagelfluh
A3: 15252061 | B3: Abtwil-Konglomerat | C3: 15252061: Abtwil-Konglomerat
A4: 15251205 | B4: Achdorf-Formation | C4: 15251205: Achdorf-Formation
A5: 15255242 | B5: Adlerflüe-Formation | C5: 15255242: Adlerflüe-Formation
A6: 15252052 | B6: Aeugstertal-Bentonit | C6: 15252052: Aeugstertal-Bentonit
A7: 15257014 | B7: Agnelli-Formation | C7: 15257014: Agnelli-Formation
A8: 15255160 | B8: Agreblierai-Member | C8: 15255160: Agreblierai-Member
A9: 15255220 | B9: Ahorn-Augengneiss | C9: 15255220: Ahorn-Augengneiss
A10: 15253015 | B10: Ahornen-Member | C10: 15253015: Ahornen-Member
A11: 15255008 | B11: Aigremont-Brekzie | C11: 15255008: Aigremont-Brekzie
A12: 15255321 | B12: Aiguilles-Rouges-d'Arolla-Metagabbro | C12: 15255321: Aiguilles-Rouges-d'Arolla-Metagabbro
A13: 15252145 | B13: Ajoie-Gompholit | C13: 15252145: Ajoie-Gompholit
... A1554: 15253307 | B1554: Üblital-Formation | C1554: 15253307: Üblital-Formation

Sheet Ref_LithoStratUnco
A1: Code | B1: Label | C1: Display
A2: 15201622 | B2: "Mittelterrasse" | C2: 15201622: "Mittelterrasse"
A3: 15201044 | B3: 1. letzteiszeitlischs Vorstoss | C3: 15201044: 1. letzteiszeitlischs Vorstoss
A4: 15201043 | B4: 2. letzteiszeitlischs Vorstoss | C4: 15201043: 2. letzteiszeitlischs Vorstoss
A5: 15201210 | B5: Aabach-Schotter | C5: 15201210: Aabach-Schotter
A6: 15201055 | B6: Aarau-Schotter | C6: 15201055: Aarau-Schotter
A7: 15201682 | B7: Aarberg-Schotter | C7: 15201682: Aarberg-Schotter
A8: 15201167 | B8: Aarburg-Schotter | C8: 15201167: Aarburg-Schotter
A9: 15201136 | B9: Aare-Schotter | C9: 15201136: Aare-Schotter
A10: 15201271 | B10: Aatal-Seebodenlehm | C10: 15201271: Aatal-Seebodenlehm
A11: 15201075 | B11: Aathal-Schotter | C11: 15201075: Aathal-Schotter
A12: 15201703 | B12: Acheberg-Schotter | C12: 15201703: Acheberg-Schotter
A13: 15201652 | B13: Allmendwald-Schotter | C13: 15201652: Allmendwald-Schotter
... A599: 15201487 | B599: Öflingen-Schotter | C599: 15201487: Öflingen-Schotter

Sheet Ref_System
A1: Code | B1: Label | C1: Display
A2: 12903005 | B2: Algen | C2: 12903005: Algen
A3: 12903009 | B3: Ammoniten | C3: 12903009: Ammoniten
A4: 12903015 | B4: Bivalven | C4: 12903015: Bivalven
A5: 12903006 | B5: Blätter | C5: 12903006: Blätter
A6: 12903012 | B6: Brachiopoden | C6: 12903012: Brachiopoden
A7: 12903014 | B7: Cephalopoden | C7: 12903014: Cephalopoden
A8: 12903016 | B8: Echinodermen | C8: 12903016: Echinodermen
A9: 12903017 | B9: Fische | C9: 12903017: Fische
A10: 12903004 | B10: Foraminiferen | C10: 12903004: Foraminiferen
A11: 12903003 | B11: Gastropoden | C11: 12903003: Gastropoden
A12: 12903007 | B12: Gräser | C12: 12903007: Gräser
A13: 12903008 | B13: Holz | C13: 12903008: Holz
... A21: 12903001 | B21: Vertebraten | C21: 12903001: Vertebraten

Sheet Ref_GMU_Attributes
A1: GEOL_MAPPING_UNIT | B1: LITSTRAT_FORMATION_BANK | C1: CHRONO_TOP | D1: CHRONO_BASE | E1: LITHO_MAIN | F1: LITHO_SEC | G1: LITHO_TER
A2: 15200528 | B2: 15252168 | C2: 15001032 | D2: 15001032 | E2: 15111028 | F2: 15111044 | G2: 15111102
A3: 15200529 | B3: 15252169 | C3: 15001028 | D3: 15001032 | E3: 15111158 | F3: 15111028
A4: 15200530 | B4: 15252170 | C4: 15001028 | D4: 15001032 | E4: 15111028
A5: 15200531 | B5: 15252173 | C5: 15001031 | D5: 15001031 | E5: 15111028 | F5: 15111044 | G5: 15111132
A6: 15200532 | B6: 15252174 | C6: 15001031 | D6: 15001031 | E6: 15111037 | F6: 15111044 | G6: 15111090
A7: 15200533 | B7: 15252176 | C7: 15001033 | D7: 15001033 | E7: 15111028 | F7: 15111044 | G7: 15111132
A8: 15200534 | B8: 15252177 | C8: 15001033 | D8: 15001033 | E8: 15111044 | F8: 15111090 | G8: 15111037
A9: 15200535 | B9: 15252178 | C9: 15001033 | D9: 15001033 | E9: 15111028 | F9: 15111090
A10: 15200536 | B10: 15252119 | C10: 15001031 | D10: 15001031 | E10: 15111059 | F10: 15111158
A11: 15200537 | B11: 15252160 | C11: 15001028 | D11: 15001032 | E11: 15111132 | F11: 15111053 | G11: 15111111
A12: 15200538 | B12: 15252197 | C12: 15001031 | D12: 15001034 | E12: 15111030
A13: 15200539 | B13: 15252194 | C13: 15001031 | D13: 15001031 | E13: 15111132 | F13: 15111056 | G13: 15111028
A14: 15200540 | B14: 15252195 | C14: 15001031 | D14: 15001034 | E14: 15111132 | F14: 15111070 | G14: 15111056
A15: 15200541 | B15: 15252196 | C15: 15001031 | D15: 15001034 | E15: 15111056
A16: 15200542 | B16: 15252187 | C16: 15001031 | D16: 15001031 | E16: 15111032 | F16: 15111044
A17: 15200543 | B17: 15252189 | C17: 15001033 | D17: 15001034 | E17: 15111032 | F17: 15111044 | G17: 15111132
A18: 15200544 | B18: 15252190 | C18: 15001033 | D18: 15001034 | E18: 15111030
A19: 15200545 | B19: 15252122 | C19: 15001032 | D19: 15001034 | E19: 15111158 | F19: 15111053 | G19: 15111030
A20: 15200546 | B20: 15252123 | C20: 15001032 | D20: 15001032 | E20: 15111044
A21: 15200547 | B21: 15252124 | C21: 15001033 | D21: 15001033 | E21: 15111044 | F21: 15111030
A22: 15200548 | B22: 15252156 | C22: 15001031 | D22: 15001031 | E22: 15111172 | F22: 15111070
A23: 15200549 | B23: 15252121 | C23: 15001031 | D23: 15001031 | E23: 15111565 | F23: 15111044
A24: 15200550 | B24: 15252191 | C24: 15001031 | D24: 15001031 | E24: 15111132 | F24: 15111059 | G24: 15111030
A25: 15200551 | B25: 15252118 | C25: 15001028 | D25: 15001032 | E25: 15111179 | F25: 15111170
A26: 15200552 | B26: 15252117 | C26: 15001032 | D26: 15001032 | E26: 15111186 | F26: 15111277
A27: 15200553 | B27: 15252146 | C27: 15001034 | D27: 15001034 | E27: 15111189
A28: 15200554 | B28: 15252155 | C28: 15001034 | D28: 15001034 | E28: 15111059 | F28: 15111132
A29: 15200555 | B29: 15252166 | C29: 15001034 | D29: 15001034 | E29: 15111028
A30: 15200556 | B30: 15252167 | C30: 15001034 | D30: 15001034 | E30: 15111028
A31: 15200557 | B31: 15252082 | C31: 15001025 | D31: 15001025 | E31: 15111133
A32: 15200558 | B32: 15252213 | C32: 15001028 | D32: 15001028 | E32: 15111053 | F32: 15111132
A33: 15200560 | B33: 15252119 | C33: 15001032 | D33: 15001032 | E33: 15111170 | F33: 15111044
A34: 15200562 | B34: 15252019 | C34: 15001023 | D34: 15001025 | E34: 15111028
A35: 15200563 | B35: 15252020 | C35: 15001025 | D35: 15001025 | E35: 15111186
A36: 15200564 | B36: 15252070 | C36: 15001025 | D36: 15001025 | E36: 15111044
A37: 15200565 | B37: 15252017 | C37: 15001020 | D37: 15001023 | E37: 15111133 | F37: 15111102
A38: 15200566 | B38: 15252064 | C38: 15001023 | D38: 15001026 | E38: 15111132 | F38: 15111044
A39: 15200567 | B39: 0 | C39: 15001025 | D39: 15001025 | E39: 15111044 | F39: 15111132 | G39: 15111028
A40: 15200568 | B40: 15252099 | C40: 15001025 | D40: 15001025 | E40: 15111061 | F40: 15111031
A41: 15200569 | B41: 0 | C41: 15001025 | D41: 15001025 | E41: 15111248
A42: 15200570 | B42: 15252098 | C42: 15001025 | D42: 15001025 | E42: 15111248
A43: 15200571 | B43: 15252100 | C43: 15001025 | D43: 15001025 | E43: 15111068
A44: 15200572 | B44: 15252018 | C44: 15001014 | D44: 15001017 | E44: 15111010
A45: 15200573 | B45: 0 | C45: 15001069 | D45: 15001069 | E45: 15111186 | F45: 15111132
A46: 15200574 | B46: 15251115 | C46: 15001071 | D46: 15001071 | E46: 15111106
A47: 15200575 | B47: 15251228 | C47: 15001076 | D47: 15001076 | E47: 15111132 | F47: 15111221
A48: 15200576 | B48: 15251229 | C48: 15001076 | D48: 15001076 | E48: 15111135 | F48: 15111186
A49: 15200577 | B49: 15251230 | C49: 15001077 | D49: 15001077 | E49: 15111115 | F49: 15111142
A50: 15200578 | B50: 15251231 | C50: 15001077 | D50: 15001077 | E50: 15111132 | F50: 15111221
A51: 15200579 | B51: 15251232 | C51: 15001078 | D51: 15001078 | E51: 15111115
A52: 15200580 | B52: 15251233 | C52: 15001078 | D52: 15001078 | E52: 15111196 | F52: 15111132
A53: 15200581 | B53: 15251234 | C53: 15001079 | D53: 15001079 | E53: 15111102 | F53: 15111135
A54: 15200582 | B54: 15251235 | C54: 15001079 | D54: 15001079 | E54: 15111102 | F54: 15111186
A55: 15200584 | B55: 15251075 | C55: 15001068 | D55: 15001068 | E55: 15111196
A56: 15200585 | B56: 15252147 | C56: 15001034 | D56: 15001034 | E56: 15111053 | F56: 15111037
A57: 15200586 | B57: 15252148 | C57: 15001034 | D57: 15001034 | E57: 15111141
A58: 15200588 | B58: 15252138 | C58: 15001034 | D58: 15001034 | E58: 15111030 | F58: 15111044
A59: 15200589 | B59: 0 | C59: 15001023 | D59: 15001025 | E59: 15111028 | F59: 15111132
A60: 15200590 | B60: 15252044 | C60: 15001022 | D60: 15001022 | E60: 15111032
A61: 15200591 | B61: 15251038 | C61: 15001062 | D61: 15001062 | E61: 15111262 | F61: 15111240
A62: 15200592 | B62: 15251040 | C62: 15001062 | D62: 15001062 | E62: 15111262 | F62: 15111132
A63: 15200593 | B63: 15251051 | C63: 15001063 | D63: 15001063 | E63: 15111231
A64: 15200594 | B64: 15251051 | C64: 15001063 | D64: 15001064 | E64: 15111231
A65: 15200596 | B65: 0 | C65: 15001030 | D65: 15001035 | E65: 15111044 | F65: 15111102
A66: 15200597 | B66: 0 | C66: 15001037 | D66: 15001047 | E66: 15111196 | F66: 15111044 | G66: 15111132
A67: 15200598 | B67: 0 | C67: 15001037 | D67: 15001042 | E67: 15111132 | F67: 15111044
A68: 15200599 | B68: 0 | C68: 15001034 | D68: 15001047 | E68: 15111196 | F68: 15111044 | G68: 15111132
A69: 15200602 | B69: 0 | C69: 15001041 | D69: 15001042 | E69: 15111323
A70: 15200607 | B70: 0 | C70: 15001067 | D70: 15001068 | E70: 15111229 | F70: 15111132
A71: 15200608 | B71: 0 | C71: 15001069 | D71: 15001069 | E71: 15111132 | F71: 15111186 | G71: 15111102
A72: 15200616 | B72: 0 | C72: 15001091 | D72: 15001136 | E72: 15111468 | F72: 15111389
A73: 15200617 | B73: 0 | C73: 15001091 | D73: 15001136 | E73: 15111389
A74: 15200618 | B74: 15252120 | C74: 15001033 | D74: 15001033 | E74: 15111186
A75: 15200619 | B75: 15252101 | C75: 15001025 | D75: 15001025 | E75: 15111132 | F75: 15111319
A76: 15200620 | B76: 15252125 | C76: 15001033 | D76: 15001033 | E76: 15111047
A77: 15200621 | B77: 15252021 | C77: 15001023 | D77: 15001025 | E77: 15111039 | F77: 15111051
A78: 15200622 | B78: 15252021 | C78: 15001023 | D78: 15001025 | E78: 15111051 | F78: 15111132
A79: 15200623 | B79: 15252013 | C79: 15001022 | D79: 15001023 | E79: 15111215 | F79: 15111155 | G79: 15111102
A80: 15200624 | B80: 15252014 | C80: 15001022 | D80: 15001023 | E80: 15111215 | F80: 15111155
A81: 15200625 | B81: 15252015 | C81: 15001022 | D81: 15001023 | E81: 15111215
A82: 15200626 | B82: 15252080 | C82: 15001022 | D82: 15001023 | E82: 15111132 | F82: 15111030
A83: 15200627 | B83: 15252080 | C83: 15001022 | D83: 15001023 | E83: 15111132
A84: 15200628 | B84: 15252088 | C84: 15001025 | D84: 15001025 | E84: 15111044
A85: 15200629 | B85: 15252134 | C85: 15001033 | D85: 15001033 | E85: 15111196
A86: 15200630 | B86: 15251007 | C86: 15001034 | D86: 15001037 | E86: 15111186
A87: 15200631 | B87: 15252022 | C87: 15001023 | D87: 15001025 | E87: 15111343
A88: 15200632 | B88: 15252025 | C88: 15001023 | D88: 15001023 | E88: 15111186
A89: 15200633 | B89: 15252026 | C89: 15001023 | D89: 15001023 | E89: 15111186
A90: 15200634 | B90: 15252027 | C90: 15001023 | D90: 15001023 | E90: 15111186
A91: 15200635 | B91: 15252028 | C91: 15001023 | D91: 15001023 | E91: 15111186
A92: 15200636 | B92: 15252029 | C92: 15001023 | D92: 15001023 | E92: 15111186
A93: 15200637 | B93: 15252180 | C93: 15001028 | D93: 15001031 | E93: 15111030 | F93: 15111044 | G93: 15111132
A94: 15200638 | B94: 15252181 | C94: 15001031 | D94: 15001031 | E94: 15111037 | F94: 15111044 | G94: 15111152
A95: 15200639 | B95: 15252161 | C95: 15001028 | D95: 15001028 | E95: 15111044 | F95: 15111132 | G95: 15111037
A96: 15200640 | B96: 15251001 | C96: 15001034 | D96: 15001037 | E96: 15111170 | F96: 15111322
A97: 15200641 | B97: 15251284 | C97: 15001093 | D97: 15001119 | E97: 15111352
A98: 15200642 | B98: 15251285 | C98: 15001093 | D98: 15001119 | E98: 15111391
A99: 15200643 | B99: 15251286 | C99: 15001093 | D99: 15001119 | E99: 15111391
A100: 15200645 | B100: 0 | C100: 15001031 | D100: 15001034 | E100: 15111032
...
